Workbook

Sheet Вес - техничка
B1: Диаметры | C1: SDR 33 | D1: SDR 26 | E1: SDR 21 | F1: SDR 17,6 | G1: SDR 17 | H1: SDR 13,6 | I1: SDR 11 | J1: SDR 9 | K1: SDR 7,4
C2: ПЭ100 PN 5 | D2: ПЭ100 PN 6,3 | E2: ПЭ100 PN 8 | F2: ПЭ100 PN 9,5 | G2: ПЭ100 PN 10 | H2: ПЭ100 PN 12,5 | I2: ПЭ100 PN 16 | J2: ПЭ100 PN 20 | K2: ПЭ100 PN 25
C3: Вес 1 м, кг | D3: Вес 1 м, кг | E3: Вес 1 м, кг | F3: Вес 1 м, кг | G3: Вес 1 м, кг | H3: Вес 1 м, кг | I3: Вес 1 м, кг | J3: Вес 1 м, кг | K3: Вес 1 м, кг
B4: 25 | H4: 0.148 | I4: 0.169 | J4: 0.198 | K4: 0.24
B5: 32 | G5: 0.193 | H5: 0.229 | I5: 0.277 | J5: 0.325 | K5: 0.385
B6: 40 | E6: 0.244 | F6: 0.281 | G6: 0.292 | H6: 0.353 | I6: 0.427 | J6: 0.507 | K6: 0.6
B7: 50 | D7: 0.308 | E7: 0.369 | F7: 0.436 | G7: 0.449 | H7: 0.545 | I7: 0.663 | J7: 0.786 | K7: 0.935
B8: 63 | C8: 0.392 | D8: 0.488 | E8: 0.573 | F8: 0.682 | G8: 0.715 | H8: 0.869 | I8: 1.05 | J8: 1.25 | K8: 1.47
B9: 75 | C9: 0.543 | D9: 0.668 | E9: 0.821 | F9: 0.97 | G9: 1.01 | H9: 1.23 | I9: 1.46 | J9: 1.76 | K9: 2.09
B10: 90 | C10: 0.782 | D10: 0.969 | E10: 1.18 | F10: 1.4 | G10: 1.45 | H10: 1.76 | I10: 2.12 | J10: 2.54 | K10: 3
B11: 110 | C11: 1.16 | D11: 1.42 | E11: 1.77 | F11: 2.07 | G11: 2.16 | H11: 2.61 | I11: 3.14 | J11: 3.78 | K11: 4.49
B12: 125 | C12: 1.5 | D12: 1.83 | E12: 2.26 | F12: 2.66 | G12: 2.75 | H12: 3.37 | I12: 4.08 | J12: 4.87 | K12: 5.78
B13: 140 | C13: 1.87 | D13: 2.31 | E13: 2.83 | F13: 3.35 | G13: 3.46 | H13: 4.22 | I13: 5.08 | J13: 6.12 | K13: 7.27
B14: 160 | C14: 2.41 | D14: 3.03 | E14: 3.71 | F14: 4.35 | G14: 4.51 | H14: 5.5 | I14: 6.67 | J14: 7.97 | K14: 9.46
B15: 180 | C15: 3.05 | D15: 3.78 | E15: 4.66 | F15: 5.47 | G15: 5.71 | H15: 6.98 | I15: 8.43 | J15: 10.1 | K15: 12
B16: 200 | C16: 3.82 | D16: 4.68 | E16: 5.77 | F16: 6.78 | G16: 7.04 | H16: 8.56 | I16: 10.4 | J16: 12.5 | K16: 14.8
B17: 225 | C17: 4.76 | D17: 5.88 | E17: 7.29 | F17: 8.55 | G17: 8.94 | H17: 10.9 | I17: 13.2 | J17: 15.8 | K17: 18.7
B18: 250 | C18: 5.9 | D18: 7.29 | E18: 8.92 | F18: 10.6 | G18: 11 | H18: 13.4 | I18: 16.2 | J18: 19.4 | K18: 23.1
B19: 280 | C19: 7.38 | D19: 9.09 | E19: 11.3 | F19: 13.2 | G19: 13.8 | H19: 16.8 | I19: 20.3 | J19: 24.4 | K19: 28.9
... B24: 500 | C24: 23.4 | D24: 29 | E24: 35.8 | F24: 42 | G24: 43.9 | H24: 53.5 | I24: 64.7 | J24: 77.5 | K24: 92.1
B25: 560 | C25: 29.4 | D25: 36.3 | E25: 44.8 | F25: 52.6 | G25: 55 | H25: 67.1 | I25: 81 | J25: 97.3
B26: 630 | C26: 37.1 | D26: 46 | E26: 56.5 | F26: 66.6 | G26: 69.6 | H26: 84.8 | I26: 103 | J26: 123
B27: 710 | C27: 47.3 | D27: 58.5 | E27: 72.1 | F27: 84.7 | G27: 88.4 | H27: 108 | I27: 131
B28: 800 | C28: 59.9 | D28: 74.1 | E28: 91.4 | F28: 108 | G28: 112 | H28: 137 | I28: 169
B29: 900 | C29: 75.9 | D29: 93.8 | E29: 116 | F29: 136 | G29: 142 | H29: 173
B30: 1000 | C30: 93.5 | D30: 116 | E30: 143 | F30: 268 | G30: 175 | H30: 214
B31: 1200 | C31: 134 | D31: 167 | E31: 206 | F31: 242 | G31: 252

Sheet КГ НА М
C1: SDR
A2: 25 | B2: 41 | C2: -
A3: 32 | B3: 41 | C3: -
A4: 40 | B4: 41 | C4: -
A5: 50 | B5: 41 | C5: -
A6: 63 | B6: 41 | C6: -
A7: 75 | B7: 41 | C7: 0.469
A8: 90 | B8: 41 | C8: 0.63
A9: 110 | B9: 41 | C9: 0.93
A10: 125 | B10: 41 | C10: 1.22
A11: 140 | B11: 41 | C11: 1.53
A12: 160 | B12: 41 | C12: 1.98
A13: 180 | B13: 41 | C13: 2.47
A14: 200 | B14: 41 | C14: 3.03
A15: 225 | B15: 41 | C15: 3.84
A16: 250 | B16: 41 | C16: 4.81
A17: 280 | B17: 41 | C17: 5.96
A18: 315 | B18: 41 | C18: 7.49
... A31: 1600 | B31: 41 | C31: 193
A32: 25 | B32: 33 | C32: -
A33: 32 | B33: 33 | C33: -
A34: 40 | B34: 33 | C34: -
A35: 50 | B35: 33 | C35: -
A36: 63 | B36: 33 | C36: 0.392
A37: 75 | B37: 33 | C37: 0.543
A38: 90 | B38: 33 | C38: 0.782
A39: 110 | B39: 33 | C39: 1.16
A40: 125 | B40: 33 | C40: 1.5
A41: 140 | B41: 33 | C41: 1.87
A42: 160 | B42: 33 | C42: 2.41
A43: 180 | B43: 33 | C43: 3.05
A44: 200 | B44: 33 | C44: 3.82
A45: 225 | B45: 33 | C45: 4.76
A46: 250 | B46: 33 | C46: 5.9
A47: 280 | B47: 33 | C47: 7.38
... A61: 1600 | B61: 33 | C61: 239
A62: 25 | B62: 26 | C62: -
A63: 32 | B63: 26 | C63: -
A64: 40 | B64: 26 | C64: -
A65: 50 | B65: 26 | C65: 0.308
...

Sheet Вместимость
B1: Вместимость по количеству | C1: Вместимость по метржу
A2: 63 | B2: 1444 | C2: 17328 | D2: 1 | E2: =D2/B2 -> 0.00069252078
A3: 90 | B3: 676 | C3: 8112 | D3: 1 | E3: =D3/B3 -> 0.0014792899
A4: 110 | B4: 450 | C4: 5400 | D4: 1 | E4: =D4/B4 -> 0.0022222222
A5: 160 | B5: 220 | C5: 2640 | D5: 1 | E5: =D5/B5 -> 0.0045454545
A6: 200 | B6: 123 | C6: 1476 | D6: 1 | E6: =D6/B6 -> 0.0081300813
A7: 225 | B7: 110 | C7: 1320 | D7: 1 | E7: =D7/B7 -> 0.0090909091
A8: 250 | B8: 90 | C8: 1080 | D8: 1 | E8: =D8/B8 -> 0.011111111
A9: 280 | B9: 72 | C9: 864 | D9: 1 | E9: =D9/B9 -> 0.013888889
A10: 315 | B10: 56 | C10: 672 | D10: 1 | E10: =D10/B10 -> 0.017857143
A11: 355 | B11: 42 | C11: 504 | D11: 1 | E11: =D11/B11 -> 0.023809524
A12: 400 | B12: 33 | C12: 396 | D12: 1 | E12: =D12/B12 -> 0.03030303
A13: 450 | B13: 26 | C13: 312 | D13: 1 | E13: =D13/B13 -> 0.038461538
... A23: 1600 | B23: 1 | C23: 12 | D23: 1 | E23: =D23/B23 -> 1

Sheet Прайс  ATLANT
C2: СТЫКОВЫЕ СВАРОЧНЫЕ АППАРАТЫ ATLANT
C3: 8 (843) 204-11-98 zapros@atlant-tat.com www.atlant-tat.com
B4: ФОТО | C4: ДИАМЕТР СВАРКИ | D4: ОПИСАНИЕ АППАРАТОВ | E4: ЦЕНА ПРАЙС, руб. с НДС
B5: ATLANT A 160 Z
C6: 40-160 мм | D6: Аппарат с двумя хомутами и механическим приводом для сварки труб диаметром от 40 до 160 мм. В комплекте: позиционер с механическим приводом; нагревательный элемент с электронным поддержанием и регулятором температуры; торцеватель с электроприводом; контейнер для хранения нагревательного элемента и торцевателя; инструментальный ящик; алюминиевые вкладыши: d 40, 50, 63, 75, 90, 110, 125, 140 мм и ЗИП. | E6: 90000
B7: ATLANT A 160
C8: 40-160 мм | D8: Аппарат с механическим приводом для сварки труб диаметром от 40 до 160 мм. В комплекте: позиционер с механическим приводом; нагревательный элемент с электронным поддержанием и регулятором температуры; торцеватель с электроприводом; контейнер для хранения нагревательного элемента и торцевателя; инструментальный ящик; алюминиевые вкладыши: d 40, 50, 63, 75, 90, 110, 125, 140 мм и ЗИП. | E8: 138000
B9: ATLANT A 160 G
C10: 40-160 мм | D10: Аппарат с гидравлическим приводом для сварки труб диаметром от 40 до 160 мм. В комплекте: позиционер с гидравлическим приводом; нагревательный элемент с электронным поддержанием и регулятором температуры; торцеватель с электроприводом; гидроагрегат с блоком управления; гидравлические шланги – 2 шт.; контейнер для хранения нагревательного элемента и торцевателя; ящик с инструментами; документация; съемные алюминиевые вкладыши: d 40, 50, 63, 75, 90, 110, 125, 140 мм и ЗИП. | E10: 216000
B11: ATLANT A 250
C12: 63-250 мм | D12: Аппарат ATLANT A 250 с механическим приводом для сварки труб диаметром от 63 до 250 мм. В комплекте: позиционер с механическим приводом; нагревательный элемент с электронным поддержанием и регулятором температуры; торцеватель с электроприводом; контейнер для хранения нагревательного элемента и торцевателя; инструментальный ящик; съемные алюминиевые вкладыши: d 63, 75, 90, 110, 125, 140, 160, 180, 200, 225 мм и ЗИП; | E12: 210000
B13: ATLANT A 250 G
C14: 63-250 мм | D14: Аппарат с гидравлическим приводом для стыковой сварки труб диаметром 63-250 мм. В комплекте: позиционер с гидравлическим приводом; нагревательный элемент с электронным поддержанием и регулятором температуры; торцеватель с электроприводом; гидроагрегат с блоком управления; гидравлические шланги – 2 шт.; контейнер для хранения нагревательного элемента и торцевателя; ящик с инструментами; документация; съемные алюминиевые вкладыши: d 63, 75, 90, 110, 125, 140, 160, 180, 200, 225 мм и ЗИП. | E14: 420000
B15: ATLANT 315
C16: 63 - 315 мм | D16: Аппарат с гидравлическим приводом для сварки труб номинальным диаметром от 75 до 315 мм. В комплекте: позиционер с гидравлическим приводом; нагревательный элемент с электронным поддержанием и регулятором температуры; торцеватель с электроприводом; гидроагрегат с блоком управления; гидравлические шланги – 2 шт.; контейнер для хранения нагревательного элемента и торцевателя; ящик с инструментами; документация; съемные алюминиевые вкладыши: d 75, 90, 110, 125, 140, 160, 180, 200, 225, 250, 280 мм и ЗИП. | E16: 528000
B17: ATLANT 500
C18: 160- 500 мм | D18: Для стыковой сварки труб 160-500 мм. В комплекте: позиционер с гидравлическим приводом; нагревательный элемент с электронным поддержанием и регулятором температуры; торцеватель с электроприводом; гидроагрегат с блоком управления; гидравлические шланги – 2 шт.; контейнер для хранения нагревательного элемента и торцевателя; ящик с инструментами; документация; съемные алюминиевые вкладыши: d 160, 180, 200, 225, 250, 280, 315, 355, 400, 450 мм и ЗИП. | E18: 792000
B19: ATLANT A 630
C20: 315-630 мм | D20: Для стыковой сварки труб 315-630 мм. В комплекте: позиционер с гидравлическим приводом; нагревательный элемент с электронным поддержанием и регулятором температуры; торцеватель с электроприводом; гидроагрегат с блоком управления, гидравлические шланги – 2 шт.; контейнер для хранения нагревательного элемента и торцевателя; ящик с инструментами; документация; съемные алюминиевые вкладыши: d 315, 355, 400, 450, 500, 560 мм и ЗИП. | E20: 954000
B21: ATLANT A 800
C22: 400 - 800 мм | D22: Для стыковой сварки труб 400-800 мм. В комплекте: позиционер с гидравлическим приводом; нагревательный элемент с электронным поддержанием и регулятором температуры; торцеватель с электроприводом; гидроагрегат с блоком управления, гидравлические шланги – 2 шт.; контейнер для хранения нагревательного элемента и торцевателя; ящик с инструментами; документация; съемные алюминиевые вкладыши: d 400, 450, 500, 560, 630, 710 мм и ЗИП. | E22: 1992000
B23: ATLANT A 1000
C24: 630-1000 мм | D24: Для стыковой сварки труб 630-1000 мм. В комплекте: позиционер с гидравлическим приводом; нагревательный элемент с электронным поддержанием и регулятором температуры; торцеватель с электроприводом; гидроагрегат с блоком управления, гидравлические шланги – 2 шт.; контейнер для хранения нагревательного элемента и торцевателя; ящик с инструментами; документация; съемные алюминиевые вкладыши: d 630, 710, 800, 900, мм и ЗИП. | E24: 3240000
B25: ATLANT A 1200
C26: 710-1200 мм | D26: Для стыковой сварки труб 710-1200 мм. В комплекте: позиционер с гидравлическим приводом; нагревательный элемент с электронным поддержанием и регулятором температуры; торцеватель с электроприводом; гидроагрегат с блоком управления, гидравлические шланги – 2 шт.; контейнер для хранения нагревательного элемента иторцевателя; ящик с инструментами; документация; съемные алюминиевые вкладыши: d710, 800, 900, 1000 мм и ЗИП. | E26: 4800000
B27: ФОТО | C27: ДИАМЕТР СВАРКИ | D27: ОПИСАНИЕ АППАРАТОВ | E27: ЦЕНА ПРАЙС, руб. с НДС
B28: ATLANT A 1400
C29: 1000 - 1400 мм | D29: Для стыковой сварки труб 1000-1400 мм. В комплекте: позиционер с гидравлическим приводом; нагревательный элемент с электронным поддержанием и регулятором температуры; торцеватель с электроприводом; гидроагрегат с блоком управления, гидравлические шланги – 2 шт.; контейнер для хранения нагревательного элемента иторцевателя; ящик с инструментами; документация; съемные алюминиевые вкладыши: d1000, 1200 мм и ЗИП. | E29: 9500000
B30: ATLANT A 1600
C31: 1000 - 1600 мм | D31: Для стыковой сварки труб 1000-1600 мм. В комплекте: позиционер с гидравлическим приводом; нагревательный элемент с электронным поддержанием и регулятором температуры; торцеватель с электроприводом; гидроагрегат с блоком управления, гидравлические шланги – 2 шт.; контейнер для хранения нагревательного элемента иторцевателя; ящик с инструментами; документация; съемные алюминиевые вкладыши: d1000, 1200, 1400 мм и ЗИП. | E31: 10000000
B32: РЕМОНТНЫЙ КОМПЛЕКТ
C33: для аппаратов 160-1600 мм | D33: Ремонтный комплект (ЗИП*): два 2-х сторонних ножа для торцевателя; Прокладки (для всей гидросистемы); Термопара (датчик температуры); Болт крепления хомутов; Инструменты; Щуп. *Комплектация ЗИП у механических и гадравлических аппаратов отличается | E33: Входит в комплектацию аппаратов
B34: *Гарантия 3 года (1 год полная гарантия на запчасти и ремонт + 2 года на ремонт)
B36: ФОТО | C36: МОДЕЛЬ | D36: ДОПОЛНИТЕЛЬНОЕ ОБОРУДОВАНИЕ | E36: ЦЕНА ПРАЙС, руб. с НДС
B37: БЛОК ПРОТКОЛИРОВАНИЯ ATLANT
C38: для аппаратов от 160 до 1600 | D38: Регистратор параметров сварки полиэтиленовых труб стыковыми сварочными аппаратами «Атлант». Универсальный блок протоколирования для стыковых сварочных аппаратов. Адаптируем к любым маркам аппаратов Регистратор предназначен для записи параметров сварки полиэтиленовых труб с регистрацией времени сварки, имени оператора и контроля температуры и давления с записью в файл. Питание Регистратора осуществляется от сети 220в. | E38: 210000
B39: КРАН-БАЛКА ATLANT
C40: для 500 аппарата | D40: Подъемный механизм для торцевателя и нагревательного элемента стыкового сварочного аппарата. Сам механизм в действие приводится благодаря приводу, регулируемому пультом управления. Осуществить процесс торцовки и сваривания труб больших диаметров сможет один сварщик не привлекая крупногабаритную технику. | E40: 72000
C41: для 630 аппарата | E41: 84000
C42: для 800 аппарата | E42: 108000
...

Sheet Прайс  ATLANT PRO
C2: СТЫКОВЫЕ СВАРОЧНЫЕ АППАРАТЫ ATLANT PRO
C3: 8 (843) 204-11-98 zapros@atlant-tat.com www.atlant-tat.com
B4: ФОТО | C4: ДИАМЕТР СВАРКИ | D4: ОПИСАНИЕ | E4: ЦЕНА ПРАЙС, руб. с НДС
B5: ATLANT A 160 G PRO
C6: 40-160 мм | D6: Аппарат с гидравлическим приводом для сварки труб диаметром от 40 до 160 мм. В комплекте: позиционер с гидравлическим приводом; нагревательный элемент с электронным поддержанием и регулятором температуры; торцеватель с электроприводом; гидроагрегат с блоком управления; гидравлические шланги – 2 шт.; контейнер для хранения нагревательного элемента и торцевателя; ящик с инструментами; документация; съемные алюминиевые вкладыши: d 40, 50, 63, 75, 90, 110, 125, 140 мм и ЗИП. | E6: 350000
B7: ATLANT A 250 G PRO
C8: 63-250 мм | D8: Аппарат с гидравлическим приводом для стыковой сварки труб диаметром 63-250 мм. В комплекте: позиционер с гидравлическим приводом; нагревательный элемент с электронным поддержанием и регулятором температуры; торцеватель с электроприводом; гидроагрегат с блоком управления; гидравлические шланги – 2 шт.; контейнер для хранения нагревательного элемента и торцевателя; ящик с инструментами; документация; съемные алюминиевые вкладыши: d 63, 75, 90, 110, 125, 140, 160, 180, 200, 225 мм и ЗИП. | E8: 600000
B9: ATLANT A 315 PRO
C10: 63 - 315 мм | D10: Аппарат с гидравлическим приводом для сварки труб номинальным диаметром от 63 до 315 мм. В комплекте: позиционер с гидравлическим приводом; нагревательный элемент с электронным поддержанием и регулятором температуры; торцеватель с электроприводом; гидроагрегат с блоком управления; гидравлические шланги – 2 шт.; контейнер для хранения нагревательного элемента и торцевателя; ящик с инструментами; документация; съемные алюминиевые вкладыши: d 63, 75, 90, 110, 125, 140, 160, 180, 200, 225, 250, 280мм и ЗИП. | E10: 715000
B11: ATLANT 500
C12: 160- 500 мм | D12: Для стыковой сварки труб 160-500 мм. В комплекте: позиционер с гидравлическим приводом; нагревательный элемент с электронным поддержанием и регулятором температуры; торцеватель с электроприводом; гидроагрегат с блоком управления; гидравлические шланги – 2 шт.; контейнер для хранения нагревательного элемента и торцевателя; ящик с инструментами; документация; съемные алюминиевые вкладыши: d 160, 180, 200, 225, 250, 280, 315, 355, 400, 450 мм и ЗИП. | E12: 1150000
B13: ATLANT A 630 PRO
C14: 315-630 мм | D14: Для стыковой сварки труб 315-630 мм. В комплекте: позиционер с гидравлическим приводом; нагревательный элемент с электронным поддержанием и регулятором температуры; торцеватель с электроприводом; гидроагрегат с блоком управления, гидравлические шланги – 2 шт.; контейнер для хранения нагревательного элемента и торцевателя; ящик с инструментами; документация; съемные алюминиевые вкладыши: d 315, 355, 400, 450, 500, 560 мм и ЗИП. | E14: 1400000
B15: ATLANT A 800 PRO
C16: 400-800 мм | D16: Для стыковой сварки труб 400-800 мм. В комплекте: позиционер с гидравлическим приводом; нагревательный элемент с электронным поддержанием и регулятором температуры; торцеватель с электроприводом; гидроагрегат с блоком управления, гидравлические шланги – 2 шт.; контейнер для хранения нагревательного элемента и торцевателя; ящик с инструментами; документация; съемные алюминиевые вкладыши: d 400, 450, 500, 560, 630, 710 мм и ЗИП. | E16: 2900000
B17: ATLANT A 1000 PRO
C18: 630-1000 мм | D18: Для стыковой сварки труб 630-1000 мм. В комплекте: позиционер с гидравлическим приводом; нагревательный элемент с электронным поддержанием и регулятором температуры; торцеватель с электроприводом; гидроагрегат с блоком управления, гидравлические шланги – 2 шт.; контейнер для хранения нагревательного элемента и торцевателя; ящик с инструментами; документация; съемные алюминиевые вкладыши: d 630, 710, 800, 900 мм и ЗИП. | E18: 2900000
B19: ATLANT A 1200 PRO
C20: 710-1200 мм | D20: Для стыковой сварки труб 710-1200 мм. В комплекте: позиционер с гидравлическим приводом; нагревательный элемент с электронным поддержанием и регулятором температуры; торцеватель с электроприводом; гидроагрегат с блоком управления, гидравлические шланги – 2 шт.; контейнер для хранения нагревательного элемента и торцевателя; ящик с инструментами; документация; съемные алюминиевые вкладыши: d 710, 800, 900, 1000 мм и ЗИП. | E20: 5900000
B21: ATLANT A 1400 PRO
C22: 1000-1400 мм | D22: Для стыковой сварки труб 1000-1400 мм. В комплекте: позиционер с гидравлическим приводом; нагревательный элемент с электронным поддержанием и регулятором температуры; торцеватель с электроприводом; гидроагрегат с блоком управления, гидравлические шланги – 2 шт.; контейнер для хранения нагревательного элемента и торцевателя; ящик с инструментами; документация; съемные алюминиевые вкладыши: d 1000, 1200 мм и ЗИП. | E22: 10000000
B23: ATLANT A 1600 PRO
C24: 1000-1600 мм | D24: Для стыковой сварки труб 1000-1600 мм. В комплекте: позиционер с гидравлическим приводом; нагревательный элемент с электронным поддержанием и регулятором температуры; торцеватель с электроприводом; гидроагрегат с блоком управления, гидравлические шланги – 2 шт.; контейнер для хранения нагревательного элемента и торцевателя; ящик с инструментами; документация; съемные алюминиевые вкладыши: d 1000, 1200, 1400 мм и ЗИП. | E24: 12000000

Sheet Трубы ПНД ГОСТ (газ, вода)
D2: ПРАЙС ПОЛИЭТИЛЕНОВЫЕ ТРУБЫ ГОСТ
D3: 8 (843) 204-11-98 | F3: zapros@atlant-tat.com | J3: www.atlant-tat.com
D4: Бонус | F4: Калькулятор для расчета ПНД труб | J4: Скачать
D5: Расчет заявки | F5: Направьте заявку Online | J5: Отправить
B6: Цена за 1 кг зависит от: назначения трубы: вода, газ, техническая; диаметра трубы (25-50мм, 63-800мм, 900-1200мм); толщины стенки трубы (sdr 7,4-9, sdr 11-26, sdr 33). | I6: ЦЕНА ЗА 1 КГ | J6: 155
B7: Диаметры | C7: SDR 33 | D7: SDR 26 | E7: SDR 21 | F7: SDR 17,6 | G7: SDR 17 | H7: SDR 13,6 | I7: SDR 11 | J7: SDR 9 | K7: SDR 7,4
C8: ПЭ100 PN 5 | D8: ПЭ100 PN 6,3 | E8: ПЭ100 PN 8 | F8: ПЭ100 PN 9,5 | G8: ПЭ100 PN 10 | H8: ПЭ100 PN 12,5 | I8: ПЭ100 PN 16 | J8: ПЭ100 PN 20 | K8: ПЭ100 PN 25
C9: Цена за п.м. | D9: Цена за п.м. | E9: Цена за п.м. | F9: Цена за п.м. | G9: Цена за п.м. | H9: Цена за п.м. | I9: Цена за п.м. | J9: Цена за п.м. | K9: Цена за п.м.
B10: 25 мм | H10: ='Вес - ГОСТ'!H5*'Трубы ПНД ГОСТ (газ, вода)'!$J$6 -> 22.94 | I10: ='Вес - ГОСТ'!I5*'Трубы ПНД ГОСТ (газ, вода)'!$J$6 -> 26.195 | J10: ='Вес - ГОСТ'!J5*'Трубы ПНД ГОСТ (газ, вода)'!$J$6 -> 30.69 | K10: ='Вес - ГОСТ'!K5*'Трубы ПНД ГОСТ (газ, вода)'!$J$6 -> 37.2
B11: 32 мм | G11: ='Вес - ГОСТ'!G6*'Трубы ПНД ГОСТ (газ, вода)'!$J$6 -> 29.915 | H11: ='Вес - ГОСТ'!H6*'Трубы ПНД ГОСТ (газ, вода)'!$J$6 -> 35.495 | I11: ='Вес - ГОСТ'!I6*'Трубы ПНД ГОСТ (газ, вода)'!$J$6 -> 42.935 | J11: ='Вес - ГОСТ'!J6*'Трубы ПНД ГОСТ (газ, вода)'!$J$6 -> 50.375 | K11: ='Вес - ГОСТ'!K6*'Трубы ПНД ГОСТ (газ, вода)'!$J$6 -> 59.675
B12: 40 мм | E12: ='Вес - ГОСТ'!E7*'Трубы ПНД ГОСТ (газ, вода)'!$J$6 -> 37.82 | F12: ='Вес - ГОСТ'!F7*'Трубы ПНД ГОСТ (газ, вода)'!$J$6 -> 43.555 | G12: ='Вес - ГОСТ'!G7*'Трубы ПНД ГОСТ (газ, вода)'!$J$6 -> 45.26 | H12: ='Вес - ГОСТ'!H7*'Трубы ПНД ГОСТ (газ, вода)'!$J$6 -> 54.715 | I12: ='Вес - ГОСТ'!I7*'Трубы ПНД ГОСТ (газ, вода)'!$J$6 -> 66.185 | J12: ='Вес - ГОСТ'!J7*'Трубы ПНД ГОСТ (газ, вода)'!$J$6 -> 78.585 | K12: ='Вес - ГОСТ'!K7*'Трубы ПНД ГОСТ (газ, вода)'!$J$6 -> 93
B13: 50 мм | D13: ='Вес - ГОСТ'!D8*'Трубы ПНД ГОСТ (газ, вода)'!$J$6 -> 47.74 | E13: ='Вес - ГОСТ'!E8*'Трубы ПНД ГОСТ (газ, вода)'!$J$6 -> 57.195 | F13: ='Вес - ГОСТ'!F8*'Трубы ПНД ГОСТ (газ, вода)'!$J$6 -> 67.58 | G13: ='Вес - ГОСТ'!G8*'Трубы ПНД ГОСТ (газ, вода)'!$J$6 -> 69.595 | H13: ='Вес - ГОСТ'!H8*'Трубы ПНД ГОСТ (газ, вода)'!$J$6 -> 84.475 | I13: ='Вес - ГОСТ'!I8*'Трубы ПНД ГОСТ (газ, вода)'!$J$6 -> 102.765 | J13: ='Вес - ГОСТ'!J8*'Трубы ПНД ГОСТ (газ, вода)'!$J$6 -> 121.83 | K13: ='Вес - ГОСТ'!K8*'Трубы ПНД ГОСТ (газ, вода)'!$J$6 -> 144.925
B14: 63 мм | C14: ='Вес - ГОСТ'!C9*'Трубы ПНД ГОСТ (газ, вода)'!$J$6 -> 60.76 | D14: ='Вес - ГОСТ'!D9*'Трубы ПНД ГОСТ (газ, вода)'!$J$6 -> 75.64 | E14: ='Вес - ГОСТ'!E9*'Трубы ПНД ГОСТ (газ, вода)'!$J$6 -> 88.815 | F14: ='Вес - ГОСТ'!F9*'Трубы ПНД ГОСТ (газ, вода)'!$J$6 -> 105.71 | G14: ='Вес - ГОСТ'!G9*'Трубы ПНД ГОСТ (газ, вода)'!$J$6 -> 110.825 | H14: ='Вес - ГОСТ'!H9*'Трубы ПНД ГОСТ (газ, вода)'!$J$6 -> 134.695 | I14: ='Вес - ГОСТ'!I9*'Трубы ПНД ГОСТ (газ, вода)'!$J$6 -> 162.75 | J14: ='Вес - ГОСТ'!J9*'Трубы ПНД ГОСТ (газ, вода)'!$J$6 -> 193.75 | K14: ='Вес - ГОСТ'!K9*'Трубы ПНД ГОСТ (газ, вода)'!$J$6 -> 227.85
B15: 75 мм | C15: ='Вес - ГОСТ'!C10*'Трубы ПНД ГОСТ (газ, вода)'!$J$6 -> 84.165 | D15: ='Вес - ГОСТ'!D10*'Трубы ПНД ГОСТ (газ, вода)'!$J$6 -> 103.54 | E15: ='Вес - ГОСТ'!E10*'Трубы ПНД ГОСТ (газ, вода)'!$J$6 -> 127.255 | F15: ='Вес - ГОСТ'!F10*'Трубы ПНД ГОСТ (газ, вода)'!$J$6 -> 150.35 | G15: ='Вес - ГОСТ'!G10*'Трубы ПНД ГОСТ (газ, вода)'!$J$6 -> 156.55 | H15: ='Вес - ГОСТ'!H10*'Трубы ПНД ГОСТ (газ, вода)'!$J$6 -> 190.65 | I15: ='Вес - ГОСТ'!I10*'Трубы ПНД ГОСТ (газ, вода)'!$J$6 -> 226.3 | J15: ='Вес - ГОСТ'!J10*'Трубы ПНД ГОСТ (газ, вода)'!$J$6 -> 272.8 | K15: ='Вес - ГОСТ'!K10*'Трубы ПНД ГОСТ (газ, вода)'!$J$6 -> 323.95
B16: 90 мм | C16: ='Вес - ГОСТ'!C11*'Трубы ПНД ГОСТ (газ, вода)'!$J$6 -> 121.21 | D16: ='Вес - ГОСТ'!D11*'Трубы ПНД ГОСТ (газ, вода)'!$J$6 -> 150.195 | E16: ='Вес - ГОСТ'!E11*'Трубы ПНД ГОСТ (газ, вода)'!$J$6 -> 182.9 | F16: ='Вес - ГОСТ'!F11*'Трубы ПНД ГОСТ (газ, вода)'!$J$6 -> 217 | G16: ='Вес - ГОСТ'!G11*'Трубы ПНД ГОСТ (газ, вода)'!$J$6 -> 224.75 | H16: ='Вес - ГОСТ'!H11*'Трубы ПНД ГОСТ (газ, вода)'!$J$6 -> 272.8 | I16: ='Вес - ГОСТ'!I11*'Трубы ПНД ГОСТ (газ, вода)'!$J$6 -> 328.6 | J16: ='Вес - ГОСТ'!J11*'Трубы ПНД ГОСТ (газ, вода)'!$J$6 -> 393.7 | K16: ='Вес - ГОСТ'!K11*'Трубы ПНД ГОСТ (газ, вода)'!$J$6 -> 465
B17: 110 мм | C17: ='Вес - ГОСТ'!C12*'Трубы ПНД ГОСТ (газ, вода)'!$J$6 -> 179.8 | D17: ='Вес - ГОСТ'!D12*'Трубы ПНД ГОСТ (газ, вода)'!$J$6 -> 220.1 | E17: ='Вес - ГОСТ'!E12*'Трубы ПНД ГОСТ (газ, вода)'!$J$6 -> 274.35 | F17: ='Вес - ГОСТ'!F12*'Трубы ПНД ГОСТ (газ, вода)'!$J$6 -> 320.85 | G17: ='Вес - ГОСТ'!G12*'Трубы ПНД ГОСТ (газ, вода)'!$J$6 -> 334.8 | H17: ='Вес - ГОСТ'!H12*'Трубы ПНД ГОСТ (газ, вода)'!$J$6 -> 404.55 | I17: ='Вес - ГОСТ'!I12*'Трубы ПНД ГОСТ (газ, вода)'!$J$6 -> 486.7 | J17: ='Вес - ГОСТ'!J12*'Трубы ПНД ГОСТ (газ, вода)'!$J$6 -> 585.9 | K17: ='Вес - ГОСТ'!K12*'Трубы ПНД ГОСТ (газ, вода)'!$J$6 -> 695.95
B18: 125 мм | C18: ='Вес - ГОСТ'!C13*'Трубы ПНД ГОСТ (газ, вода)'!$J$6 -> 232.5 | D18: ='Вес - ГОСТ'!D13*'Трубы ПНД ГОСТ (газ, вода)'!$J$6 -> 283.65 | E18: ='Вес - ГОСТ'!E13*'Трубы ПНД ГОСТ (газ, вода)'!$J$6 -> 350.3 | F18: ='Вес - ГОСТ'!F13*'Трубы ПНД ГОСТ (газ, вода)'!$J$6 -> 412.3 | G18: ='Вес - ГОСТ'!G13*'Трубы ПНД ГОСТ (газ, вода)'!$J$6 -> 426.25 | H18: ='Вес - ГОСТ'!H13*'Трубы ПНД ГОСТ (газ, вода)'!$J$6 -> 522.35 | I18: ='Вес - ГОСТ'!I13*'Трубы ПНД ГОСТ (газ, вода)'!$J$6 -> 632.4 | J18: ='Вес - ГОСТ'!J13*'Трубы ПНД ГОСТ (газ, вода)'!$J$6 -> 754.85 | K18: ='Вес - ГОСТ'!K13*'Трубы ПНД ГОСТ (газ, вода)'!$J$6 -> 895.9
B19: 140 мм | C19: ='Вес - ГОСТ'!C14*'Трубы ПНД ГОСТ (газ, вода)'!$J$6 -> 289.85 | D19: ='Вес - ГОСТ'!D14*'Трубы ПНД ГОСТ (газ, вода)'!$J$6 -> 358.05 | E19: ='Вес - ГОСТ'!E14*'Трубы ПНД ГОСТ (газ, вода)'!$J$6 -> 438.65 | F19: ='Вес - ГОСТ'!F14*'Трубы ПНД ГОСТ (газ, вода)'!$J$6 -> 519.25 | G19: ='Вес - ГОСТ'!G14*'Трубы ПНД ГОСТ (газ, вода)'!$J$6 -> 536.3 | H19: ='Вес - ГОСТ'!H14*'Трубы ПНД ГОСТ (газ, вода)'!$J$6 -> 654.1 | I19: ='Вес - ГОСТ'!I14*'Трубы ПНД ГОСТ (газ, вода)'!$J$6 -> 787.4 | J19: ='Вес - ГОСТ'!J14*'Трубы ПНД ГОСТ (газ, вода)'!$J$6 -> 948.6 | K19: ='Вес - ГОСТ'!K14*'Трубы ПНД ГОСТ (газ, вода)'!$J$6 -> 1126.85
B20: 160 мм | C20: ='Вес - ГОСТ'!C15*'Трубы ПНД ГОСТ (газ, вода)'!$J$6 -> 373.55 | D20: ='Вес - ГОСТ'!D15*'Трубы ПНД ГОСТ (газ, вода)'!$J$6 -> 469.65 | E20: ='Вес - ГОСТ'!E15*'Трубы ПНД ГОСТ (газ, вода)'!$J$6 -> 575.05 | F20: ='Вес - ГОСТ'!F15*'Трубы ПНД ГОСТ (газ, вода)'!$J$6 -> 674.25 | G20: ='Вес - ГОСТ'!G15*'Трубы ПНД ГОСТ (газ, вода)'!$J$6 -> 699.05 | H20: ='Вес - ГОСТ'!H15*'Трубы ПНД ГОСТ (газ, вода)'!$J$6 -> 852.5 | I20: ='Вес - ГОСТ'!I15*'Трубы ПНД ГОСТ (газ, вода)'!$J$6 -> 1033.85 | J20: ='Вес - ГОСТ'!J15*'Трубы ПНД ГОСТ (газ, вода)'!$J$6 -> 1235.35 | K20: ='Вес - ГОСТ'!K15*'Трубы ПНД ГОСТ (газ, вода)'!$J$6 -> 1466.3
B21: 180 мм | C21: ='Вес - ГОСТ'!C16*'Трубы ПНД ГОСТ (газ, вода)'!$J$6 -> 472.75 | D21: ='Вес - ГОСТ'!D16*'Трубы ПНД ГОСТ (газ, вода)'!$J$6 -> 585.9 | E21: ='Вес - ГОСТ'!E16*'Трубы ПНД ГОСТ (газ, вода)'!$J$6 -> 722.3 | F21: ='Вес - ГОСТ'!F16*'Трубы ПНД ГОСТ (газ, вода)'!$J$6 -> 847.85 | G21: ='Вес - ГОСТ'!G16*'Трубы ПНД ГОСТ (газ, вода)'!$J$6 -> 885.05 | H21: ='Вес - ГОСТ'!H16*'Трубы ПНД ГОСТ (газ, вода)'!$J$6 -> 1081.9 | I21: ='Вес - ГОСТ'!I16*'Трубы ПНД ГОСТ (газ, вода)'!$J$6 -> 1306.65 | J21: ='Вес - ГОСТ'!J16*'Трубы ПНД ГОСТ (газ, вода)'!$J$6 -> 1565.5 | K21: ='Вес - ГОСТ'!K16*'Трубы ПНД ГОСТ (газ, вода)'!$J$6 -> 1860
B22: 200 мм | C22: ='Вес - ГОСТ'!C17*'Трубы ПНД ГОСТ (газ, вода)'!$J$6 -> 592.1 | D22: ='Вес - ГОСТ'!D17*'Трубы ПНД ГОСТ (газ, вода)'!$J$6 -> 725.4 | E22: ='Вес - ГОСТ'!E17*'Трубы ПНД ГОСТ (газ, вода)'!$J$6 -> 894.35 | F22: ='Вес - ГОСТ'!F17*'Трубы ПНД ГОСТ (газ, вода)'!$J$6 -> 1050.9 | G22: ='Вес - ГОСТ'!G17*'Трубы ПНД ГОСТ (газ, вода)'!$J$6 -> 1091.2 | H22: ='Вес - ГОСТ'!H17*'Трубы ПНД ГОСТ (газ, вода)'!$J$6 -> 1326.8 | I22: ='Вес - ГОСТ'!I17*'Трубы ПНД ГОСТ (газ, вода)'!$J$6 -> 1612 | J22: ='Вес - ГОСТ'!J17*'Трубы ПНД ГОСТ (газ, вода)'!$J$6 -> 1937.5 | K22: ='Вес - ГОСТ'!K17*'Трубы ПНД ГОСТ (газ, вода)'!$J$6 -> 2294
B23: 225 мм | C23: ='Вес - ГОСТ'!C18*'Трубы ПНД ГОСТ (газ, вода)'!$J$6 -> 737.8 | D23: ='Вес - ГОСТ'!D18*'Трубы ПНД ГОСТ (газ, вода)'!$J$6 -> 911.4 | E23: ='Вес - ГОСТ'!E18*'Трубы ПНД ГОСТ (газ, вода)'!$J$6 -> 1129.95 | F23: ='Вес - ГОСТ'!F18*'Трубы ПНД ГОСТ (газ, вода)'!$J$6 -> 1325.25 | G23: ='Вес - ГОСТ'!G18*'Трубы ПНД ГОСТ (газ, вода)'!$J$6 -> 1385.7 | H23: ='Вес - ГОСТ'!H18*'Трубы ПНД ГОСТ (газ, вода)'!$J$6 -> 1689.5 | I23: ='Вес - ГОСТ'!I18*'Трубы ПНД ГОСТ (газ, вода)'!$J$6 -> 2046 | J23: ='Вес - ГОСТ'!J18*'Трубы ПНД ГОСТ (газ, вода)'!$J$6 -> 2449 | K23: ='Вес - ГОСТ'!K18*'Трубы ПНД ГОСТ (газ, вода)'!$J$6 -> 2898.5
B24: 250 мм | C24: ='Вес - ГОСТ'!C19*'Трубы ПНД ГОСТ (газ, вода)'!$J$6 -> 914.5 | D24: ='Вес - ГОСТ'!D19*'Трубы ПНД ГОСТ (газ, вода)'!$J$6 -> 1129.95 | E24: ='Вес - ГОСТ'!E19*'Трубы ПНД ГОСТ (газ, вода)'!$J$6 -> 1382.6 | F24: ='Вес - ГОСТ'!F19*'Трубы ПНД ГОСТ (газ, вода)'!$J$6 -> 1643 | G24: ='Вес - ГОСТ'!G19*'Трубы ПНД ГОСТ (газ, вода)'!$J$6 -> 1705 | H24: ='Вес - ГОСТ'!H19*'Трубы ПНД ГОСТ (газ, вода)'!$J$6 -> 2077 | I24: ='Вес - ГОСТ'!I19*'Трубы ПНД ГОСТ (газ, вода)'!$J$6 -> 2511 | J24: ='Вес - ГОСТ'!J19*'Трубы ПНД ГОСТ (газ, вода)'!$J$6 -> 3007 | K24: ='Вес - ГОСТ'!K19*'Трубы ПНД ГОСТ (газ, вода)'!$J$6 -> 3580.5
B25: 280 мм | C25: ='Вес - ГОСТ'!C20*'Трубы ПНД ГОСТ (газ, вода)'!$J$6 -> 1143.9 | D25: ='Вес - ГОСТ'!D20*'Трубы ПНД ГОСТ (газ, вода)'!$J$6 -> 1408.95 | E25: ='Вес - ГОСТ'!E20*'Трубы ПНД ГОСТ (газ, вода)'!$J$6 -> 1751.5 | F25: ='Вес - ГОСТ'!F20*'Трубы ПНД ГОСТ (газ, вода)'!$J$6 -> 2046 | G25: ='Вес - ГОСТ'!G20*'Трубы ПНД ГОСТ (газ, вода)'!$J$6 -> 2139 | H25: ='Вес - ГОСТ'!H20*'Трубы ПНД ГОСТ (газ, вода)'!$J$6 -> 2604 | I25: ='Вес - ГОСТ'!I20*'Трубы ПНД ГОСТ (газ, вода)'!$J$6 -> 3146.5 | J25: ='Вес - ГОСТ'!J20*'Трубы ПНД ГОСТ (газ, вода)'!$J$6 -> 3782 | K25: ='Вес - ГОСТ'!K20*'Трубы ПНД ГОСТ (газ, вода)'!$J$6 -> 4479.5
... B30: 500 мм | C30: ='Вес - ГОСТ'!C25*'Трубы ПНД ГОСТ (газ, вода)'!$J$6 -> 3627 | D30: ='Вес - ГОСТ'!D25*'Трубы ПНД ГОСТ (газ, вода)'!$J$6 -> 4495 | E30: ='Вес - ГОСТ'!E25*'Трубы ПНД ГОСТ (газ, вода)'!$J$6 -> 5549 | F30: ='Вес - ГОСТ'!F25*'Трубы ПНД ГОСТ (газ, вода)'!$J$6 -> 6510 | G30: ='Вес - ГОСТ'!G25*'Трубы ПНД ГОСТ (газ, вода)'!$J$6 -> 6804.5 | H30: ='Вес - ГОСТ'!H25*'Трубы ПНД ГОСТ (газ, вода)'!$J$6 -> 8292.5 | I30: ='Вес - ГОСТ'!I25*'Трубы ПНД ГОСТ (газ, вода)'!$J$6 -> 10028.5 | J30: ='Вес - ГОСТ'!J25*'Трубы ПНД ГОСТ (газ, вода)'!$J$6 -> 12012.5 | K30: ='Вес - ГОСТ'!K25*'Трубы ПНД ГОСТ (газ, вода)'!$J$6 -> 14275.5
B31: 560 мм | C31: ='Вес - ГОСТ'!C26*'Трубы ПНД ГОСТ (газ, вода)'!$J$6 -> 4557 | D31: ='Вес - ГОСТ'!D26*'Трубы ПНД ГОСТ (газ, вода)'!$J$6 -> 5626.5 | E31: ='Вес - ГОСТ'!E26*'Трубы ПНД ГОСТ (газ, вода)'!$J$6 -> 6944 | F31: ='Вес - ГОСТ'!F26*'Трубы ПНД ГОСТ (газ, вода)'!$J$6 -> 8153 | G31: ='Вес - ГОСТ'!G26*'Трубы ПНД ГОСТ (газ, вода)'!$J$6 -> 8525 | H31: ='Вес - ГОСТ'!H26*'Трубы ПНД ГОСТ (газ, вода)'!$J$6 -> 10400.5 | I31: ='Вес - ГОСТ'!I26*'Трубы ПНД ГОСТ (газ, вода)'!$J$6 -> 12555 | J31: ='Вес - ГОСТ'!J26*'Трубы ПНД ГОСТ (газ, вода)'!$J$6 -> 15081.5
B32: 630 мм | C32: ='Вес - ГОСТ'!C27*'Трубы ПНД ГОСТ (газ, вода)'!$J$6 -> 5750.5 | D32: ='Вес - ГОСТ'!D27*'Трубы ПНД ГОСТ (газ, вода)'!$J$6 -> 7130 | E32: ='Вес - ГОСТ'!E27*'Трубы ПНД ГОСТ (газ, вода)'!$J$6 -> 8757.5 | F32: ='Вес - ГОСТ'!F27*'Трубы ПНД ГОСТ (газ, вода)'!$J$6 -> 10323 | G32: ='Вес - ГОСТ'!G27*'Трубы ПНД ГОСТ (газ, вода)'!$J$6 -> 10788 | H32: ='Вес - ГОСТ'!H27*'Трубы ПНД ГОСТ (газ, вода)'!$J$6 -> 13144 | I32: ='Вес - ГОСТ'!I27*'Трубы ПНД ГОСТ (газ, вода)'!$J$6 -> 15965 | J32: ='Вес - ГОСТ'!J27*'Трубы ПНД ГОСТ (газ, вода)'!$J$6 -> 19065
B33: 710 мм | C33: ='Вес - ГОСТ'!C28*'Трубы ПНД ГОСТ (газ, вода)'!$J$6 -> 7331.5 | D33: ='Вес - ГОСТ'!D28*'Трубы ПНД ГОСТ (газ, вода)'!$J$6 -> 9067.5 | E33: ='Вес - ГОСТ'!E28*'Трубы ПНД ГОСТ (газ, вода)'!$J$6 -> 11175.5 | F33: ='Вес - ГОСТ'!F28*'Трубы ПНД ГОСТ (газ, вода)'!$J$6 -> 13128.5 | G33: ='Вес - ГОСТ'!G28*'Трубы ПНД ГОСТ (газ, вода)'!$J$6 -> 13702 | H33: ='Вес - ГОСТ'!H28*'Трубы ПНД ГОСТ (газ, вода)'!$J$6 -> 16740 | I33: ='Вес - ГОСТ'!I28*'Трубы ПНД ГОСТ (газ, вода)'!$J$6 -> 20305
B34: 800 мм | C34: ='Вес - ГОСТ'!C29*'Трубы ПНД ГОСТ (газ, вода)'!$J$6 -> 9284.5 | D34: ='Вес - ГОСТ'!D29*'Трубы ПНД ГОСТ (газ, вода)'!$J$6 -> 11485.5 | E34: ='Вес - ГОСТ'!E29*'Трубы ПНД ГОСТ (газ, вода)'!$J$6 -> 14167 | F34: ='Вес - ГОСТ'!F29*'Трубы ПНД ГОСТ (газ, вода)'!$J$6 -> 16740 | G34: ='Вес - ГОСТ'!G29*'Трубы ПНД ГОСТ (газ, вода)'!$J$6 -> 17360 | H34: ='Вес - ГОСТ'!H29*'Трубы ПНД ГОСТ (газ, вода)'!$J$6 -> 21235 | I34: ='Вес - ГОСТ'!I29*'Трубы ПНД ГОСТ (газ, вода)'!$J$6 -> 26195
B35: 900 мм | C35: ='Вес - ГОСТ'!C30*'Трубы ПНД ГОСТ (газ, вода)'!$J$6 -> 11764.5 | D35: ='Вес - ГОСТ'!D30*'Трубы ПНД ГОСТ (газ, вода)'!$J$6 -> 14539 | E35: ='Вес - ГОСТ'!E30*'Трубы ПНД ГОСТ (газ, вода)'!$J$6 -> 17980 | F35: ='Вес - ГОСТ'!F30*'Трубы ПНД ГОСТ (газ, вода)'!$J$6 -> 21080 | G35: ='Вес - ГОСТ'!G30*'Трубы ПНД ГОСТ (газ, вода)'!$J$6 -> 22010 | H35: ='Вес - ГОСТ'!H30*'Трубы ПНД ГОСТ (газ, вода)'!$J$6 -> 26815
B36: 1000 мм | C36: ='Вес - ГОСТ'!C31*'Трубы ПНД ГОСТ (газ, вода)'!$J$6 -> 14492.5 | D36: ='Вес - ГОСТ'!D31*'Трубы ПНД ГОСТ (газ, вода)'!$J$6 -> 17980 | E36: ='Вес - ГОСТ'!E31*'Трубы ПНД ГОСТ (газ, вода)'!$J$6 -> 22165 | F36: ='Вес - ГОСТ'!F31*'Трубы ПНД ГОСТ (газ, вода)'!$J$6 -> 41540 | G36: ='Вес - ГОСТ'!G31*'Трубы ПНД ГОСТ (газ, вода)'!$J$6 -> 27125 | H36: ='Вес - ГОСТ'!H31*'Трубы ПНД ГОСТ (газ, вода)'!$J$6 -> 33170
B37: 1200 мм | C37: ='Вес - ГОСТ'!C32*'Трубы ПНД ГОСТ (газ, вода)'!$J$6 -> 20770 | D37: ='Вес - ГОСТ'!D32*'Трубы ПНД ГОСТ (газ, вода)'!$J$6 -> 25885 | E37: ='Вес - ГОСТ'!E32*'Трубы ПНД ГОСТ (газ, вода)'!$J$6 -> 31930 | F37: ='Вес - ГОСТ'!F32*'Трубы ПНД ГОСТ (газ, вода)'!$J$6 -> 37510 | G37: ='Вес - ГОСТ'!G32*'Трубы ПНД ГОСТ (газ, вода)'!$J$6 -> 39060

Sheet Вес - ГОСТ
B2: Диаметры | C2: SDR 33 | D2: SDR 26 | E2: SDR 21 | F2: SDR 17,6 | G2: SDR 17 | H2: SDR 13,6 | I2: SDR 11 | J2: SDR 9 | K2: SDR 7,4
C3: ПЭ100 PN 5 | D3: ПЭ100 PN 6,3 | E3: ПЭ100 PN 8 | F3: ПЭ100 PN 9,5 | G3: ПЭ100 PN 10 | H3: ПЭ100 PN 12,5 | I3: ПЭ100 PN 16 | J3: ПЭ100 PN 20 | K3: ПЭ100 PN 25
C4: Вес 1 м, кг | D4: Вес 1 м, кг | E4: Вес 1 м, кг | F4: Вес 1 м, кг | G4: Вес 1 м, кг | H4: Вес 1 м, кг | I4: Вес 1 м, кг | J4: Вес 1 м, кг | K4: Вес 1 м, кг
B5: 25 | H5: 0.148 | I5: 0.169 | J5: 0.198 | K5: 0.24
B6: 32 | G6: 0.193 | H6: 0.229 | I6: 0.277 | J6: 0.325 | K6: 0.385
B7: 40 | E7: 0.244 | F7: 0.281 | G7: 0.292 | H7: 0.353 | I7: 0.427 | J7: 0.507 | K7: 0.6
B8: 50 | D8: 0.308 | E8: 0.369 | F8: 0.436 | G8: 0.449 | H8: 0.545 | I8: 0.663 | J8: 0.786 | K8: 0.935
B9: 63 | C9: 0.392 | D9: 0.488 | E9: 0.573 | F9: 0.682 | G9: 0.715 | H9: 0.869 | I9: 1.05 | J9: 1.25 | K9: 1.47
B10: 75 | C10: 0.543 | D10: 0.668 | E10: 0.821 | F10: 0.97 | G10: 1.01 | H10: 1.23 | I10: 1.46 | J10: 1.76 | K10: 2.09
B11: 90 | C11: 0.782 | D11: 0.969 | E11: 1.18 | F11: 1.4 | G11: 1.45 | H11: 1.76 | I11: 2.12 | J11: 2.54 | K11: 3
B12: 110 | C12: 1.16 | D12: 1.42 | E12: 1.77 | F12: 2.07 | G12: 2.16 | H12: 2.61 | I12: 3.14 | J12: 3.78 | K12: 4.49
B13: 125 | C13: 1.5 | D13: 1.83 | E13: 2.26 | F13: 2.66 | G13: 2.75 | H13: 3.37 | I13: 4.08 | J13: 4.87 | K13: 5.78
B14: 140 | C14: 1.87 | D14: 2.31 | E14: 2.83 | F14: 3.35 | G14: 3.46 | H14: 4.22 | I14: 5.08 | J14: 6.12 | K14: 7.27
B15: 160 | C15: 2.41 | D15: 3.03 | E15: 3.71 | F15: 4.35 | G15: 4.51 | H15: 5.5 | I15: 6.67 | J15: 7.97 | K15: 9.46
B16: 180 | C16: 3.05 | D16: 3.78 | E16: 4.66 | F16: 5.47 | G16: 5.71 | H16: 6.98 | I16: 8.43 | J16: 10.1 | K16: 12
B17: 200 | C17: 3.82 | D17: 4.68 | E17: 5.77 | F17: 6.78 | G17: 7.04 | H17: 8.56 | I17: 10.4 | J17: 12.5 | K17: 14.8
B18: 225 | C18: 4.76 | D18: 5.88 | E18: 7.29 | F18: 8.55 | G18: 8.94 | H18: 10.9 | I18: 13.2 | J18: 15.8 | K18: 18.7
B19: 250 | C19: 5.9 | D19: 7.29 | E19: 8.92 | F19: 10.6 | G19: 11 | H19: 13.4 | I19: 16.2 | J19: 19.4 | K19: 23.1
B20: 280 | C20: 7.38 | D20: 9.09 | E20: 11.3 | F20: 13.2 | G20: 13.8 | H20: 16.8 | I20: 20.3 | J20: 24.4 | K20: 28.9
... B25: 500 | C25: 23.4 | D25: 29 | E25: 35.8 | F25: 42 | G25: 43.9 | H25: 53.5 | I25: 64.7 | J25: 77.5 | K25: 92.1
B26: 560 | C26: 29.4 | D26: 36.3 | E26: 44.8 | F26: 52.6 | G26: 55 | H26: 67.1 | I26: 81 | J26: 97.3
B27: 630 | C27: 37.1 | D27: 46 | E27: 56.5 | F27: 66.6 | G27: 69.6 | H27: 84.8 | I27: 103 | J27: 123
B28: 710 | C28: 47.3 | D28: 58.5 | E28: 72.1 | F28: 84.7 | G28: 88.4 | H28: 108 | I28: 131
B29: 800 | C29: 59.9 | D29: 74.1 | E29: 91.4 | F29: 108 | G29: 112 | H29: 137 | I29: 169
B30: 900 | C30: 75.9 | D30: 93.8 | E30: 116 | F30: 136 | G30: 142 | H30: 173
B31: 1000 | C31: 93.5 | D31: 116 | E31: 143 | F31: 268 | G31: 175 | H31: 214
B32: 1200 | C32: 134 | D32: 167 | E32: 206 | F32: 242 | G32: 252

Sheet Вес и толщина  ПНД труб
F2: ООО "АТЛАНТ" - производим и поставляем для наружных инженерных сетей сварчоное оборудование, фитинги, трубы ПНД
F3: ТАБЛИЦА ВЕСОВ ПОЛИЭТИЛНОВЫХ ТРУБ
F4: 8 (843) 204-11-98 | I4: zapros@atlant-tat.com | Q4: www.atlant-tat.com
C5: Бонус | F5: Калькулятор для расчета ПНД труб | J5: Скачать
C6: Расчет заявки | F6: Направьте заявку Online | J6: Отправить
B7: Диаметры | C7: SDR 33 | E7: SDR 26 | G7: SDR 21 | I7: SDR 17,6 | K7: SDR 17 | M7: SDR 13,6 | O7: SDR 11 | Q7: SDR 9 | S7: SDR 7,4
C8: ПЭ100 PN 5 | E8: ПЭ100 PN 6,3 | G8: ПЭ100 PN 8 | I8: ПЭ100 PN 9,5 | K8: ПЭ100 PN 10 | M8: ПЭ100 PN 12,5 | O8: ПЭ100 PN 16 | Q8: ПЭ100 PN 20 | S8: ПЭ100 PN 25
C9: Толщина стенки, мм | D9: Вес 1 м, кг | E9: Толщина стенки, мм | F9: Вес 1 м, кг | G9: Толщина стенки, мм | H9: Вес 1 м, кг | I9: Толщина стенки, мм | J9: Вес 1 м, кг | K9: Толщина стенки, мм | L9: Вес 1 м, кг | M9: Толщина стенки, мм | N9: Вес 1 м, кг | O9: Толщина стенки, мм | P9: Вес 1 м, кг | Q9: Толщина стенки, мм | R9: Вес 1 м, кг | S9: Толщина стенки, мм | T9: Вес 1 м, кг
B10: 25 | M10: 2 | N10: 0.148 | O10: 2.3 | P10: 0.169 | Q10: 2.8 | R10: 0.198 | S10: 3.5 | T10: 0.24
B11: 32 | K11: 2 | L11: 0.193 | M11: 2.4 | N11: 0.229 | O11: 3 | P11: 0.277 | Q11: 3.6 | R11: 0.325 | S11: 4.4 | T11: 0.385
B12: 40 | G12: 2 | H12: 0.244 | I12: 2.3 | J12: 0.281 | K12: 2.4 | L12: 0.292 | M12: 3 | N12: 0.353 | O12: 3.7 | P12: 0.427 | Q12: 4.5 | R12: 0.507 | S12: 5.5 | T12: 0.6
B13: 50 | E13: 2 | F13: 0.308 | G13: 2.4 | H13: 0.369 | I13: 2.9 | J13: 0.436 | K13: 3 | L13: 0.449 | M13: 3.7 | N13: 0.545 | O13: 4.6 | P13: 0.663 | Q13: 5.6 | R13: 0.786 | S13: 6.9 | T13: 0.935
B14: 63 | C14: 2 | D14: 0.392 | E14: 2.5 | F14: 0.488 | G14: 3 | H14: 0.573 | I14: 3.6 | J14: 0.682 | K14: 3.8 | L14: 0.715 | M14: 4.7 | N14: 0.869 | O14: 5.8 | P14: 1.05 | Q14: 7.1 | R14: 1.25 | S14: 8.6 | T14: 1.47
B15: 75 | C15: 2.3 | D15: 0.543 | E15: 2.9 | F15: 0.668 | G15: 3.6 | H15: 0.821 | I15: 4.3 | J15: 0.97 | K15: 4.5 | L15: 1.01 | M15: 5.6 | N15: 1.23 | O15: 6.8 | P15: 1.46 | Q15: 8.4 | R15: 1.76 | S15: 10.3 | T15: 2.09
B16: 90 | C16: 2.8 | D16: 0.782 | E16: 3.5 | F16: 0.969 | G16: 4.3 | H16: 1.18 | I16: 5.1 | J16: 1.4 | K16: 5.4 | L16: 1.45 | M16: 6.7 | N16: 1.76 | O16: 8.2 | P16: 2.12 | Q16: 10.1 | R16: 2.54 | S16: 12.3 | T16: 3
B17: 110 | C17: 3.4 | D17: 1.16 | E17: 4.2 | F17: 1.42 | G17: 5.3 | H17: 1.77 | I17: 6.3 | J17: 2.07 | K17: 6.6 | L17: 2.16 | M17: 8.1 | N17: 2.61 | O17: 10 | P17: 3.14 | Q17: 12.3 | R17: 3.78 | S17: 15.1 | T17: 4.49
B18: 125 | C18: 3.9 | D18: 1.5 | E18: 4.8 | F18: 1.83 | G18: 6 | H18: 2.26 | I18: 7.1 | J18: 2.66 | K18: 7.4 | L18: 2.75 | M18: 9.2 | N18: 3.37 | O18: 11.4 | P18: 4.08 | Q18: 14 | R18: 4.87 | S18: 17.1 | T18: 5.78
B19: 140 | C19: 4.3 | D19: 1.87 | E19: 5.4 | F19: 2.31 | G19: 6.7 | H19: 2.83 | I19: 8 | J19: 3.35 | K19: 8.3 | L19: 3.46 | M19: 10.3 | N19: 4.22 | O19: 12.7 | P19: 5.08 | Q19: 15.7 | R19: 6.12 | S19: 19.2 | T19: 7.27
B20: 160 | C20: 4.9 | D20: 2.41 | E20: 6.2 | F20: 3.03 | G20: 7.7 | H20: 3.71 | I20: 9.1 | J20: 4.35 | K20: 9.5 | L20: 4.51 | M20: 11.8 | N20: 5.5 | O20: 14.6 | P20: 6.67 | Q20: 17.9 | R20: 7.97 | S20: 21.9 | T20: 9.46
B21: 180 | C21: 5.5 | D21: 3.05 | E21: 6.9 | F21: 3.78 | G21: 8.6 | H21: 4.66 | I21: 10.2 | J21: 5.47 | K21: 10.7 | L21: 5.71 | M21: 13.3 | N21: 6.98 | O21: 16.4 | P21: 8.43 | Q21: 20.1 | R21: 10.1 | S21: 24.6 | T21: 12
B22: 200 | C22: 6.2 | D22: 3.82 | E22: 7.7 | F22: 4.68 | G22: 9.6 | H22: 5.77 | I22: 11.4 | J22: 6.78 | K22: 11.9 | L22: 7.04 | M22: 14.7 | N22: 8.56 | O22: 18.2 | P22: 10.4 | Q22: 22.4 | R22: 12.5 | S22: 27.4 | T22: 14.8
B23: 225 | C23: 6.9 | D23: 4.76 | E23: 8.6 | F23: 5.88 | G23: 10.8 | H23: 7.29 | I23: 12.8 | J23: 8.55 | K23: 13.4 | L23: 8.94 | M23: 16.6 | N23: 10.9 | O23: 20.5 | P23: 13.2 | Q23: 25.2 | R23: 15.8 | S23: 30.8 | T23: 18.7
B24: 250 | C24: 7.7 | D24: 5.9 | E24: 9.6 | F24: 7.29 | G24: 11.9 | H24: 8.92 | I24: 14.2 | J24: 10.6 | K24: 14.8 | L24: 11 | M24: 18.4 | N24: 13.4 | O24: 22.7 | P24: 16.2 | Q24: 27.9 | R24: 19.4 | S24: 34.2 | T24: 23.1
B25: 280 | C25: 8.6 | D25: 7.38 | E25: 10.7 | F25: 9.09 | G25: 13.4 | H25: 11.3 | I25: 15.9 | J25: 13.2 | K25: 16.6 | L25: 13.8 | M25: 20.6 | N25: 16.8 | O25: 25.4 | P25: 20.3 | Q25: 31.3 | R25: 24.4 | S25: 38.3 | T25: 28.9
... B30: 500 | C30: 15.3 | D30: 23.4 | E30: 19.1 | F30: 29 | G30: 23.9 | H30: 35.8 | I30: 28.3 | J30: 42 | K30: 29.7 | L30: 43.9 | M30: 36.8 | N30: 53.5 | O30: 45.4 | P30: 64.7 | Q30: 55.8 | R30: 77.5 | S30: 68.3 | T30: 92.1
B31: 560 | C31: 17.2 | D31: 29.4 | E31: 21.4 | F31: 36.3 | G31: 26.7 | H31: 44.8 | I31: 31.7 | J31: 52.6 | K31: 33.2 | L31: 55 | M31: 41.2 | N31: 67.1 | O31: 50.8 | P31: 81 | Q31: 62.5 | R31: 97.3
B32: 630 | C32: 19.3 | D32: 37.1 | E32: 24.1 | F32: 46 | G32: 30 | H32: 56.5 | I32: 35.7 | J32: 66.6 | K32: 37.4 | L32: 69.6 | M32: 46.3 | N32: 84.8 | O32: 57.2 | P32: 103 | Q32: 70.3 | R32: 123
B33: 710 | C33: 21.8 | D33: 47.3 | E33: 27.2 | F33: 58.5 | G33: 33.9 | H33: 72.1 | I33: 40.2 | J33: 84.7 | K33: 42.1 | L33: 88.4 | M33: 52.2 | N33: 108 | O33: 64.5 | P33: 131
B34: 800 | C34: 24.5 | D34: 59.9 | E34: 30.6 | F34: 74.1 | G34: 38.1 | H34: 91.4 | I34: 45.3 | J34: 108 | K34: 47.4 | L34: 112 | M34: 58.8 | N34: 137 | O34: 72.6 | P34: 169
B35: 900 | C35: 27.6 | D35: 75.9 | E35: 34.4 | F35: 93.8 | G35: 42.9 | H35: 116 | I35: 51 | J35: 136 | K35: 53.3 | L35: 142 | M35: 66.1 | N35: 173
B36: 1000 | C36: 30.6 | D36: 93.5 | E36: 38.2 | F36: 116 | G36: 47.7 | H36: 143 | I36: 56.6 | J36: 268 | K36: 59.3 | L36: 175 | M36: 73.5 | N36: 214
B37: 1200 | C37: 36.7 | D37: 134 | E37: 45.9 | F37: 167 | G37: 57.2 | H37: 206 | I37: 68 | J37: 242 | K37: 71.1 | L37: 252
B38: 1400 | C38: 42.9 | D38: 183 | E38: 53.5 | F38: 227 | G38: 66.7 | H38: 280
B39: 1600 | C39: 49 | D39: 239 | E39: 61.2 | F39: 296

Sheet Калькулятор  - ООО "АТЛАНТ"
A1: КАЛЬКУЛЯТОР ДЛЯ РАСЧЕТА ПОЛИЭТИЛЕНОВЫХ ТРУБ (ПНД)
E3: ООО "АТЛАНТ" Производитель стыковых сварочных аппаратов "ATLANT" для полиэтиленовых труб от 40 до 1600 мм +7 (843) 204-11-98 zapros@atlant-tat.com www.atlant-tat.com
E4: Производитель стыковых сварочных аппаратов "ATLANT" для полиэтиленовых труб от 40 до 1600 мм
E6: 7 (843) 204-11-98
E7: zapros@atlant-tat.com
E8: www.atlant-tat.com
A10: СТОИМОСТЬ | H10: ДОСТАВКА | J10: ВМЕСТИМОСТЬ
A11: № | B11: Диаметр, мм | C11: SDR | D11: Кол-во метров, м | E11: Цена за 1 КГ, руб | F11: Цена за 1 МЕТР, руб | G11: Всего, руб | H11: Цена доставки, руб | I11: Цена за 1 КГ с учетом доставки на месте, руб | J11: Длина отрезков, м | K11: Кол-во отрезков, шт | L11: Вместимость в фуру, м | M11: Заполняемость 1 фуры, % | N11: Вес 1 метра трубы, кг | O11: Общий тоннаж, тонн
A12: 1 | F12: =IFERROR(IF(ISBLANK(E12),"",E12*N12),"") | G12: =IFERROR(IFERROR(O12*E12,"")*1000,"") | I12: =IF(ISBLANK(B12),"",E12+IFERROR(G12/$G$22*$H$12/O12/1000,0)) | K12: =IFERROR(IF(ISBLANK(D12),"",D12/J12),0) | L12: =IFERROR(VLOOKUP(B12,Вместимость!$A$1:$E$23,3),"") | M12: =IFERROR(IFERROR(VLOOKUP(B12,Вместимость!$A$1:$E$23,5,0),"")*K12,"") | N12: {=IF(ISBLANK(B12),"",INDEX('КГ НА М'!C1:C331,MATCH(B12&C12,'КГ НА М'!A1:A331&'КГ НА М'!B1:B331,0)))} | O12: =IFERROR(IF(ISBLANK(D12),"",D12*N12/1000),"")
A13: 2 | F13: =IFERROR(IF(ISBLANK(E13),"",E13*N13),"") | G13: =IFERROR(IFERROR(O13*E13,"")*1000,"") | I13: =IF(ISBLANK(B13),"",E13+IFERROR(G13/$G$22*$H$12/O13/1000,0)) | K13: =IFERROR(IF(ISBLANK(D13),"",D13/J13),0) | L13: =IFERROR(VLOOKUP(B13,Вместимость!$A$1:$E$23,3),"") | M13: =IFERROR(IFERROR(VLOOKUP(B13,Вместимость!$A$1:$E$23,5,0),"")*K13,"") | N13: {=IF(ISBLANK(B13),"",INDEX('КГ НА М'!C2:C332,MATCH(B13&C13,'КГ НА М'!A2:A332&'КГ НА М'!B2:B332,0)))} | O13: =IFERROR(IF(ISBLANK(D13),"",D13*N13/1000),"")
A14: 3 | F14: =IFERROR(IF(ISBLANK(E14),"",E14*N14),"") | G14: =IFERROR(IFERROR(O14*E14,"")*1000,"") | I14: =IF(ISBLANK(B14),"",E14+IFERROR(G14/$G$22*$H$12/O14/1000,0)) | K14: =IFERROR(IF(ISBLANK(D14),"",D14/J14),0) | L14: =IFERROR(VLOOKUP(B14,Вместимость!$A$1:$E$23,3),"") | M14: =IFERROR(IFERROR(VLOOKUP(B14,Вместимость!$A$1:$E$23,5,0),"")*K14,"") | N14: {=IF(ISBLANK(B14),"",INDEX('КГ НА М'!C3:C333,MATCH(B14&C14,'КГ НА М'!A3:A333&'КГ НА М'!B3:B333,0)))} | O14: =IFERROR(IF(ISBLANK(D14),"",D14*N14/1000),"")
A15: 4 | F15: =IFERROR(IF(ISBLANK(E15),"",E15*N15),"") | G15: =IFERROR(IFERROR(O15*E15,"")*1000,"") | I15: =IF(ISBLANK(B15),"",E15+IFERROR(G15/$G$22*$H$12/O15/1000,0)) | K15: =IFERROR(IF(ISBLANK(D15),"",D15/J15),0) | L15: =IFERROR(VLOOKUP(B15,Вместимость!$A$1:$E$23,3),"") | M15: =IFERROR(IFERROR(VLOOKUP(B15,Вместимость!$A$1:$E$23,5,0),"")*K15,"") | N15: {=IF(ISBLANK(B15),"",INDEX('КГ НА М'!C4:C334,MATCH(B15&C15,'КГ НА М'!A4:A334&'КГ НА М'!B4:B334,0)))} | O15: =IFERROR(IF(ISBLANK(D15),"",D15*N15/1000),"")
A16: 5 | F16: =IFERROR(IF(ISBLANK(E16),"",E16*N16),"") | G16: =IFERROR(IFERROR(O16*E16,"")*1000,"") | I16: =IF(ISBLANK(B16),"",E16+IFERROR(G16/$G$22*$H$12/O16/1000,0)) | K16: =IFERROR(IF(ISBLANK(D16),"",D16/J16),0) | L16: =IFERROR(VLOOKUP(B16,Вместимость!$A$1:$E$23,3),"") | M16: =IFERROR(IFERROR(VLOOKUP(B16,Вместимость!$A$1:$E$23,5,0),"")*K16,"") | N16: {=IF(ISBLANK(B16),"",INDEX('КГ НА М'!C5:C335,MATCH(B16&C16,'КГ НА М'!A5:A335&'КГ НА М'!B5:B335,0)))} | O16: =IFERROR(IF(ISBLANK(D16),"",D16*N16/1000),"")
A17: 6 | F17: =IFERROR(IF(ISBLANK(E17),"",E17*N17),"") | G17: =IFERROR(IFERROR(O17*E17,"")*1000,"") | I17: =IF(ISBLANK(B17),"",E17+IFERROR(G17/$G$22*$H$12/O17/1000,0)) | K17: =IFERROR(IF(ISBLANK(D17),"",D17/J17),0) | L17: =IFERROR(VLOOKUP(B17,Вместимость!$A$1:$E$23,3),"") | M17: =IFERROR(IFERROR(VLOOKUP(B17,Вместимость!$A$1:$E$23,5,0),"")*K17,"") | N17: {=IF(ISBLANK(B17),"",INDEX('КГ НА М'!C6:C336,MATCH(B17&C17,'КГ НА М'!A6:A336&'КГ НА М'!B6:B336,0)))} | O17: =IFERROR(IF(ISBLANK(D17),"",D17*N17/1000),"")
A18: 7 | F18: =IFERROR(IF(ISBLANK(E18),"",E18*N18),"") | G18: =IFERROR(IFERROR(O18*E18,"")*1000,"") | I18: =IF(ISBLANK(B18),"",E18+IFERROR(G18/$G$22*$H$12/O18/1000,0)) | K18: =IFERROR(IF(ISBLANK(D18),"",D18/J18),0) | L18: =IFERROR(VLOOKUP(B18,Вместимость!$A$1:$E$23,3),"") | M18: =IFERROR(IFERROR(VLOOKUP(B18,Вместимость!$A$1:$E$23,5,0),"")*K18,"") | N18: {=IF(ISBLANK(B18),"",INDEX('КГ НА М'!C7:C337,MATCH(B18&C18,'КГ НА М'!A7:A337&'КГ НА М'!B7:B337,0)))} | O18: =IFERROR(IF(ISBLANK(D18),"",D18*N18/1000),"")
A19: 8 | F19: =IFERROR(IF(ISBLANK(E19),"",E19*N19),"") | G19: =IFERROR(IFERROR(O19*E19,"")*1000,"") | I19: =IF(ISBLANK(B19),"",E19+IFERROR(G19/$G$22*$H$12/O19/1000,0)) | K19: =IFERROR(IF(ISBLANK(D19),"",D19/J19),0) | L19: =IFERROR(VLOOKUP(B19,Вместимость!$A$1:$E$23,3),"") | M19: =IFERROR(IFERROR(VLOOKUP(B19,Вместимость!$A$1:$E$23,5,0),"")*K19,"") | N19: {=IF(ISBLANK(B19),"",INDEX('КГ НА М'!C8:C338,MATCH(B19&C19,'КГ НА М'!A8:A338&'КГ НА М'!B8:B338,0)))} | O19: =IFERROR(IF(ISBLANK(D19),"",D19*N19/1000),"")
A20: 9 | F20: =IFERROR(IF(ISBLANK(E20),"",E20*N20),"") | G20: =IFERROR(IFERROR(O20*E20,"")*1000,"") | I20: =IF(ISBLANK(B20),"",E20+IFERROR(G20/$G$22*$H$12/O20/1000,0)) | K20: =IFERROR(IF(ISBLANK(D20),"",D20/J20),0) | L20: =IFERROR(VLOOKUP(B20,Вместимость!$A$1:$E$23,3),"") | M20: =IFERROR(IFERROR(VLOOKUP(B20,Вместимость!$A$1:$E$23,5,0),"")*K20,"") | N20: {=IF(ISBLANK(B20),"",INDEX('КГ НА М'!C9:C339,MATCH(B20&C20,'КГ НА М'!A9:A339&'КГ НА М'!B9:B339,0)))} | O20: =IFERROR(IF(ISBLANK(D20),"",D20*N20/1000),"")
A21: 10 | F21: =IFERROR(IF(ISBLANK(E21),"",E21*N21),"") | G21: =IFERROR(IFERROR(O21*E21,"")*1000,"") | I21: =IF(ISBLANK(B21),"",E21+IFERROR(G21/$G$22*$H$12/O21/1000,0)) | K21: =IFERROR(IF(ISBLANK(D21),"",D21/J21),0) | L21: =IFERROR(VLOOKUP(B21,Вместимость!$A$1:$E$23,3),"") | M21: =IFERROR(IFERROR(VLOOKUP(B21,Вместимость!$A$1:$E$23,5,0),"")*K21,"") | N21: {=IF(ISBLANK(B21),"",INDEX('КГ НА М'!C10:C340,MATCH(B21&C21,'КГ НА М'!A10:A340&'КГ НА М'!B10:B340,0)))} | O21: =IFERROR(IF(ISBLANK(D21),"",D21*N21/1000),"")
B22: Итоги | G22: =SUM(G12:G21) -> 0 | M22: =SUM(M12:M21) -> 0 | O22: =SUM(O12:O21) -> 0

Sheet Инструкция
A1: ООО "АТЛАНТ" Производитель стыковых сварочных аппаратов ATLANT от 40 мм до 1600мм
A9: Диаметр, мм | C9: Заполняем диаметры труб в мм
A10: SDR | C10: Заполняем SDR труб
A11: Кол-во метров, м | C11: Заполняем объем каждой трубы в метрах
A12: Цена за 1 КГ, руб | C12: Заполняем цену за 1 КГ трубы
A13: Цена за 1 МЕТР, руб | C13: Автоматически рассчитывается цена каждой за 1 погонный метр
A14: Всего, руб | C14: Автоматически рассчитывается общая стоимость каждой трубы с учетом объема
A15: Цена доставки, руб | C15: Заполняем общую стоиомость доставки (цена 1 фуры * количество необходимых фур), считаем в ручную
A16: Цена за 1 КГ с учетом доставки на месте, руб | C16: Автоматически рассчитывается цена за 1 КГ каждой трубы, с учетом общей стоимости доставки (чем больше общий тоннаж, тем дешевле ложится доставка на 1 КГ)
A17: Длина отрезков, м | C17: Заполняем длину отрезков по каждому диаметру трубы (например 12м, 13м)
A18: Кол-во отрезков, шт | C18: Автоматически рассчитывается количество отрезков Должно быть кратно (кол-во метров/ длину отрезков), в примере, 225 трубы у нас получается 33,4 шт. Мы должны округлить до 33шт. или до 34 шт. Соответсвенно, общий объем 225 трубы должен быть 429 м или 442м, но никак не 434м.
A19: Вместимость в фуру, м | C19: Автоматически рассчитывается количество метров (условия - отрезки труб 12 м), которое по стандарту вмещается в еврофуру
A20: Заполняемость 1 фуры, % | C20: Автоматически рассчитывается объем занимаемый трубами каждого диаметра в 1-ой еврфоуре в процентах без учета "матрешки". В примере общий объем занимаемый трубами 105,81%, больше 100%, в 1 еврофуру не помещается, нам потребуется 1,06 еврофуры, = 2 еврофуры. Но мы можем "замотрешить" 110 трубу в 225, а 225 трубу в 315. И все поместится в 1 еврофуру.
... A22: Общий тоннаж, тонн | C22: Автоматически рассчитывается общий тоннаж. В случае, если мы прошли по объему, мы должно пройти по весу, еврофура 20 тонн, если у нас по объему помещается, но тоннаж например - 25 тонн, то все равно потребуется 2 еврофуры.

Sheet Сегментные фитинги
C2: ПРАЙС СЕГМЕНТЫНЕ (СВАРНЫЕ) ПНД ФИТИНГИ
H3: СКИДКА | I3: 0.25
C4: 8 (843) 204-11-98 | E4: zapros@atlant-tat.com | H4: www.atlant-tat.com
C5: Бонус - калькулятор для расчета ПНД труб | H5: Скачать
B6: ОСТАВИТЬ ЗАЯВКУ ОНЛАЙН
B7: цены указаны в рублях с НДС
B8: СОДЕРЖАНИЕ
C9: Втулка сварная удлиненная ПЭ100
C10: Ø, мм | D10: L (мм) | E10: SDR 11 PN 16 | F10: SDR 13,6 PN 12,5 | G10: SDR 17 PN 10 | H10: SDR 21 PN 8 | I10: SDR 26 PN 6
C11: 50 | D11: 100 | E11: =IFERROR((1-$I$3)*'Цены сегментыне'!D23,"по запросу") -> 305.19231 | F11: =IFERROR((1-$I$3)*'Цены сегментыне'!E23,"по запросу") -> 302.53846 | G11: =IFERROR((1-$I$3)*'Цены сегментыне'!F23,"по запросу") -> 294.57692 | H11: =IFERROR((1-$I$3)*'Цены сегментыне'!G23,"по запросу") -> 291.92308 | I11: =IFERROR((1-$I$3)*'Цены сегментыне'!H23,"по запросу") -> 289.26923
C12: 63 | D12: 100 | E12: =IFERROR((1-$I$3)*'Цены сегментыне'!D24,"по запросу") -> 278.65385 | F12: =IFERROR((1-$I$3)*'Цены сегментыне'!E24,"по запросу") -> 272.01923 | G12: =IFERROR((1-$I$3)*'Цены сегментыне'!F24,"по запросу") -> 262.73077 | H12: =IFERROR((1-$I$3)*'Цены сегментыне'!G24,"по запросу") -> 258.75 | I12: =IFERROR((1-$I$3)*'Цены сегментыне'!H24,"по запросу") -> 256.09615
C13: 75 | D13: 100 | E13: =IFERROR((1-$I$3)*'Цены сегментыне'!D25,"по запросу") -> 623.65385 | F13: =IFERROR((1-$I$3)*'Цены сегментыне'!E25,"по запросу") -> 615.69231 | G13: =IFERROR((1-$I$3)*'Цены сегментыне'!F25,"по запросу") -> 597.11538 | H13: =IFERROR((1-$I$3)*'Цены сегментыне'!G25,"по запросу") -> 591.80769 | I13: =IFERROR((1-$I$3)*'Цены сегментыне'!H25,"по запросу") -> 586.5
C14: 90 | D14: 100 | E14: =IFERROR((1-$I$3)*'Цены сегментыне'!D26,"по запросу") -> 651.51923 | F14: =IFERROR((1-$I$3)*'Цены сегментыне'!E26,"по запросу") -> 639.57692 | G14: =IFERROR((1-$I$3)*'Цены сегментыне'!F26,"по запросу") -> 647.53846 | H14: =IFERROR((1-$I$3)*'Цены сегментыне'!G26,"по запросу") -> 639.57692 | I14: =IFERROR((1-$I$3)*'Цены сегментыне'!H26,"по запросу") -> 632.94231
C15: 110 | D15: 150 | E15: =IFERROR((1-$I$3)*'Цены сегментыне'!D27,"по запросу") -> 773.59615 | F15: =IFERROR((1-$I$3)*'Цены сегментыне'!E27,"по запросу") -> 747.05769 | G15: =IFERROR((1-$I$3)*'Цены сегментыне'!F27,"по запросу") -> 655.5 | H15: =IFERROR((1-$I$3)*'Цены сегментыне'!G27,"по запросу") -> 635.59615 | I15: =IFERROR((1-$I$3)*'Цены сегментыне'!H27,"по запросу") -> 619.67308
C16: 125 | D16: 150 | E16: =IFERROR((1-$I$3)*'Цены сегментыне'!D28,"по запросу") -> 1531.2692 | F16: =IFERROR((1-$I$3)*'Цены сегментыне'!E28,"по запросу") -> 1491.4615 | G16: =IFERROR((1-$I$3)*'Цены сегментыне'!F28,"по запросу") -> 1470.2308 | H16: =IFERROR((1-$I$3)*'Цены сегментыне'!G28,"по запросу") -> 1443.6923 | I16: =IFERROR((1-$I$3)*'Цены сегментыне'!H28,"по запросу") -> 1421.1346
C17: 140 | D17: 150 | E17: =IFERROR((1-$I$3)*'Цены сегментыне'!D29,"по запросу") -> 2113.7885 | F17: =IFERROR((1-$I$3)*'Цены сегментыне'!E29,"по запросу") -> 2066.0192 | G17: =IFERROR((1-$I$3)*'Цены сегментыне'!F29,"по запросу") -> 1840.4423 | H17: =IFERROR((1-$I$3)*'Цены сегментыне'!G29,"по запросу") -> 1805.9423 | I17: =IFERROR((1-$I$3)*'Цены сегментыне'!H29,"по запросу") -> 1778.0769
C18: 160 | D18: 200 | E18: =IFERROR((1-$I$3)*'Цены сегментыне'!D30,"по запросу") -> 1460.9423 | F18: =IFERROR((1-$I$3)*'Цены сегментыне'!E30,"по запросу") -> 1378.6731 | G18: =IFERROR((1-$I$3)*'Цены сегментыне'!F30,"по запросу") -> 1285.7885 | H18: =IFERROR((1-$I$3)*'Цены сегментыне'!G30,"по запросу") -> 1230.0577 | I18: =IFERROR((1-$I$3)*'Цены сегментыне'!H30,"по запросу") -> 1184.9423
C19: 180 | D19: 200 | E19: =IFERROR((1-$I$3)*'Цены сегментыне'!D31,"по запросу") -> 2898 | F19: =IFERROR((1-$I$3)*'Цены сегментыне'!E31,"по запросу") -> 2797.1538 | G19: =IFERROR((1-$I$3)*'Цены сегментыне'!F31,"по запросу") -> 2513.1923 | H19: =IFERROR((1-$I$3)*'Цены сегментыне'!G31,"по запросу") -> 2440.2115 | I19: =IFERROR((1-$I$3)*'Цены сегментыне'!H31,"по запросу") -> 2380.5
C20: 200 | D20: 230 | E20: =IFERROR((1-$I$3)*'Цены сегментыне'!D32,"по запросу") -> 2299.5577 | F20: =IFERROR((1-$I$3)*'Цены сегментыне'!E32,"по запросу") -> 2194.7308 | G20: =IFERROR((1-$I$3)*'Цены сегментыне'!F32,"по запросу") -> 1974.4615 | H20: =IFERROR((1-$I$3)*'Цены сегментыне'!G32,"по запросу") -> 1904.1346 | I20: =IFERROR((1-$I$3)*'Цены сегментыне'!H32,"по запросу") -> 1843.0962
C21: 225 | D21: 230 | E21: =IFERROR((1-$I$3)*'Цены сегментыне'!D33,"по запросу") -> 2356.6154 | F21: =IFERROR((1-$I$3)*'Цены сегментыне'!E33,"по запросу") -> 2233.2115 | G21: =IFERROR((1-$I$3)*'Цены сегментыне'!F33,"по запросу") -> 2001 | H21: =IFERROR((1-$I$3)*'Цены сегментыне'!G33,"по запросу") -> 1914.75 | I21: =IFERROR((1-$I$3)*'Цены сегментыне'!H33,"по запросу") -> 1840.4423
C22: 250 | D22: 230 | E22: =IFERROR((1-$I$3)*'Цены сегментыне'!D34,"по запросу") -> 3550.8462 | F22: =IFERROR((1-$I$3)*'Цены сегментыне'!E34,"по запросу") -> 3381 | G22: =IFERROR((1-$I$3)*'Цены сегментыне'!F34,"по запросу") -> 3022.7308 | H22: =IFERROR((1-$I$3)*'Цены сегментыне'!G34,"по запросу") -> 2899.3269 | I22: =IFERROR((1-$I$3)*'Цены сегментыне'!H34,"по запросу") -> 2802.4615
... C35: 1200 | D35: 800 | E35: =IFERROR((1-$I$3)*'Цены сегментыне'!D47,"по запросу") -> по запросу | F35: =IFERROR((1-$I$3)*'Цены сегментыне'!E47,"по запросу") -> по запросу | G35: =IFERROR((1-$I$3)*'Цены сегментыне'!F47,"по запросу") -> по запросу | H35: =IFERROR((1-$I$3)*'Цены сегментыне'!G47,"по запросу") -> по запросу | I35: =IFERROR((1-$I$3)*'Цены сегментыне'!H47,"по запросу") -> по запросу
C36: Отвод сварной 5° - 45° 2-х сегментный ПЭ100 | J36: Отвод сварной 45° - 90° 3-х сегментный ПЭ100
C37: Ø, мм | D37: L (мм) | E37: SDR 11 PN 16 | F37: SDR 13,6 PN 12,5 | G37: SDR 17 PN 10 | H37: SDR 21 PN 8 | I37: SDR 26 PN 6 | J37: Ø, мм | K37: L (мм) | L37: SDR 11 PN 16 | M37: SDR 13,6 PN 12,5 | N37: SDR 17 PN 10 | O37: SDR 21 PN 8 | P37: SDR 26 PN 6
C38: 50 | D38: 80 | E38: =IFERROR((1-$I$3)*'Цены сегментыне'!D50,"по запросу") -> 134.01923 | F38: =IFERROR((1-$I$3)*'Цены сегментыне'!E50,"по запросу") -> 126.05769 | G38: =IFERROR((1-$I$3)*'Цены сегментыне'!F50,"по запросу") -> 115.44231 | H38: =IFERROR((1-$I$3)*'Цены сегментыне'!G50,"по запросу") -> 110.13462 | I38: =IFERROR((1-$I$3)*'Цены сегментыне'!H50,"по запросу") -> 103.5 | J38: 50 | K38: 80 | L38: =IFERROR((1-$I$3)*'Цены сегментыне'!K50,"по запросу") -> 241.5 | M38: =IFERROR((1-$I$3)*'Цены сегментыне'!L50,"по запросу") -> 228.23077 | N38: =IFERROR((1-$I$3)*'Цены сегментыне'!M50,"по запросу") -> 212.30769 | O38: =IFERROR((1-$I$3)*'Цены сегментыне'!N50,"по запросу") -> 203.01923 | P38: =IFERROR((1-$I$3)*'Цены сегментыне'!O50,"по запросу") -> 196.38462
C39: 63 | D39: 80 | E39: =IFERROR((1-$I$3)*'Цены сегментыне'!D51,"по запросу") -> 187.09615 | F39: =IFERROR((1-$I$3)*'Цены сегментыне'!E51,"по запросу") -> 172.5 | G39: =IFERROR((1-$I$3)*'Цены сегментыне'!F51,"по запросу") -> 157.90385 | H39: =IFERROR((1-$I$3)*'Цены сегментыне'!G51,"по запросу") -> 145.96154 | I39: =IFERROR((1-$I$3)*'Цены сегментыне'!H51,"по запросу") -> 139.32692 | J39: 63 | K39: 80 | L39: =IFERROR((1-$I$3)*'Цены сегментыне'!K51,"по запросу") -> 330.40385 | M39: =IFERROR((1-$I$3)*'Цены сегментыне'!L51,"по запросу") -> 309.17308 | N39: =IFERROR((1-$I$3)*'Цены сегментыне'!M51,"по запросу") -> 285.28846 | O39: =IFERROR((1-$I$3)*'Цены сегментыне'!N51,"по запросу") -> 269.36538 | P39: =IFERROR((1-$I$3)*'Цены сегментыне'!O51,"по запросу") -> 258.75
C40: 75 | D40: 70 | E40: =IFERROR((1-$I$3)*'Цены сегментыне'!D52,"по запросу") -> 213.63462 | F40: =IFERROR((1-$I$3)*'Цены сегментыне'!E52,"по запросу") -> 196.38462 | G40: =IFERROR((1-$I$3)*'Цены сегментыне'!F52,"по запросу") -> 177.80769 | H40: =IFERROR((1-$I$3)*'Цены сегментыне'!G52,"по запросу") -> 164.53846 | I40: =IFERROR((1-$I$3)*'Цены сегментыне'!H52,"по запросу") -> 152.59615 | J40: 75 | K40: 70 | L40: =IFERROR((1-$I$3)*'Цены сегментыне'!K52,"по запросу") -> 417.98077 | M40: =IFERROR((1-$I$3)*'Цены сегментыне'!L52,"по запросу") -> 390.11538 | N40: =IFERROR((1-$I$3)*'Цены сегментыне'!M52,"по запросу") -> 358.26923 | O40: =IFERROR((1-$I$3)*'Цены сегментыне'!N52,"по запросу") -> 335.71154 | P40: =IFERROR((1-$I$3)*'Цены сегментыне'!O52,"по запросу") -> 318.46154
C41: 90 | D41: 110 | E41: =IFERROR((1-$I$3)*'Цены сегментыне'!D53,"по запросу") -> 396.75 | F41: =IFERROR((1-$I$3)*'Цены сегментыне'!E53,"по запросу") -> 358.26923 | G41: =IFERROR((1-$I$3)*'Цены сегментыне'!F53,"по запросу") -> 321.11538 | H41: =IFERROR((1-$I$3)*'Цены сегментыне'!G53,"по запросу") -> 293.25 | I41: =IFERROR((1-$I$3)*'Цены сегментыне'!H53,"по запросу") -> 270.69231 | J41: 90 | K41: 150 | L41: =IFERROR((1-$I$3)*'Цены сегментыне'!K53,"по запросу") -> 786.86538 | M41: =IFERROR((1-$I$3)*'Цены сегментыне'!L53,"по запросу") -> 712.55769 | N41: =IFERROR((1-$I$3)*'Цены сегментыне'!M53,"по запросу") -> 636.92308 | O41: =IFERROR((1-$I$3)*'Цены сегментыне'!N53,"по запросу") -> 582.51923 | P41: =IFERROR((1-$I$3)*'Цены сегментыне'!O53,"по запросу") -> 540.05769
C42: 110 | D42: 110 | E42: =IFERROR((1-$I$3)*'Цены сегментыне'!D54,"по запросу") -> 501.57692 | F42: =IFERROR((1-$I$3)*'Цены сегментыне'!E54,"по запросу") -> 453.80769 | G42: =IFERROR((1-$I$3)*'Цены сегментыне'!F54,"по запросу") -> 406.03846 | H42: =IFERROR((1-$I$3)*'Цены сегментыне'!G54,"по запросу") -> 370.21154 | I42: =IFERROR((1-$I$3)*'Цены сегментыне'!H54,"по запросу") -> 337.03846 | J42: 110 | K42: 150 | L42: =IFERROR((1-$I$3)*'Цены сегментыне'!K54,"по запросу") -> 996.51923 | M42: =IFERROR((1-$I$3)*'Цены сегментыне'!L54,"по запросу") -> 899.65385 | N42: =IFERROR((1-$I$3)*'Цены сегментыне'!M54,"по запросу") -> 804.11538 | O42: =IFERROR((1-$I$3)*'Цены сегментыне'!N54,"по запросу") -> 733.78846 | P42: =IFERROR((1-$I$3)*'Цены сегментыне'!O54,"по запросу") -> 671.42308
C43: 125 | D43: 110 | E43: =IFERROR((1-$I$3)*'Цены сегментыне'!D55,"по запросу") -> 667.44231 | F43: =IFERROR((1-$I$3)*'Цены сегментыне'!E55,"по запросу") -> 593.13462 | G43: =IFERROR((1-$I$3)*'Цены сегментыне'!F55,"по запросу") -> 518.82692 | H43: =IFERROR((1-$I$3)*'Цены сегментыне'!G55,"по запросу") -> 469.73077 | I43: =IFERROR((1-$I$3)*'Цены сегментыне'!H55,"по запросу") -> 424.61538 | J43: 125 | K43: 150 | L43: =IFERROR((1-$I$3)*'Цены сегментыне'!K55,"по запросу") -> 1249.9615 | M43: =IFERROR((1-$I$3)*'Цены сегментыне'!L55,"по запросу") -> 1115.9423 | N43: =IFERROR((1-$I$3)*'Цены сегментыне'!M55,"по запросу") -> 981.92308 | O43: =IFERROR((1-$I$3)*'Цены сегментыне'!N55,"по запросу") -> 891.69231 | P43: =IFERROR((1-$I$3)*'Цены сегментыне'!O55,"по запросу") -> 813.40385
