Workbook

Sheet Вес - техничка
B1: Диаметры | C1: SDR 33 | D1: SDR 26 | E1: SDR 21 | F1: SDR 17,6 | G1: SDR 17 | H1: SDR 13,6 | I1: SDR 11 | J1: SDR 9 | K1: SDR 7,4
C2: ПЭ100 PN 5 | D2: ПЭ100 PN 6,3 | E2: ПЭ100 PN 8 | F2: ПЭ100 PN 9,5 | G2: ПЭ100 PN 10 | H2: ПЭ100 PN 12,5 | I2: ПЭ100 PN 16 | J2: ПЭ100 PN 20 | K2: ПЭ100 PN 25
C3: Вес 1 м, кг | D3: Вес 1 м, кг | E3: Вес 1 м, кг | F3: Вес 1 м, кг | G3: Вес 1 м, кг | H3: Вес 1 м, кг | I3: Вес 1 м, кг | J3: Вес 1 м, кг | K3: Вес 1 м, кг
B4: 25 | H4: 0.148 | I4: 0.169 | J4: 0.198 | K4: 0.24
B5: 32 | G5: 0.193 | H5: 0.229 | I5: 0.277 | J5: 0.325 | K5: 0.385
B6: 40 | E6: 0.244 | F6: 0.281 | G6: 0.292 | H6: 0.353 | I6: 0.427 | J6: 0.507 | K6: 0.6
B7: 50 | D7: 0.308 | E7: 0.369 | F7: 0.436 | G7: 0.449 | H7: 0.545 | I7: 0.663 | J7: 0.786 | K7: 0.935
B8: 63 | C8: 0.392 | D8: 0.488 | E8: 0.573 | F8: 0.682 | G8: 0.715 | H8: 0.869 | I8: 1.05 | J8: 1.25 | K8: 1.47
B9: 75 | C9: 0.543 | D9: 0.668 | E9: 0.821 | F9: 0.97 | G9: 1.01 | H9: 1.23 | I9: 1.46 | J9: 1.76 | K9: 2.09
B10: 90 | C10: 0.782 | D10: 0.969 | E10: 1.18 | F10: 1.4 | G10: 1.45 | H10: 1.76 | I10: 2.12 | J10: 2.54 | K10: 3
B11: 110 | C11: 1.16 | D11: 1.42 | E11: 1.77 | F11: 2.07 | G11: 2.16 | H11: 2.61 | I11: 3.14 | J11: 3.78 | K11: 4.49
B12: 125 | C12: 1.5 | D12: 1.83 | E12: 2.26 | F12: 2.66 | G12: 2.75 | H12: 3.37 | I12: 4.08 | J12: 4.87 | K12: 5.78
B13: 140 | C13: 1.87 | D13: 2.31 | E13: 2.83 | F13: 3.35 | G13: 3.46 | H13: 4.22 | I13: 5.08 | J13: 6.12 | K13: 7.27
B14: 160 | C14: 2.41 | D14: 3.03 | E14: 3.71 | F14: 4.35 | G14: 4.51 | H14: 5.5 | I14: 6.67 | J14: 7.97 | K14: 9.46
B15: 180 | C15: 3.05 | D15: 3.78 | E15: 4.66 | F15: 5.47 | G15: 5.71 | H15: 6.98 | I15: 8.43 | J15: 10.1 | K15: 12
B16: 200 | C16: 3.82 | D16: 4.68 | E16: 5.77 | F16: 6.78 | G16: 7.04 | H16: 8.56 | I16: 10.4 | J16: 12.5 | K16: 14.8
B17: 225 | C17: 4.76 | D17: 5.88 | E17: 7.29 | F17: 8.55 | G17: 8.94 | H17: 10.9 | I17: 13.2 | J17: 15.8 | K17: 18.7
B18: 250 | C18: 5.9 | D18: 7.29 | E18: 8.92 | F18: 10.6 | G18: 11 | H18: 13.4 | I18: 16.2 | J18: 19.4 | K18: 23.1
B19: 280 | C19: 7.38 | D19: 9.09 | E19: 11.3 | F19: 13.2 | G19: 13.8 | H19: 16.8 | I19: 20.3 | J19: 24.4 | K19: 28.9
... B24: 500 | C24: 23.4 | D24: 29 | E24: 35.8 | F24: 42 | G24: 43.9 | H24: 53.5 | I24: 64.7 | J24: 77.5 | K24: 92.1
B25: 560 | C25: 29.4 | D25: 36.3 | E25: 44.8 | F25: 52.6 | G25: 55 | H25: 67.1 | I25: 81 | J25: 97.3
B26: 630 | C26: 37.1 | D26: 46 | E26: 56.5 | F26: 66.6 | G26: 69.6 | H26: 84.8 | I26: 103 | J26: 123
B27: 710 | C27: 47.3 | D27: 58.5 | E27: 72.1 | F27: 84.7 | G27: 88.4 | H27: 108 | I27: 131
B28: 800 | C28: 59.9 | D28: 74.1 | E28: 91.4 | F28: 108 | G28: 112 | H28: 137 | I28: 169
B29: 900 | C29: 75.9 | D29: 93.8 | E29: 116 | F29: 136 | G29: 142 | H29: 173
B30: 1000 | C30: 93.5 | D30: 116 | E30: 143 | F30: 268 | G30: 175 | H30: 214
B31: 1200 | C31: 134 | D31: 167 | E31: 206 | F31: 242 | G31: 252

Sheet КГ НА М
C1: SDR
A2: 25 | B2: 41 | C2: -
A3: 32 | B3: 41 | C3: -
A4: 40 | B4: 41 | C4: -
A5: 50 | B5: 41 | C5: -
A6: 63 | B6: 41 | C6: -
A7: 75 | B7: 41 | C7: 0.469
A8: 90 | B8: 41 | C8: 0.63
A9: 110 | B9: 41 | C9: 0.93
A10: 125 | B10: 41 | C10: 1.22
A11: 140 | B11: 41 | C11: 1.53
A12: 160 | B12: 41 | C12: 1.98
A13: 180 | B13: 41 | C13: 2.47
A14: 200 | B14: 41 | C14: 3.03
A15: 225 | B15: 41 | C15: 3.84
A16: 250 | B16: 41 | C16: 4.81
A17: 280 | B17: 41 | C17: 5.96
A18: 315 | B18: 41 | C18: 7.49
... A31: 1600 | B31: 41 | C31: 193
A32: 25 | B32: 33 | C32: -
A33: 32 | B33: 33 | C33: -
A34: 40 | B34: 33 | C34: -
A35: 50 | B35: 33 | C35: -
A36: 63 | B36: 33 | C36: 0.392
A37: 75 | B37: 33 | C37: 0.543
A38: 90 | B38: 33 | C38: 0.782
A39: 110 | B39: 33 | C39: 1.16
A40: 125 | B40: 33 | C40: 1.5
A41: 140 | B41: 33 | C41: 1.87
A42: 160 | B42: 33 | C42: 2.41
A43: 180 | B43: 33 | C43: 3.05
A44: 200 | B44: 33 | C44: 3.82
A45: 225 | B45: 33 | C45: 4.76
A46: 250 | B46: 33 | C46: 5.9
A47: 280 | B47: 33 | C47: 7.38
... A61: 1600 | B61: 33 | C61: 239
A62: 25 | B62: 26 | C62: -
A63: 32 | B63: 26 | C63: -
A64: 40 | B64: 26 | C64: -
A65: 50 | B65: 26 | C65: 0.308
A66: 63 | B66: 26 | C66: 0.488
A67: 75 | B67: 26 | C67: 0.668
A68: 90 | B68: 26 | C68: 0.969
A69: 110 | B69: 26 | C69: 1.42
A70: 125 | B70: 26 | C70: 1.83
A71: 140 | B71: 26 | C71: 2.31
A72: 160 | B72: 26 | C72: 3.03
A73: 180 | B73: 26 | C73: 3.78
A74: 200 | B74: 26 | C74: 4.68
A75: 225 | B75: 26 | C75: 5.88
A76: 250 | B76: 26 | C76: 7.29
... A91: 1600 | B91: 26 | C91: 296
A92: 25 | B92: 21 | C92: -
A93: 32 | B93: 21 | C93: -
A94: 40 | B94: 21 | C94: 0.244
A95: 50 | B95: 21 | C95: 0.369
A96: 63 | B96: 21 | C96: 0.573
A97: 75 | B97: 21 | C97: 0.821
A98: 90 | B98: 21 | C98: 1.18
A99: 110 | B99: 21 | C99: 1.77
A100: 125 | B100: 21 | C100: 2.26
A101: 140 | B101: 21 | C101: 2.83
A102: 160 | B102: 21 | C102: 3.71
A103: 180 | B103: 21 | C103: 4.66
A104: 200 | B104: 21 | C104: 5.77
A105: 225 | B105: 21 | C105: 7.29
... A120: 1400 | B120: 21 | C120: 280
A121: 1600 | B121: 21 | C121: -
A122: 25 | B122: 17.6 | C122: -
A123: 32 | B123: 17.6 | C123: -
A124: 40 | B124: 17.6 | C124: 0.281
A125: 50 | B125: 17.6 | C125: 0.436
A126: 63 | B126: 17.6 | C126: 0.682
A127: 75 | B127: 17.6 | C127: 0.97
A128: 90 | B128: 17.6 | C128: 1.4
A129: 110 | B129: 17.6 | C129: 2.07
A130: 125 | B130: 17.6 | C130: 2.66
A131: 140 | B131: 17.6 | C131: 3.35
A132: 160 | B132: 17.6 | C132: 4.35
A133: 180 | B133: 17.6 | C133: 5.47
A134: 200 | B134: 17.6 | C134: 6.78
A135: 225 | B135: 17.6 | C135: 8.55
... A149: 1200 | B149: 17.6 | C149: 242
A150: 1400 | B150: 17.6 | C150: -
A151: 1600 | B151: 17.6 | C151: -
A152: 25 | B152: 17 | C152: -
A153: 32 | B153: 17 | C153: 0.193
A154: 40 | B154: 17 | C154: 0.292
A155: 50 | B155: 17 | C155: 0.449
A156: 63 | B156: 17 | C156: 0.715
A157: 75 | B157: 17 | C157: 1.01
A158: 90 | B158: 17 | C158: 1.45
A159: 110 | B159: 17 | C159: 2.16
A160: 125 | B160: 17 | C160: 2.75
A161: 140 | B161: 17 | C161: 3.46
A162: 160 | B162: 17 | C162: 4.51
A163: 180 | B163: 17 | C163: 5.71
A164: 200 | B164: 17 | C164: 7.04
... A179: 1200 | B179: 17 | C179: 252
A180: 1400 | B180: 17 | C180: -
...

Sheet Вместимость
B1: Вместимость по количеству | C1: Вместимость по метржу
A2: 63 | B2: 1444 | C2: 17328 | D2: 1 | E2: =D2/B2 -> 0.00069252078
A3: 90 | B3: 676 | C3: 8112 | D3: 1 | E3: =D3/B3 -> 0.0014792899
A4: 110 | B4: 450 | C4: 5400 | D4: 1 | E4: =D4/B4 -> 0.0022222222
A5: 160 | B5: 220 | C5: 2640 | D5: 1 | E5: =D5/B5 -> 0.0045454545
A6: 200 | B6: 123 | C6: 1476 | D6: 1 | E6: =D6/B6 -> 0.0081300813
A7: 225 | B7: 110 | C7: 1320 | D7: 1 | E7: =D7/B7 -> 0.0090909091
A8: 250 | B8: 90 | C8: 1080 | D8: 1 | E8: =D8/B8 -> 0.011111111
A9: 280 | B9: 72 | C9: 864 | D9: 1 | E9: =D9/B9 -> 0.013888889
A10: 315 | B10: 56 | C10: 672 | D10: 1 | E10: =D10/B10 -> 0.017857143
A11: 355 | B11: 42 | C11: 504 | D11: 1 | E11: =D11/B11 -> 0.023809524
A12: 400 | B12: 33 | C12: 396 | D12: 1 | E12: =D12/B12 -> 0.03030303
A13: 450 | B13: 26 | C13: 312 | D13: 1 | E13: =D13/B13 -> 0.038461538
... A23: 1600 | B23: 1 | C23: 12 | D23: 1 | E23: =D23/B23 -> 1

Sheet Прайс  ATLANT
C2: СТЫКОВЫЕ СВАРОЧНЫЕ АППАРАТЫ ATLANT
C3: 8 (843) 204-11-98 zapros@atlant-tat.com www.atlant-tat.com
B4: ФОТО | C4: ДИАМЕТР СВАРКИ | D4: ОПИСАНИЕ АППАРАТОВ | E4: ЦЕНА ПРАЙС, руб. с НДС
B5: ATLANT A 160 Z
C6: 40-160 мм | D6: Аппарат с двумя хомутами и механическим приводом для сварки труб диаметром от 40 до 160 мм. В комплекте: позиционер с механическим приводом; нагревательный элемент с электронным поддержанием и регулятором температуры; торцеватель с электроприводом; контейнер для хранения нагревательного элемента и торцевателя; инструментальный ящик; алюминиевые вкладыши: d 40, 50, 63, 75, 90, 110, 125, 140 мм и ЗИП. | E6: 90000
B7: ATLANT A 160
C8: 40-160 мм | D8: Аппарат с механическим приводом для сварки труб диаметром от 40 до 160 мм. В комплекте: позиционер с механическим приводом; нагревательный элемент с электронным поддержанием и регулятором температуры; торцеватель с электроприводом; контейнер для хранения нагревательного элемента и торцевателя; инструментальный ящик; алюминиевые вкладыши: d 40, 50, 63, 75, 90, 110, 125, 140 мм и ЗИП. | E8: 138000
B9: ATLANT A 160 G
C10: 40-160 мм | D10: Аппарат с гидравлическим приводом для сварки труб диаметром от 40 до 160 мм. В комплекте: позиционер с гидравлическим приводом; нагревательный элемент с электронным поддержанием и регулятором температуры; торцеватель с электроприводом; гидроагрегат с блоком управления; гидравлические шланги – 2 шт.; контейнер для хранения нагревательного элемента и торцевателя; ящик с инструментами; документация; съемные алюминиевые вкладыши: d 40, 50, 63, 75, 90, 110, 125, 140 мм и ЗИП. | E10: 216000
B11: ATLANT A 250
C12: 63-250 мм | D12: Аппарат ATLANT A 250 с механическим приводом для сварки труб диаметром от 63 до 250 мм. В комплекте: позиционер с механическим приводом; нагревательный элемент с электронным поддержанием и регулятором температуры; торцеватель с электроприводом; контейнер для хранения нагревательного элемента и торцевателя; инструментальный ящик; съемные алюминиевые вкладыши: d 63, 75, 90, 110, 125, 140, 160, 180, 200, 225 мм и ЗИП; | E12: 210000
B13: ATLANT A 250 G
C14: 63-250 мм | D14: Аппарат с гидравлическим приводом для стыковой сварки труб диаметром 63-250 мм. В комплекте: позиционер с гидравлическим приводом; нагревательный элемент с электронным поддержанием и регулятором температуры; торцеватель с электроприводом; гидроагрегат с блоком управления; гидравлические шланги – 2 шт.; контейнер для хранения нагревательного элемента и торцевателя; ящик с инструментами; документация; съемные алюминиевые вкладыши: d 63, 75, 90, 110, 125, 140, 160, 180, 200, 225 мм и ЗИП. | E14: 420000
B15: ATLANT 315
C16: 63 - 315 мм | D16: Аппарат с гидравлическим приводом для сварки труб номинальным диаметром от 75 до 315 мм. В комплекте: позиционер с гидравлическим приводом; нагревательный элемент с электронным поддержанием и регулятором температуры; торцеватель с электроприводом; гидроагрегат с блоком управления; гидравлические шланги – 2 шт.; контейнер для хранения нагревательного элемента и торцевателя; ящик с инструментами; документация; съемные алюминиевые вкладыши: d 75, 90, 110, 125, 140, 160, 180, 200, 225, 250, 280 мм и ЗИП. | E16: 528000
B17: ATLANT 500
C18: 160- 500 мм | D18: Для стыковой сварки труб 160-500 мм. В комплекте: позиционер с гидравлическим приводом; нагревательный элемент с электронным поддержанием и регулятором температуры; торцеватель с электроприводом; гидроагрегат с блоком управления; гидравлические шланги – 2 шт.; контейнер для хранения нагревательного элемента и торцевателя; ящик с инструментами; документация; съемные алюминиевые вкладыши: d 160, 180, 200, 225, 250, 280, 315, 355, 400, 450 мм и ЗИП. | E18: 792000
B19: ATLANT A 630
C20: 315-630 мм | D20: Для стыковой сварки труб 315-630 мм. В комплекте: позиционер с гидравлическим приводом; нагревательный элемент с электронным поддержанием и регулятором температуры; торцеватель с электроприводом; гидроагрегат с блоком управления, гидравлические шланги – 2 шт.; контейнер для хранения нагревательного элемента и торцевателя; ящик с инструментами; документация; съемные алюминиевые вкладыши: d 315, 355, 400, 450, 500, 560 мм и ЗИП. | E20: 954000
B21: ATLANT A 800
C22: 400 - 800 мм | D22: Для стыковой сварки труб 400-800 мм. В комплекте: позиционер с гидравлическим приводом; нагревательный элемент с электронным поддержанием и регулятором температуры; торцеватель с электроприводом; гидроагрегат с блоком управления, гидравлические шланги – 2 шт.; контейнер для хранения нагревательного элемента и торцевателя; ящик с инструментами; документация; съемные алюминиевые вкладыши: d 400, 450, 500, 560, 630, 710 мм и ЗИП. | E22: 1992000
B23: ATLANT A 1000
C24: 630-1000 мм | D24: Для стыковой сварки труб 630-1000 мм. В комплекте: позиционер с гидравлическим приводом; нагревательный элемент с электронным поддержанием и регулятором температуры; торцеватель с электроприводом; гидроагрегат с блоком управления, гидравлические шланги – 2 шт.; контейнер для хранения нагревательного элемента и торцевателя; ящик с инструментами; документация; съемные алюминиевые вкладыши: d 630, 710, 800, 900, мм и ЗИП. | E24: 3240000
B25: ATLANT A 1200
C26: 710-1200 мм | D26: Для стыковой сварки труб 710-1200 мм. В комплекте: позиционер с гидравлическим приводом; нагревательный элемент с электронным поддержанием и регулятором температуры; торцеватель с электроприводом; гидроагрегат с блоком управления, гидравлические шланги – 2 шт.; контейнер для хранения нагревательного элемента иторцевателя; ящик с инструментами; документация; съемные алюминиевые вкладыши: d710, 800, 900, 1000 мм и ЗИП. | E26: 4800000
B27: ФОТО | C27: ДИАМЕТР СВАРКИ | D27: ОПИСАНИЕ АППАРАТОВ | E27: ЦЕНА ПРАЙС, руб. с НДС
B28: ATLANT A 1400
C29: 1000 - 1400 мм | D29: Для стыковой сварки труб 1000-1400 мм. В комплекте: позиционер с гидравлическим приводом; нагревательный элемент с электронным поддержанием и регулятором температуры; торцеватель с электроприводом; гидроагрегат с блоком управления, гидравлические шланги – 2 шт.; контейнер для хранения нагревательного элемента иторцевателя; ящик с инструментами; документация; съемные алюминиевые вкладыши: d1000, 1200 мм и ЗИП. | E29: 9500000
B30: ATLANT A 1600
C31: 1000 - 1600 мм | D31: Для стыковой сварки труб 1000-1600 мм. В комплекте: позиционер с гидравлическим приводом; нагревательный элемент с электронным поддержанием и регулятором температуры; торцеватель с электроприводом; гидроагрегат с блоком управления, гидравлические шланги – 2 шт.; контейнер для хранения нагревательного элемента иторцевателя; ящик с инструментами; документация; съемные алюминиевые вкладыши: d1000, 1200, 1400 мм и ЗИП. | E31: 10000000
B32: РЕМОНТНЫЙ КОМПЛЕКТ
C33: для аппаратов 160-1600 мм | D33: Ремонтный комплект (ЗИП*): два 2-х сторонних ножа для торцевателя; Прокладки (для всей гидросистемы); Термопара (датчик температуры); Болт крепления хомутов; Инструменты; Щуп. *Комплектация ЗИП у механических и гадравлических аппаратов отличается | E33: Входит в комплектацию аппаратов
B34: *Гарантия 3 года (1 год полная гарантия на запчасти и ремонт + 2 года на ремонт)
B36: ФОТО | C36: МОДЕЛЬ | D36: ДОПОЛНИТЕЛЬНОЕ ОБОРУДОВАНИЕ | E36: ЦЕНА ПРАЙС, руб. с НДС
B37: БЛОК ПРОТКОЛИРОВАНИЯ ATLANT
C38: для аппаратов от 160 до 1600 | D38: Регистратор параметров сварки полиэтиленовых труб стыковыми сварочными аппаратами «Атлант». Универсальный блок протоколирования для стыковых сварочных аппаратов. Адаптируем к любым маркам аппаратов Регистратор предназначен для записи параметров сварки полиэтиленовых труб с регистрацией времени сварки, имени оператора и контроля температуры и давления с записью в файл. Питание Регистратора осуществляется от сети 220в. | E38: 210000
B39: КРАН-БАЛКА ATLANT
C40: для 500 аппарата | D40: Подъемный механизм для торцевателя и нагревательного элемента стыкового сварочного аппарата. Сам механизм в действие приводится благодаря приводу, регулируемому пультом управления. Осуществить процесс торцовки и сваривания труб больших диаметров сможет один сварщик не привлекая крупногабаритную технику. | E40: 72000
C41: для 630 аппарата | E41: 84000
C42: для 800 аппарата | E42: 108000
C43: для1000 аппарата | E43: 204000
B44: ФЛАНЦЕВЫЙ АДАПТЕР
C45: до 160 мм | D45: Фланцевый адаптер до 160 мм | E45: 26400
C46: до 250 мм | D46: Фланцевый адаптер до 250 мм | E46: 32400
C47: до 315 мм | D47: Фланцевый адаптер до 315 мм | E47: 45600
C48: до 500 мм | D48: Фланцевый адаптер до 500 мм | E48: 70800
C49: до 630 мм | D49: Фланцевый адаптер до 630 мм | E49: 96000
C50: до 800 мм | D50: Фланцевый адаптер до 800 мм | E50: 192000
C51: до 1000 мм | D51: Фланцевый адаптер железн. до 1000 мм | E51: 190000
C52: до 1000 мм | D52: Фланцевый адаптер алюмин. до 1000 мм | E52: 290000
C53: до 1200 мм | D53: Фланцевый адаптер алюмин. до 1200 мм | E53: 370000
B54: ОПОРНЫЕ РОЛИКИ
C55: до 315 мм | D55: Ролик предназначен для выравнивания соединяемых ПНД труб во время стыковой сварки. Снижают нагрузку на сварочный аппарат и защищают трубы от механических повреждений. Опорный ролик до 315 мм | E55: 15000
C56: до 630 мм | D56: Опорный ролик до 630 мм | E56: 21500
C57: до 1200 мм | D57: Опорный ролик до 1200 мм | E57: 38400
B58: АТТЕСТАЦИЯ НАКС
C59: от 160 до 1600мм | D59: Аттестация сварочного оборудования На основании требований РД 03-614-03 «Порядок применения сварочного оборудования при изготовлении, монтаже, ремонте и реконструкции технических устройств для опасных производственных объектов», аттестация сварочного оборудования, используемого при изготовлении, монтаже, ремонте и реконструкции технических устройств, для опасных производственных объектов, является обязательной. Главная цель аттестации сварочного оборудования – независимая проверка его способности обеспечить выполнение качественных сварных швов. | E59: от 27 000 до 30 000

Sheet Прайс  ATLANT PRO
C2: СТЫКОВЫЕ СВАРОЧНЫЕ АППАРАТЫ ATLANT PRO
C3: 8 (843) 204-11-98 zapros@atlant-tat.com www.atlant-tat.com
B4: ФОТО | C4: ДИАМЕТР СВАРКИ | D4: ОПИСАНИЕ | E4: ЦЕНА ПРАЙС, руб. с НДС
B5: ATLANT A 160 G PRO
C6: 40-160 мм | D6: Аппарат с гидравлическим приводом для сварки труб диаметром от 40 до 160 мм. В комплекте: позиционер с гидравлическим приводом; нагревательный элемент с электронным поддержанием и регулятором температуры; торцеватель с электроприводом; гидроагрегат с блоком управления; гидравлические шланги – 2 шт.; контейнер для хранения нагревательного элемента и торцевателя; ящик с инструментами; документация; съемные алюминиевые вкладыши: d 40, 50, 63, 75, 90, 110, 125, 140 мм и ЗИП. | E6: 350000
B7: ATLANT A 250 G PRO
C8: 63-250 мм | D8: Аппарат с гидравлическим приводом для стыковой сварки труб диаметром 63-250 мм. В комплекте: позиционер с гидравлическим приводом; нагревательный элемент с электронным поддержанием и регулятором температуры; торцеватель с электроприводом; гидроагрегат с блоком управления; гидравлические шланги – 2 шт.; контейнер для хранения нагревательного элемента и торцевателя; ящик с инструментами; документация; съемные алюминиевые вкладыши: d 63, 75, 90, 110, 125, 140, 160, 180, 200, 225 мм и ЗИП. | E8: 600000
B9: ATLANT A 315 PRO
C10: 63 - 315 мм | D10: Аппарат с гидравлическим приводом для сварки труб номинальным диаметром от 63 до 315 мм. В комплекте: позиционер с гидравлическим приводом; нагревательный элемент с электронным поддержанием и регулятором температуры; торцеватель с электроприводом; гидроагрегат с блоком управления; гидравлические шланги – 2 шт.; контейнер для хранения нагревательного элемента и торцевателя; ящик с инструментами; документация; съемные алюминиевые вкладыши: d 63, 75, 90, 110, 125, 140, 160, 180, 200, 225, 250, 280мм и ЗИП. | E10: 715000
B11: ATLANT 500
C12: 160- 500 мм | D12: Для стыковой сварки труб 160-500 мм. В комплекте: позиционер с гидравлическим приводом; нагревательный элемент с электронным поддержанием и регулятором температуры; торцеватель с электроприводом; гидроагрегат с блоком управления; гидравлические шланги – 2 шт.; контейнер для хранения нагревательного элемента и торцевателя; ящик с инструментами; документация; съемные алюминиевые вкладыши: d 160, 180, 200, 225, 250, 280, 315, 355, 400, 450 мм и ЗИП. | E12: 1150000
B13: ATLANT A 630 PRO
C14: 315-630 мм | D14: Для стыковой сварки труб 315-630 мм. В комплекте: позиционер с гидравлическим приводом; нагревательный элемент с электронным поддержанием и регулятором температуры; торцеватель с электроприводом; гидроагрегат с блоком управления, гидравлические шланги – 2 шт.; контейнер для хранения нагревательного элемента и торцевателя; ящик с инструментами; документация; съемные алюминиевые вкладыши: d 315, 355, 400, 450, 500, 560 мм и ЗИП. | E14: 1400000
B15: ATLANT A 800 PRO
C16: 400-800 мм | D16: Для стыковой сварки труб 400-800 мм. В комплекте: позиционер с гидравлическим приводом; нагревательный элемент с электронным поддержанием и регулятором температуры; торцеватель с электроприводом; гидроагрегат с блоком управления, гидравлические шланги – 2 шт.; контейнер для хранения нагревательного элемента и торцевателя; ящик с инструментами; документация; съемные алюминиевые вкладыши: d 400, 450, 500, 560, 630, 710 мм и ЗИП. | E16: 2900000
B17: ATLANT A 1000 PRO
C18: 630-1000 мм | D18: Для стыковой сварки труб 630-1000 мм. В комплекте: позиционер с гидравлическим приводом; нагревательный элемент с электронным поддержанием и регулятором температуры; торцеватель с электроприводом; гидроагрегат с блоком управления, гидравлические шланги – 2 шт.; контейнер для хранения нагревательного элемента и торцевателя; ящик с инструментами; документация; съемные алюминиевые вкладыши: d 630, 710, 800, 900 мм и ЗИП. | E18: 2900000
B19: ATLANT A 1200 PRO
C20: 710-1200 мм | D20: Для стыковой сварки труб 710-1200 мм. В комплекте: позиционер с гидравлическим приводом; нагревательный элемент с электронным поддержанием и регулятором температуры; торцеватель с электроприводом; гидроагрегат с блоком управления, гидравлические шланги – 2 шт.; контейнер для хранения нагревательного элемента и торцевателя; ящик с инструментами; документация; съемные алюминиевые вкладыши: d 710, 800, 900, 1000 мм и ЗИП. | E20: 5900000
B21: ATLANT A 1400 PRO
C22: 1000-1400 мм | D22: Для стыковой сварки труб 1000-1400 мм. В комплекте: позиционер с гидравлическим приводом; нагревательный элемент с электронным поддержанием и регулятором температуры; торцеватель с электроприводом; гидроагрегат с блоком управления, гидравлические шланги – 2 шт.; контейнер для хранения нагревательного элемента и торцевателя; ящик с инструментами; документация; съемные алюминиевые вкладыши: d 1000, 1200 мм и ЗИП. | E22: 10000000
B23: ATLANT A 1600 PRO
C24: 1000-1600 мм | D24: Для стыковой сварки труб 1000-1600 мм. В комплекте: позиционер с гидравлическим приводом; нагревательный элемент с электронным поддержанием и регулятором температуры; торцеватель с электроприводом; гидроагрегат с блоком управления, гидравлические шланги – 2 шт.; контейнер для хранения нагревательного элемента и торцевателя; ящик с инструментами; документация; съемные алюминиевые вкладыши: d 1000, 1200, 1400 мм и ЗИП. | E24: 12000000

Sheet Трубы ПНД ГОСТ (газ, вода)
D2: ПРАЙС ПОЛИЭТИЛЕНОВЫЕ ТРУБЫ ГОСТ
D3: 8 (843) 204-11-98 | F3: zapros@atlant-tat.com | J3: www.atlant-tat.com
D4: Бонус | F4: Калькулятор для расчета ПНД труб | J4: Скачать
D5: Расчет заявки | F5: Направьте заявку Online | J5: Отправить
B6: Цена за 1 кг зависит от: назначения трубы: вода, газ, техническая; диаметра трубы (25-50мм, 63-800мм, 900-1200мм); толщины стенки трубы (sdr 7,4-9, sdr 11-26, sdr 33). | I6: ЦЕНА ЗА 1 КГ | J6: 155
B7: Диаметры | C7: SDR 33 | D7: SDR 26 | E7: SDR 21 | F7: SDR 17,6 | G7: SDR 17 | H7: SDR 13,6 | I7: SDR 11 | J7: SDR 9 | K7: SDR 7,4
C8: ПЭ100 PN 5 | D8: ПЭ100 PN 6,3 | E8: ПЭ100 PN 8 | F8: ПЭ100 PN 9,5 | G8: ПЭ100 PN 10 | H8: ПЭ100 PN 12,5 | I8: ПЭ100 PN 16 | J8: ПЭ100 PN 20 | K8: ПЭ100 PN 25
C9: Цена за п.м. | D9: Цена за п.м. | E9: Цена за п.м. | F9: Цена за п.м. | G9: Цена за п.м. | H9: Цена за п.м. | I9: Цена за п.м. | J9: Цена за п.м. | K9: Цена за п.м.
B10: 25 мм | H10: ='Вес - ГОСТ'!H5*'Трубы ПНД ГОСТ (газ, вода)'!$J$6 -> 22.94 | I10: ='Вес - ГОСТ'!I5*'Трубы ПНД ГОСТ (газ, вода)'!$J$6 -> 26.195 | J10: ='Вес - ГОСТ'!J5*'Трубы ПНД ГОСТ (газ, вода)'!$J$6 -> 30.69 | K10: ='Вес - ГОСТ'!K5*'Трубы ПНД ГОСТ (газ, вода)'!$J$6 -> 37.2
B11: 32 мм | G11: ='Вес - ГОСТ'!G6*'Трубы ПНД ГОСТ (газ, вода)'!$J$6 -> 29.915 | H11: ='Вес - ГОСТ'!H6*'Трубы ПНД ГОСТ (газ, вода)'!$J$6 -> 35.495 | I11: ='Вес - ГОСТ'!I6*'Трубы ПНД ГОСТ (газ, вода)'!$J$6 -> 42.935 | J11: ='Вес - ГОСТ'!J6*'Трубы ПНД ГОСТ (газ, вода)'!$J$6 -> 50.375 | K11: ='Вес - ГОСТ'!K6*'Трубы ПНД ГОСТ (газ, вода)'!$J$6 -> 59.675
B12: 40 мм | E12: ='Вес - ГОСТ'!E7*'Трубы ПНД ГОСТ (газ, вода)'!$J$6 -> 37.82 | F12: ='Вес - ГОСТ'!F7*'Трубы ПНД ГОСТ (газ, вода)'!$J$6 -> 43.555 | G12: ='Вес - ГОСТ'!G7*'Трубы ПНД ГОСТ (газ, вода)'!$J$6 -> 45.26 | H12: ='Вес - ГОСТ'!H7*'Трубы ПНД ГОСТ (газ, вода)'!$J$6 -> 54.715 | I12: ='Вес - ГОСТ'!I7*'Трубы ПНД ГОСТ (газ, вода)'!$J$6 -> 66.185 | J12: ='Вес - ГОСТ'!J7*'Трубы ПНД ГОСТ (газ, вода)'!$J$6 -> 78.585 | K12: ='Вес - ГОСТ'!K7*'Трубы ПНД ГОСТ (газ, вода)'!$J$6 -> 93
B13: 50 мм | D13: ='Вес - ГОСТ'!D8*'Трубы ПНД ГОСТ (газ, вода)'!$J$6 -> 47.74 | E13: ='Вес - ГОСТ'!E8*'Трубы ПНД ГОСТ (газ, вода)'!$J$6 -> 57.195 | F13: ='Вес - ГОСТ'!F8*'Трубы ПНД ГОСТ (газ, вода)'!$J$6 -> 67.58 | G13: ='Вес - ГОСТ'!G8*'Трубы ПНД ГОСТ (газ, вода)'!$J$6 -> 69.595 | H13: ='Вес - ГОСТ'!H8*'Трубы ПНД ГОСТ (газ, вода)'!$J$6 -> 84.475 | I13: ='Вес - ГОСТ'!I8*'Трубы ПНД ГОСТ (газ, вода)'!$J$6 -> 102.765 | J13: ='Вес - ГОСТ'!J8*'Трубы ПНД ГОСТ (газ, вода)'!$J$6 -> 121.83 | K13: ='Вес - ГОСТ'!K8*'Трубы ПНД ГОСТ (газ, вода)'!$J$6 -> 144.925
B14: 63 мм | C14: ='Вес - ГОСТ'!C9*'Трубы ПНД ГОСТ (газ, вода)'!$J$6 -> 60.76 | D14: ='Вес - ГОСТ'!D9*'Трубы ПНД ГОСТ (газ, вода)'!$J$6 -> 75.64 | E14: ='Вес - ГОСТ'!E9*'Трубы ПНД ГОСТ (газ, вода)'!$J$6 -> 88.815 | F14: ='Вес - ГОСТ'!F9*'Трубы ПНД ГОСТ (газ, вода)'!$J$6 -> 105.71 | G14: ='Вес - ГОСТ'!G9*'Трубы ПНД ГОСТ (газ, вода)'!$J$6 -> 110.825 | H14: ='Вес - ГОСТ'!H9*'Трубы ПНД ГОСТ (газ, вода)'!$J$6 -> 134.695 | I14: ='Вес - ГОСТ'!I9*'Трубы ПНД ГОСТ (газ, вода)'!$J$6 -> 162.75 | J14: ='Вес - ГОСТ'!J9*'Трубы ПНД ГОСТ (газ, вода)'!$J$6 -> 193.75 | K14: ='Вес - ГОСТ'!K9*'Трубы ПНД ГОСТ (газ, вода)'!$J$6 -> 227.85
B15: 75 мм | C15: ='Вес - ГОСТ'!C10*'Трубы ПНД ГОСТ (газ, вода)'!$J$6 -> 84.165 | D15: ='Вес - ГОСТ'!D10*'Трубы ПНД ГОСТ (газ, вода)'!$J$6 -> 103.54 | E15: ='Вес - ГОСТ'!E10*'Трубы ПНД ГОСТ (газ, вода)'!$J$6 -> 127.255 | F15: ='Вес - ГОСТ'!F10*'Трубы ПНД ГОСТ (газ, вода)'!$J$6 -> 150.35 | G15: ='Вес - ГОСТ'!G10*'Трубы ПНД ГОСТ (газ, вода)'!$J$6 -> 156.55 | H15: ='Вес - ГОСТ'!H10*'Трубы ПНД ГОСТ (газ, вода)'!$J$6 -> 190.65 | I15: ='Вес - ГОСТ'!I10*'Трубы ПНД ГОСТ (газ, вода)'!$J$6 -> 226.3 | J15: ='Вес - ГОСТ'!J10*'Трубы ПНД ГОСТ (газ, вода)'!$J$6 -> 272.8 | K15: ='Вес - ГОСТ'!K10*'Трубы ПНД ГОСТ (газ, вода)'!$J$6 -> 323.95
B16: 90 мм | C16: ='Вес - ГОСТ'!C11*'Трубы ПНД ГОСТ (газ, вода)'!$J$6 -> 121.21 | D16: ='Вес - ГОСТ'!D11*'Трубы ПНД ГОСТ (газ, вода)'!$J$6 -> 150.195 | E16: ='Вес - ГОСТ'!E11*'Трубы ПНД ГОСТ (газ, вода)'!$J$6 -> 182.9 | F16: ='Вес - ГОСТ'!F11*'Трубы ПНД ГОСТ (газ, вода)'!$J$6 -> 217 | G16: ='Вес - ГОСТ'!G11*'Трубы ПНД ГОСТ (газ, вода)'!$J$6 -> 224.75 | H16: ='Вес - ГОСТ'!H11*'Трубы ПНД ГОСТ (газ, вода)'!$J$6 -> 272.8 | I16: ='Вес - ГОСТ'!I11*'Трубы ПНД ГОСТ (газ, вода)'!$J$6 -> 328.6 | J16: ='Вес - ГОСТ'!J11*'Трубы ПНД ГОСТ (газ, вода)'!$J$6 -> 393.7 | K16: ='Вес - ГОСТ'!K11*'Трубы ПНД ГОСТ (газ, вода)'!$J$6 -> 465
B17: 110 мм | C17: ='Вес - ГОСТ'!C12*'Трубы ПНД ГОСТ (газ, вода)'!$J$6 -> 179.8 | D17: ='Вес - ГОСТ'!D12*'Трубы ПНД ГОСТ (газ, вода)'!$J$6 -> 220.1 | E17: ='Вес - ГОСТ'!E12*'Трубы ПНД ГОСТ (газ, вода)'!$J$6 -> 274.35 | F17: ='Вес - ГОСТ'!F12*'Трубы ПНД ГОСТ (газ, вода)'!$J$6 -> 320.85 | G17: ='Вес - ГОСТ'!G12*'Трубы ПНД ГОСТ (газ, вода)'!$J$6 -> 334.8 | H17: ='Вес - ГОСТ'!H12*'Трубы ПНД ГОСТ (газ, вода)'!$J$6 -> 404.55 | I17: ='Вес - ГОСТ'!I12*'Трубы ПНД ГОСТ (газ, вода)'!$J$6 -> 486.7 | J17: ='Вес - ГОСТ'!J12*'Трубы ПНД ГОСТ (газ, вода)'!$J$6 -> 585.9 | K17: ='Вес - ГОСТ'!K12*'Трубы ПНД ГОСТ (газ, вода)'!$J$6 -> 695.95
B18: 125 мм | C18: ='Вес - ГОСТ'!C13*'Трубы ПНД ГОСТ (газ, вода)'!$J$6 -> 232.5 | D18: ='Вес - ГОСТ'!D13*'Трубы ПНД ГОСТ (газ, вода)'!$J$6 -> 283.65 | E18: ='Вес - ГОСТ'!E13*'Трубы ПНД ГОСТ (газ, вода)'!$J$6 -> 350.3 | F18: ='Вес - ГОСТ'!F13*'Трубы ПНД ГОСТ (газ, вода)'!$J$6 -> 412.3 | G18: ='Вес - ГОСТ'!G13*'Трубы ПНД ГОСТ (газ, вода)'!$J$6 -> 426.25 | H18: ='Вес - ГОСТ'!H13*'Трубы ПНД ГОСТ (газ, вода)'!$J$6 -> 522.35 | I18: ='Вес - ГОСТ'!I13*'Трубы ПНД ГОСТ (газ, вода)'!$J$6 -> 632.4 | J18: ='Вес - ГОСТ'!J13*'Трубы ПНД ГОСТ (газ, вода)'!$J$6 -> 754.85 | K18: ='Вес - ГОСТ'!K13*'Трубы ПНД ГОСТ (газ, вода)'!$J$6 -> 895.9
B19: 140 мм | C19: ='Вес - ГОСТ'!C14*'Трубы ПНД ГОСТ (газ, вода)'!$J$6 -> 289.85 | D19: ='Вес - ГОСТ'!D14*'Трубы ПНД ГОСТ (газ, вода)'!$J$6 -> 358.05 | E19: ='Вес - ГОСТ'!E14*'Трубы ПНД ГОСТ (газ, вода)'!$J$6 -> 438.65 | F19: ='Вес - ГОСТ'!F14*'Трубы ПНД ГОСТ (газ, вода)'!$J$6 -> 519.25 | G19: ='Вес - ГОСТ'!G14*'Трубы ПНД ГОСТ (газ, вода)'!$J$6 -> 536.3 | H19: ='Вес - ГОСТ'!H14*'Трубы ПНД ГОСТ (газ, вода)'!$J$6 -> 654.1 | I19: ='Вес - ГОСТ'!I14*'Трубы ПНД ГОСТ (газ, вода)'!$J$6 -> 787.4 | J19: ='Вес - ГОСТ'!J14*'Трубы ПНД ГОСТ (газ, вода)'!$J$6 -> 948.6 | K19: ='Вес - ГОСТ'!K14*'Трубы ПНД ГОСТ (газ, вода)'!$J$6 -> 1126.85
B20: 160 мм | C20: ='Вес - ГОСТ'!C15*'Трубы ПНД ГОСТ (газ, вода)'!$J$6 -> 373.55 | D20: ='Вес - ГОСТ'!D15*'Трубы ПНД ГОСТ (газ, вода)'!$J$6 -> 469.65 | E20: ='Вес - ГОСТ'!E15*'Трубы ПНД ГОСТ (газ, вода)'!$J$6 -> 575.05 | F20: ='Вес - ГОСТ'!F15*'Трубы ПНД ГОСТ (газ, вода)'!$J$6 -> 674.25 | G20: ='Вес - ГОСТ'!G15*'Трубы ПНД ГОСТ (газ, вода)'!$J$6 -> 699.05 | H20: ='Вес - ГОСТ'!H15*'Трубы ПНД ГОСТ (газ, вода)'!$J$6 -> 852.5 | I20: ='Вес - ГОСТ'!I15*'Трубы ПНД ГОСТ (газ, вода)'!$J$6 -> 1033.85 | J20: ='Вес - ГОСТ'!J15*'Трубы ПНД ГОСТ (газ, вода)'!$J$6 -> 1235.35 | K20: ='Вес - ГОСТ'!K15*'Трубы ПНД ГОСТ (газ, вода)'!$J$6 -> 1466.3
B21: 180 мм | C21: ='Вес - ГОСТ'!C16*'Трубы ПНД ГОСТ (газ, вода)'!$J$6 -> 472.75 | D21: ='Вес - ГОСТ'!D16*'Трубы ПНД ГОСТ (газ, вода)'!$J$6 -> 585.9 | E21: ='Вес - ГОСТ'!E16*'Трубы ПНД ГОСТ (газ, вода)'!$J$6 -> 722.3 | F21: ='Вес - ГОСТ'!F16*'Трубы ПНД ГОСТ (газ, вода)'!$J$6 -> 847.85 | G21: ='Вес - ГОСТ'!G16*'Трубы ПНД ГОСТ (газ, вода)'!$J$6 -> 885.05 | H21: ='Вес - ГОСТ'!H16*'Трубы ПНД ГОСТ (газ, вода)'!$J$6 -> 1081.9 | I21: ='Вес - ГОСТ'!I16*'Трубы ПНД ГОСТ (газ, вода)'!$J$6 -> 1306.65 | J21: ='Вес - ГОСТ'!J16*'Трубы ПНД ГОСТ (газ, вода)'!$J$6 -> 1565.5 | K21: ='Вес - ГОСТ'!K16*'Трубы ПНД ГОСТ (газ, вода)'!$J$6 -> 1860
B22: 200 мм | C22: ='Вес - ГОСТ'!C17*'Трубы ПНД ГОСТ (газ, вода)'!$J$6 -> 592.1 | D22: ='Вес - ГОСТ'!D17*'Трубы ПНД ГОСТ (газ, вода)'!$J$6 -> 725.4 | E22: ='Вес - ГОСТ'!E17*'Трубы ПНД ГОСТ (газ, вода)'!$J$6 -> 894.35 | F22: ='Вес - ГОСТ'!F17*'Трубы ПНД ГОСТ (газ, вода)'!$J$6 -> 1050.9 | G22: ='Вес - ГОСТ'!G17*'Трубы ПНД ГОСТ (газ, вода)'!$J$6 -> 1091.2 | H22: ='Вес - ГОСТ'!H17*'Трубы ПНД ГОСТ (газ, вода)'!$J$6 -> 1326.8 | I22: ='Вес - ГОСТ'!I17*'Трубы ПНД ГОСТ (газ, вода)'!$J$6 -> 1612 | J22: ='Вес - ГОСТ'!J17*'Трубы ПНД ГОСТ (газ, вода)'!$J$6 -> 1937.5 | K22: ='Вес - ГОСТ'!K17*'Трубы ПНД ГОСТ (газ, вода)'!$J$6 -> 2294
B23: 225 мм | C23: ='Вес - ГОСТ'!C18*'Трубы ПНД ГОСТ (газ, вода)'!$J$6 -> 737.8 | D23: ='Вес - ГОСТ'!D18*'Трубы ПНД ГОСТ (газ, вода)'!$J$6 -> 911.4 | E23: ='Вес - ГОСТ'!E18*'Трубы ПНД ГОСТ (газ, вода)'!$J$6 -> 1129.95 | F23: ='Вес - ГОСТ'!F18*'Трубы ПНД ГОСТ (газ, вода)'!$J$6 -> 1325.25 | G23: ='Вес - ГОСТ'!G18*'Трубы ПНД ГОСТ (газ, вода)'!$J$6 -> 1385.7 | H23: ='Вес - ГОСТ'!H18*'Трубы ПНД ГОСТ (газ, вода)'!$J$6 -> 1689.5 | I23: ='Вес - ГОСТ'!I18*'Трубы ПНД ГОСТ (газ, вода)'!$J$6 -> 2046 | J23: ='Вес - ГОСТ'!J18*'Трубы ПНД ГОСТ (газ, вода)'!$J$6 -> 2449 | K23: ='Вес - ГОСТ'!K18*'Трубы ПНД ГОСТ (газ, вода)'!$J$6 -> 2898.5
B24: 250 мм | C24: ='Вес - ГОСТ'!C19*'Трубы ПНД ГОСТ (газ, вода)'!$J$6 -> 914.5 | D24: ='Вес - ГОСТ'!D19*'Трубы ПНД ГОСТ (газ, вода)'!$J$6 -> 1129.95 | E24: ='Вес - ГОСТ'!E19*'Трубы ПНД ГОСТ (газ, вода)'!$J$6 -> 1382.6 | F24: ='Вес - ГОСТ'!F19*'Трубы ПНД ГОСТ (газ, вода)'!$J$6 -> 1643 | G24: ='Вес - ГОСТ'!G19*'Трубы ПНД ГОСТ (газ, вода)'!$J$6 -> 1705 | H24: ='Вес - ГОСТ'!H19*'Трубы ПНД ГОСТ (газ, вода)'!$J$6 -> 2077 | I24: ='Вес - ГОСТ'!I19*'Трубы ПНД ГОСТ (газ, вода)'!$J$6 -> 2511 | J24: ='Вес - ГОСТ'!J19*'Трубы ПНД ГОСТ (газ, вода)'!$J$6 -> 3007 | K24: ='Вес - ГОСТ'!K19*'Трубы ПНД ГОСТ (газ, вода)'!$J$6 -> 3580.5
B25: 280 мм | C25: ='Вес - ГОСТ'!C20*'Трубы ПНД ГОСТ (газ, вода)'!$J$6 -> 1143.9 | D25: ='Вес - ГОСТ'!D20*'Трубы ПНД ГОСТ (газ, вода)'!$J$6 -> 1408.95 | E25: ='Вес - ГОСТ'!E20*'Трубы ПНД ГОСТ (газ, вода)'!$J$6 -> 1751.5 | F25: ='Вес - ГОСТ'!F20*'Трубы ПНД ГОСТ (газ, вода)'!$J$6 -> 2046 | G25: ='Вес - ГОСТ'!G20*'Трубы ПНД ГОСТ (газ, вода)'!$J$6 -> 2139 | H25: ='Вес - ГОСТ'!H20*'Трубы ПНД ГОСТ (газ, вода)'!$J$6 -> 2604 | I25: ='Вес - ГОСТ'!I20*'Трубы ПНД ГОСТ (газ, вода)'!$J$6 -> 3146.5 | J25: ='Вес - ГОСТ'!J20*'Трубы ПНД ГОСТ (газ, вода)'!$J$6 -> 3782 | K25: ='Вес - ГОСТ'!K20*'Трубы ПНД ГОСТ (газ, вода)'!$J$6 -> 4479.5
... B30: 500 мм | C30: ='Вес - ГОСТ'!C25*'Трубы ПНД ГОСТ (газ, вода)'!$J$6 -> 3627 | D30: ='Вес - ГОСТ'!D25*'Трубы ПНД ГОСТ (газ, вода)'!$J$6 -> 4495 | E30: ='Вес - ГОСТ'!E25*'Трубы ПНД ГОСТ (газ, вода)'!$J$6 -> 5549 | F30: ='Вес - ГОСТ'!F25*'Трубы ПНД ГОСТ (газ, вода)'!$J$6 -> 6510 | G30: ='Вес - ГОСТ'!G25*'Трубы ПНД ГОСТ (газ, вода)'!$J$6 -> 6804.5 | H30: ='Вес - ГОСТ'!H25*'Трубы ПНД ГОСТ (газ, вода)'!$J$6 -> 8292.5 | I30: ='Вес - ГОСТ'!I25*'Трубы ПНД ГОСТ (газ, вода)'!$J$6 -> 10028.5 | J30: ='Вес - ГОСТ'!J25*'Трубы ПНД ГОСТ (газ, вода)'!$J$6 -> 12012.5 | K30: ='Вес - ГОСТ'!K25*'Трубы ПНД ГОСТ (газ, вода)'!$J$6 -> 14275.5
B31: 560 мм | C31: ='Вес - ГОСТ'!C26*'Трубы ПНД ГОСТ (газ, вода)'!$J$6 -> 4557 | D31: ='Вес - ГОСТ'!D26*'Трубы ПНД ГОСТ (газ, вода)'!$J$6 -> 5626.5 | E31: ='Вес - ГОСТ'!E26*'Трубы ПНД ГОСТ (газ, вода)'!$J$6 -> 6944 | F31: ='Вес - ГОСТ'!F26*'Трубы ПНД ГОСТ (газ, вода)'!$J$6 -> 8153 | G31: ='Вес - ГОСТ'!G26*'Трубы ПНД ГОСТ (газ, вода)'!$J$6 -> 8525 | H31: ='Вес - ГОСТ'!H26*'Трубы ПНД ГОСТ (газ, вода)'!$J$6 -> 10400.5 | I31: ='Вес - ГОСТ'!I26*'Трубы ПНД ГОСТ (газ, вода)'!$J$6 -> 12555 | J31: ='Вес - ГОСТ'!J26*'Трубы ПНД ГОСТ (газ, вода)'!$J$6 -> 15081.5
B32: 630 мм | C32: ='Вес - ГОСТ'!C27*'Трубы ПНД ГОСТ (газ, вода)'!$J$6 -> 5750.5 | D32: ='Вес - ГОСТ'!D27*'Трубы ПНД ГОСТ (газ, вода)'!$J$6 -> 7130 | E32: ='Вес - ГОСТ'!E27*'Трубы ПНД ГОСТ (газ, вода)'!$J$6 -> 8757.5 | F32: ='Вес - ГОСТ'!F27*'Трубы ПНД ГОСТ (газ, вода)'!$J$6 -> 10323 | G32: ='Вес - ГОСТ'!G27*'Трубы ПНД ГОСТ (газ, вода)'!$J$6 -> 10788 | H32: ='Вес - ГОСТ'!H27*'Трубы ПНД ГОСТ (газ, вода)'!$J$6 -> 13144 | I32: ='Вес - ГОСТ'!I27*'Трубы ПНД ГОСТ (газ, вода)'!$J$6 -> 15965 | J32: ='Вес - ГОСТ'!J27*'Трубы ПНД ГОСТ (газ, вода)'!$J$6 -> 19065
B33: 710 мм | C33: ='Вес - ГОСТ'!C28*'Трубы ПНД ГОСТ (газ, вода)'!$J$6 -> 7331.5 | D33: ='Вес - ГОСТ'!D28*'Трубы ПНД ГОСТ (газ, вода)'!$J$6 -> 9067.5 | E33: ='Вес - ГОСТ'!E28*'Трубы ПНД ГОСТ (газ, вода)'!$J$6 -> 11175.5 | F33: ='Вес - ГОСТ'!F28*'Трубы ПНД ГОСТ (газ, вода)'!$J$6 -> 13128.5 | G33: ='Вес - ГОСТ'!G28*'Трубы ПНД ГОСТ (газ, вода)'!$J$6 -> 13702 | H33: ='Вес - ГОСТ'!H28*'Трубы ПНД ГОСТ (газ, вода)'!$J$6 -> 16740 | I33: ='Вес - ГОСТ'!I28*'Трубы ПНД ГОСТ (газ, вода)'!$J$6 -> 20305
B34: 800 мм | C34: ='Вес - ГОСТ'!C29*'Трубы ПНД ГОСТ (газ, вода)'!$J$6 -> 9284.5 | D34: ='Вес - ГОСТ'!D29*'Трубы ПНД ГОСТ (газ, вода)'!$J$6 -> 11485.5 | E34: ='Вес - ГОСТ'!E29*'Трубы ПНД ГОСТ (газ, вода)'!$J$6 -> 14167 | F34: ='Вес - ГОСТ'!F29*'Трубы ПНД ГОСТ (газ, вода)'!$J$6 -> 16740 | G34: ='Вес - ГОСТ'!G29*'Трубы ПНД ГОСТ (газ, вода)'!$J$6 -> 17360 | H34: ='Вес - ГОСТ'!H29*'Трубы ПНД ГОСТ (газ, вода)'!$J$6 -> 21235 | I34: ='Вес - ГОСТ'!I29*'Трубы ПНД ГОСТ (газ, вода)'!$J$6 -> 26195
B35: 900 мм | C35: ='Вес - ГОСТ'!C30*'Трубы ПНД ГОСТ (газ, вода)'!$J$6 -> 11764.5 | D35: ='Вес - ГОСТ'!D30*'Трубы ПНД ГОСТ (газ, вода)'!$J$6 -> 14539 | E35: ='Вес - ГОСТ'!E30*'Трубы ПНД ГОСТ (газ, вода)'!$J$6 -> 17980 | F35: ='Вес - ГОСТ'!F30*'Трубы ПНД ГОСТ (газ, вода)'!$J$6 -> 21080 | G35: ='Вес - ГОСТ'!G30*'Трубы ПНД ГОСТ (газ, вода)'!$J$6 -> 22010 | H35: ='Вес - ГОСТ'!H30*'Трубы ПНД ГОСТ (газ, вода)'!$J$6 -> 26815
B36: 1000 мм | C36: ='Вес - ГОСТ'!C31*'Трубы ПНД ГОСТ (газ, вода)'!$J$6 -> 14492.5 | D36: ='Вес - ГОСТ'!D31*'Трубы ПНД ГОСТ (газ, вода)'!$J$6 -> 17980 | E36: ='Вес - ГОСТ'!E31*'Трубы ПНД ГОСТ (газ, вода)'!$J$6 -> 22165 | F36: ='Вес - ГОСТ'!F31*'Трубы ПНД ГОСТ (газ, вода)'!$J$6 -> 41540 | G36: ='Вес - ГОСТ'!G31*'Трубы ПНД ГОСТ (газ, вода)'!$J$6 -> 27125 | H36: ='Вес - ГОСТ'!H31*'Трубы ПНД ГОСТ (газ, вода)'!$J$6 -> 33170
B37: 1200 мм | C37: ='Вес - ГОСТ'!C32*'Трубы ПНД ГОСТ (газ, вода)'!$J$6 -> 20770 | D37: ='Вес - ГОСТ'!D32*'Трубы ПНД ГОСТ (газ, вода)'!$J$6 -> 25885 | E37: ='Вес - ГОСТ'!E32*'Трубы ПНД ГОСТ (газ, вода)'!$J$6 -> 31930 | F37: ='Вес - ГОСТ'!F32*'Трубы ПНД ГОСТ (газ, вода)'!$J$6 -> 37510 | G37: ='Вес - ГОСТ'!G32*'Трубы ПНД ГОСТ (газ, вода)'!$J$6 -> 39060

Sheet Вес - ГОСТ
B2: Диаметры | C2: SDR 33 | D2: SDR 26 | E2: SDR 21 | F2: SDR 17,6 | G2: SDR 17 | H2: SDR 13,6 | I2: SDR 11 | J2: SDR 9 | K2: SDR 7,4
C3: ПЭ100 PN 5 | D3: ПЭ100 PN 6,3 | E3: ПЭ100 PN 8 | F3: ПЭ100 PN 9,5 | G3: ПЭ100 PN 10 | H3: ПЭ100 PN 12,5 | I3: ПЭ100 PN 16 | J3: ПЭ100 PN 20 | K3: ПЭ100 PN 25
C4: Вес 1 м, кг | D4: Вес 1 м, кг | E4: Вес 1 м, кг | F4: Вес 1 м, кг | G4: Вес 1 м, кг | H4: Вес 1 м, кг | I4: Вес 1 м, кг | J4: Вес 1 м, кг | K4: Вес 1 м, кг
B5: 25 | H5: 0.148 | I5: 0.169 | J5: 0.198 | K5: 0.24
B6: 32 | G6: 0.193 | H6: 0.229 | I6: 0.277 | J6: 0.325 | K6: 0.385
B7: 40 | E7: 0.244 | F7: 0.281 | G7: 0.292 | H7: 0.353 | I7: 0.427 | J7: 0.507 | K7: 0.6
B8: 50 | D8: 0.308 | E8: 0.369 | F8: 0.436 | G8: 0.449 | H8: 0.545 | I8: 0.663 | J8: 0.786 | K8: 0.935
B9: 63 | C9: 0.392 | D9: 0.488 | E9: 0.573 | F9: 0.682 | G9: 0.715 | H9: 0.869 | I9: 1.05 | J9: 1.25 | K9: 1.47
B10: 75 | C10: 0.543 | D10: 0.668 | E10: 0.821 | F10: 0.97 | G10: 1.01 | H10: 1.23 | I10: 1.46 | J10: 1.76 | K10: 2.09
B11: 90 | C11: 0.782 | D11: 0.969 | E11: 1.18 | F11: 1.4 | G11: 1.45 | H11: 1.76 | I11: 2.12 | J11: 2.54 | K11: 3
B12: 110 | C12: 1.16 | D12: 1.42 | E12: 1.77 | F12: 2.07 | G12: 2.16 | H12: 2.61 | I12: 3.14 | J12: 3.78 | K12: 4.49
B13: 125 | C13: 1.5 | D13: 1.83 | E13: 2.26 | F13: 2.66 | G13: 2.75 | H13: 3.37 | I13: 4.08 | J13: 4.87 | K13: 5.78
B14: 140 | C14: 1.87 | D14: 2.31 | E14: 2.83 | F14: 3.35 | G14: 3.46 | H14: 4.22 | I14: 5.08 | J14: 6.12 | K14: 7.27
B15: 160 | C15: 2.41 | D15: 3.03 | E15: 3.71 | F15: 4.35 | G15: 4.51 | H15: 5.5 | I15: 6.67 | J15: 7.97 | K15: 9.46
B16: 180 | C16: 3.05 | D16: 3.78 | E16: 4.66 | F16: 5.47 | G16: 5.71 | H16: 6.98 | I16: 8.43 | J16: 10.1 | K16: 12
B17: 200 | C17: 3.82 | D17: 4.68 | E17: 5.77 | F17: 6.78 | G17: 7.04 | H17: 8.56 | I17: 10.4 | J17: 12.5 | K17: 14.8
B18: 225 | C18: 4.76 | D18: 5.88 | E18: 7.29 | F18: 8.55 | G18: 8.94 | H18: 10.9 | I18: 13.2 | J18: 15.8 | K18: 18.7
B19: 250 | C19: 5.9 | D19: 7.29 | E19: 8.92 | F19: 10.6 | G19: 11 | H19: 13.4 | I19: 16.2 | J19: 19.4 | K19: 23.1
B20: 280 | C20: 7.38 | D20: 9.09 | E20: 11.3 | F20: 13.2 | G20: 13.8 | H20: 16.8 | I20: 20.3 | J20: 24.4 | K20: 28.9
... B25: 500 | C25: 23.4 | D25: 29 | E25: 35.8 | F25: 42 | G25: 43.9 | H25: 53.5 | I25: 64.7 | J25: 77.5 | K25: 92.1
B26: 560 | C26: 29.4 | D26: 36.3 | E26: 44.8 | F26: 52.6 | G26: 55 | H26: 67.1 | I26: 81 | J26: 97.3
B27: 630 | C27: 37.1 | D27: 46 | E27: 56.5 | F27: 66.6 | G27: 69.6 | H27: 84.8 | I27: 103 | J27: 123
B28: 710 | C28: 47.3 | D28: 58.5 | E28: 72.1 | F28: 84.7 | G28: 88.4 | H28: 108 | I28: 131
B29: 800 | C29: 59.9 | D29: 74.1 | E29: 91.4 | F29: 108 | G29: 112 | H29: 137 | I29: 169
B30: 900 | C30: 75.9 | D30: 93.8 | E30: 116 | F30: 136 | G30: 142 | H30: 173
B31: 1000 | C31: 93.5 | D31: 116 | E31: 143 | F31: 268 | G31: 175 | H31: 214
B32: 1200 | C32: 134 | D32: 167 | E32: 206 | F32: 242 | G32: 252

Sheet Вес и толщина  ПНД труб
F2: ООО "АТЛАНТ" - производим и поставляем для наружных инженерных сетей сварчоное оборудование, фитинги, трубы ПНД
F3: ТАБЛИЦА ВЕСОВ ПОЛИЭТИЛНОВЫХ ТРУБ
F4: 8 (843) 204-11-98 | I4: zapros@atlant-tat.com | Q4: www.atlant-tat.com
C5: Бонус | F5: Калькулятор для расчета ПНД труб | J5: Скачать
C6: Расчет заявки | F6: Направьте заявку Online | J6: Отправить
B7: Диаметры | C7: SDR 33 | E7: SDR 26 | G7: SDR 21 | I7: SDR 17,6 | K7: SDR 17 | M7: SDR 13,6 | O7: SDR 11 | Q7: SDR 9 | S7: SDR 7,4
C8: ПЭ100 PN 5 | E8: ПЭ100 PN 6,3 | G8: ПЭ100 PN 8 | I8: ПЭ100 PN 9,5 | K8: ПЭ100 PN 10 | M8: ПЭ100 PN 12,5 | O8: ПЭ100 PN 16 | Q8: ПЭ100 PN 20 | S8: ПЭ100 PN 25
C9: Толщина стенки, мм | D9: Вес 1 м, кг | E9: Толщина стенки, мм | F9: Вес 1 м, кг | G9: Толщина стенки, мм | H9: Вес 1 м, кг | I9: Толщина стенки, мм | J9: Вес 1 м, кг | K9: Толщина стенки, мм | L9: Вес 1 м, кг | M9: Толщина стенки, мм | N9: Вес 1 м, кг | O9: Толщина стенки, мм | P9: Вес 1 м, кг | Q9: Толщина стенки, мм | R9: Вес 1 м, кг | S9: Толщина стенки, мм | T9: Вес 1 м, кг
B10: 25 | M10: 2 | N10: 0.148 | O10: 2.3 | P10: 0.169 | Q10: 2.8 | R10: 0.198 | S10: 3.5 | T10: 0.24
B11: 32 | K11: 2 | L11: 0.193 | M11: 2.4 | N11: 0.229 | O11: 3 | P11: 0.277 | Q11: 3.6 | R11: 0.325 | S11: 4.4 | T11: 0.385
B12: 40 | G12: 2 | H12: 0.244 | I12: 2.3 | J12: 0.281 | K12: 2.4 | L12: 0.292 | M12: 3 | N12: 0.353 | O12: 3.7 | P12: 0.427 | Q12: 4.5 | R12: 0.507 | S12: 5.5 | T12: 0.6
B13: 50 | E13: 2 | F13: 0.308 | G13: 2.4 | H13: 0.369 | I13: 2.9 | J13: 0.436 | K13: 3 | L13: 0.449 | M13: 3.7 | N13: 0.545 | O13: 4.6 | P13: 0.663 | Q13: 5.6 | R13: 0.786 | S13: 6.9 | T13: 0.935
B14: 63 | C14: 2 | D14: 0.392 | E14: 2.5 | F14: 0.488 | G14: 3 | H14: 0.573 | I14: 3.6 | J14: 0.682 | K14: 3.8 | L14: 0.715 | M14: 4.7 | N14: 0.869 | O14: 5.8 | P14: 1.05 | Q14: 7.1 | R14: 1.25 | S14: 8.6 | T14: 1.47
B15: 75 | C15: 2.3 | D15: 0.543 | E15: 2.9 | F15: 0.668 | G15: 3.6 | H15: 0.821 | I15: 4.3 | J15: 0.97 | K15: 4.5 | L15: 1.01 | M15: 5.6 | N15: 1.23 | O15: 6.8 | P15: 1.46 | Q15: 8.4 | R15: 1.76 | S15: 10.3 | T15: 2.09
B16: 90 | C16: 2.8 | D16: 0.782 | E16: 3.5 | F16: 0.969 | G16: 4.3 | H16: 1.18 | I16: 5.1 | J16: 1.4 | K16: 5.4 | L16: 1.45 | M16: 6.7 | N16: 1.76 | O16: 8.2 | P16: 2.12 | Q16: 10.1 | R16: 2.54 | S16: 12.3 | T16: 3
B17: 110 | C17: 3.4 | D17: 1.16 | E17: 4.2 | F17: 1.42 | G17: 5.3 | H17: 1.77 | I17: 6.3 | J17: 2.07 | K17: 6.6 | L17: 2.16 | M17: 8.1 | N17: 2.61 | O17: 10 | P17: 3.14 | Q17: 12.3 | R17: 3.78 | S17: 15.1 | T17: 4.49
B18: 125 | C18: 3.9 | D18: 1.5 | E18: 4.8 | F18: 1.83 | G18: 6 | H18: 2.26 | I18: 7.1 | J18: 2.66 | K18: 7.4 | L18: 2.75 | M18: 9.2 | N18: 3.37 | O18: 11.4 | P18: 4.08 | Q18: 14 | R18: 4.87 | S18: 17.1 | T18: 5.78
B19: 140 | C19: 4.3 | D19: 1.87 | E19: 5.4 | F19: 2.31 | G19: 6.7 | H19: 2.83 | I19: 8 | J19: 3.35 | K19: 8.3 | L19: 3.46 | M19: 10.3 | N19: 4.22 | O19: 12.7 | P19: 5.08 | Q19: 15.7 | R19: 6.12 | S19: 19.2 | T19: 7.27
B20: 160 | C20: 4.9 | D20: 2.41 | E20: 6.2 | F20: 3.03 | G20: 7.7 | H20: 3.71 | I20: 9.1 | J20: 4.35 | K20: 9.5 | L20: 4.51 | M20: 11.8 | N20: 5.5 | O20: 14.6 | P20: 6.67 | Q20: 17.9 | R20: 7.97 | S20: 21.9 | T20: 9.46
B21: 180 | C21: 5.5 | D21: 3.05 | E21: 6.9 | F21: 3.78 | G21: 8.6 | H21: 4.66 | I21: 10.2 | J21: 5.47 | K21: 10.7 | L21: 5.71 | M21: 13.3 | N21: 6.98 | O21: 16.4 | P21: 8.43 | Q21: 20.1 | R21: 10.1 | S21: 24.6 | T21: 12
B22: 200 | C22: 6.2 | D22: 3.82 | E22: 7.7 | F22: 4.68 | G22: 9.6 | H22: 5.77 | I22: 11.4 | J22: 6.78 | K22: 11.9 | L22: 7.04 | M22: 14.7 | N22: 8.56 | O22: 18.2 | P22: 10.4 | Q22: 22.4 | R22: 12.5 | S22: 27.4 | T22: 14.8
B23: 225 | C23: 6.9 | D23: 4.76 | E23: 8.6 | F23: 5.88 | G23: 10.8 | H23: 7.29 | I23: 12.8 | J23: 8.55 | K23: 13.4 | L23: 8.94 | M23: 16.6 | N23: 10.9 | O23: 20.5 | P23: 13.2 | Q23: 25.2 | R23: 15.8 | S23: 30.8 | T23: 18.7
B24: 250 | C24: 7.7 | D24: 5.9 | E24: 9.6 | F24: 7.29 | G24: 11.9 | H24: 8.92 | I24: 14.2 | J24: 10.6 | K24: 14.8 | L24: 11 | M24: 18.4 | N24: 13.4 | O24: 22.7 | P24: 16.2 | Q24: 27.9 | R24: 19.4 | S24: 34.2 | T24: 23.1
B25: 280 | C25: 8.6 | D25: 7.38 | E25: 10.7 | F25: 9.09 | G25: 13.4 | H25: 11.3 | I25: 15.9 | J25: 13.2 | K25: 16.6 | L25: 13.8 | M25: 20.6 | N25: 16.8 | O25: 25.4 | P25: 20.3 | Q25: 31.3 | R25: 24.4 | S25: 38.3 | T25: 28.9
... B30: 500 | C30: 15.3 | D30: 23.4 | E30: 19.1 | F30: 29 | G30: 23.9 | H30: 35.8 | I30: 28.3 | J30: 42 | K30: 29.7 | L30: 43.9 | M30: 36.8 | N30: 53.5 | O30: 45.4 | P30: 64.7 | Q30: 55.8 | R30: 77.5 | S30: 68.3 | T30: 92.1
B31: 560 | C31: 17.2 | D31: 29.4 | E31: 21.4 | F31: 36.3 | G31: 26.7 | H31: 44.8 | I31: 31.7 | J31: 52.6 | K31: 33.2 | L31: 55 | M31: 41.2 | N31: 67.1 | O31: 50.8 | P31: 81 | Q31: 62.5 | R31: 97.3
B32: 630 | C32: 19.3 | D32: 37.1 | E32: 24.1 | F32: 46 | G32: 30 | H32: 56.5 | I32: 35.7 | J32: 66.6 | K32: 37.4 | L32: 69.6 | M32: 46.3 | N32: 84.8 | O32: 57.2 | P32: 103 | Q32: 70.3 | R32: 123
B33: 710 | C33: 21.8 | D33: 47.3 | E33: 27.2 | F33: 58.5 | G33: 33.9 | H33: 72.1 | I33: 40.2 | J33: 84.7 | K33: 42.1 | L33: 88.4 | M33: 52.2 | N33: 108 | O33: 64.5 | P33: 131
B34: 800 | C34: 24.5 | D34: 59.9 | E34: 30.6 | F34: 74.1 | G34: 38.1 | H34: 91.4 | I34: 45.3 | J34: 108 | K34: 47.4 | L34: 112 | M34: 58.8 | N34: 137 | O34: 72.6 | P34: 169
B35: 900 | C35: 27.6 | D35: 75.9 | E35: 34.4 | F35: 93.8 | G35: 42.9 | H35: 116 | I35: 51 | J35: 136 | K35: 53.3 | L35: 142 | M35: 66.1 | N35: 173
B36: 1000 | C36: 30.6 | D36: 93.5 | E36: 38.2 | F36: 116 | G36: 47.7 | H36: 143 | I36: 56.6 | J36: 268 | K36: 59.3 | L36: 175 | M36: 73.5 | N36: 214
B37: 1200 | C37: 36.7 | D37: 134 | E37: 45.9 | F37: 167 | G37: 57.2 | H37: 206 | I37: 68 | J37: 242 | K37: 71.1 | L37: 252
B38: 1400 | C38: 42.9 | D38: 183 | E38: 53.5 | F38: 227 | G38: 66.7 | H38: 280
B39: 1600 | C39: 49 | D39: 239 | E39: 61.2 | F39: 296

Sheet Калькулятор  - ООО "АТЛАНТ"
A1: КАЛЬКУЛЯТОР ДЛЯ РАСЧЕТА ПОЛИЭТИЛЕНОВЫХ ТРУБ (ПНД)
E3: ООО "АТЛАНТ" Производитель стыковых сварочных аппаратов "ATLANT" для полиэтиленовых труб от 40 до 1600 мм +7 (843) 204-11-98 zapros@atlant-tat.com www.atlant-tat.com
E4: Производитель стыковых сварочных аппаратов "ATLANT" для полиэтиленовых труб от 40 до 1600 мм
E6: 7 (843) 204-11-98
E7: zapros@atlant-tat.com
E8: www.atlant-tat.com
A10: СТОИМОСТЬ | H10: ДОСТАВКА | J10: ВМЕСТИМОСТЬ
A11: № | B11: Диаметр, мм | C11: SDR | D11: Кол-во метров, м | E11: Цена за 1 КГ, руб | F11: Цена за 1 МЕТР, руб | G11: Всего, руб | H11: Цена доставки, руб | I11: Цена за 1 КГ с учетом доставки на месте, руб | J11: Длина отрезков, м | K11: Кол-во отрезков, шт | L11: Вместимость в фуру, м | M11: Заполняемость 1 фуры, % | N11: Вес 1 метра трубы, кг | O11: Общий тоннаж, тонн
A12: 1 | F12: =IFERROR(IF(ISBLANK(E12),"",E12*N12),"") | G12: =IFERROR(IFERROR(O12*E12,"")*1000,"") | I12: =IF(ISBLANK(B12),"",E12+IFERROR(G12/$G$22*$H$12/O12/1000,0)) | K12: =IFERROR(IF(ISBLANK(D12),"",D12/J12),0) | L12: =IFERROR(VLOOKUP(B12,Вместимость!$A$1:$E$23,3),"") | M12: =IFERROR(IFERROR(VLOOKUP(B12,Вместимость!$A$1:$E$23,5,0),"")*K12,"") | N12: {=IF(ISBLANK(B12),"",INDEX('КГ НА М'!C1:C331,MATCH(B12&C12,'КГ НА М'!A1:A331&'КГ НА М'!B1:B331,0)))} | O12: =IFERROR(IF(ISBLANK(D12),"",D12*N12/1000),"")
A13: 2 | F13: =IFERROR(IF(ISBLANK(E13),"",E13*N13),"") | G13: =IFERROR(IFERROR(O13*E13,"")*1000,"") | I13: =IF(ISBLANK(B13),"",E13+IFERROR(G13/$G$22*$H$12/O13/1000,0)) | K13: =IFERROR(IF(ISBLANK(D13),"",D13/J13),0) | L13: =IFERROR(VLOOKUP(B13,Вместимость!$A$1:$E$23,3),"") | M13: =IFERROR(IFERROR(VLOOKUP(B13,Вместимость!$A$1:$E$23,5,0),"")*K13,"") | N13: {=IF(ISBLANK(B13),"",INDEX('КГ НА М'!C2:C332,MATCH(B13&C13,'КГ НА М'!A2:A332&'КГ НА М'!B2:B332,0)))} | O13: =IFERROR(IF(ISBLANK(D13),"",D13*N13/1000),"")
A14: 3 | F14: =IFERROR(IF(ISBLANK(E14),"",E14*N14),"") | G14: =IFERROR(IFERROR(O14*E14,"")*1000,"") | I14: =IF(ISBLANK(B14),"",E14+IFERROR(G14/$G$22*$H$12/O14/1000,0)) | K14: =IFERROR(IF(ISBLANK(D14),"",D14/J14),0) | L14: =IFERROR(VLOOKUP(B14,Вместимость!$A$1:$E$23,3),"") | M14: =IFERROR(IFERROR(VLOOKUP(B14,Вместимость!$A$1:$E$23,5,0),"")*K14,"") | N14: {=IF(ISBLANK(B14),"",INDEX('КГ НА М'!C3:C333,MATCH(B14&C14,'КГ НА М'!A3:A333&'КГ НА М'!B3:B333,0)))} | O14: =IFERROR(IF(ISBLANK(D14),"",D14*N14/1000),"")
A15: 4 | F15: =IFERROR(IF(ISBLANK(E15),"",E15*N15),"") | G15: =IFERROR(IFERROR(O15*E15,"")*1000,"") | I15: =IF(ISBLANK(B15),"",E15+IFERROR(G15/$G$22*$H$12/O15/1000,0)) | K15: =IFERROR(IF(ISBLANK(D15),"",D15/J15),0) | L15: =IFERROR(VLOOKUP(B15,Вместимость!$A$1:$E$23,3),"") | M15: =IFERROR(IFERROR(VLOOKUP(B15,Вместимость!$A$1:$E$23,5,0),"")*K15,"") | N15: {=IF(ISBLANK(B15),"",INDEX('КГ НА М'!C4:C334,MATCH(B15&C15,'КГ НА М'!A4:A334&'КГ НА М'!B4:B334,0)))} | O15: =IFERROR(IF(ISBLANK(D15),"",D15*N15/1000),"")
A16: 5 | F16: =IFERROR(IF(ISBLANK(E16),"",E16*N16),"") | G16: =IFERROR(IFERROR(O16*E16,"")*1000,"") | I16: =IF(ISBLANK(B16),"",E16+IFERROR(G16/$G$22*$H$12/O16/1000,0)) | K16: =IFERROR(IF(ISBLANK(D16),"",D16/J16),0) | L16: =IFERROR(VLOOKUP(B16,Вместимость!$A$1:$E$23,3),"") | M16: =IFERROR(IFERROR(VLOOKUP(B16,Вместимость!$A$1:$E$23,5,0),"")*K16,"") | N16: {=IF(ISBLANK(B16),"",INDEX('КГ НА М'!C5:C335,MATCH(B16&C16,'КГ НА М'!A5:A335&'КГ НА М'!B5:B335,0)))} | O16: =IFERROR(IF(ISBLANK(D16),"",D16*N16/1000),"")
A17: 6 | F17: =IFERROR(IF(ISBLANK(E17),"",E17*N17),"") | G17: =IFERROR(IFERROR(O17*E17,"")*1000,"") | I17: =IF(ISBLANK(B17),"",E17+IFERROR(G17/$G$22*$H$12/O17/1000,0)) | K17: =IFERROR(IF(ISBLANK(D17),"",D17/J17),0) | L17: =IFERROR(VLOOKUP(B17,Вместимость!$A$1:$E$23,3),"") | M17: =IFERROR(IFERROR(VLOOKUP(B17,Вместимость!$A$1:$E$23,5,0),"")*K17,"") | N17: {=IF(ISBLANK(B17),"",INDEX('КГ НА М'!C6:C336,MATCH(B17&C17,'КГ НА М'!A6:A336&'КГ НА М'!B6:B336,0)))} | O17: =IFERROR(IF(ISBLANK(D17),"",D17*N17/1000),"")
A18: 7 | F18: =IFERROR(IF(ISBLANK(E18),"",E18*N18),"") | G18: =IFERROR(IFERROR(O18*E18,"")*1000,"") | I18: =IF(ISBLANK(B18),"",E18+IFERROR(G18/$G$22*$H$12/O18/1000,0)) | K18: =IFERROR(IF(ISBLANK(D18),"",D18/J18),0) | L18: =IFERROR(VLOOKUP(B18,Вместимость!$A$1:$E$23,3),"") | M18: =IFERROR(IFERROR(VLOOKUP(B18,Вместимость!$A$1:$E$23,5,0),"")*K18,"") | N18: {=IF(ISBLANK(B18),"",INDEX('КГ НА М'!C7:C337,MATCH(B18&C18,'КГ НА М'!A7:A337&'КГ НА М'!B7:B337,0)))} | O18: =IFERROR(IF(ISBLANK(D18),"",D18*N18/1000),"")
A19: 8 | F19: =IFERROR(IF(ISBLANK(E19),"",E19*N19),"") | G19: =IFERROR(IFERROR(O19*E19,"")*1000,"") | I19: =IF(ISBLANK(B19),"",E19+IFERROR(G19/$G$22*$H$12/O19/1000,0)) | K19: =IFERROR(IF(ISBLANK(D19),"",D19/J19),0) | L19: =IFERROR(VLOOKUP(B19,Вместимость!$A$1:$E$23,3),"") | M19: =IFERROR(IFERROR(VLOOKUP(B19,Вместимость!$A$1:$E$23,5,0),"")*K19,"") | N19: {=IF(ISBLANK(B19),"",INDEX('КГ НА М'!C8:C338,MATCH(B19&C19,'КГ НА М'!A8:A338&'КГ НА М'!B8:B338,0)))} | O19: =IFERROR(IF(ISBLANK(D19),"",D19*N19/1000),"")
A20: 9 | F20: =IFERROR(IF(ISBLANK(E20),"",E20*N20),"") | G20: =IFERROR(IFERROR(O20*E20,"")*1000,"") | I20: =IF(ISBLANK(B20),"",E20+IFERROR(G20/$G$22*$H$12/O20/1000,0)) | K20: =IFERROR(IF(ISBLANK(D20),"",D20/J20),0) | L20: =IFERROR(VLOOKUP(B20,Вместимость!$A$1:$E$23,3),"") | M20: =IFERROR(IFERROR(VLOOKUP(B20,Вместимость!$A$1:$E$23,5,0),"")*K20,"") | N20: {=IF(ISBLANK(B20),"",INDEX('КГ НА М'!C9:C339,MATCH(B20&C20,'КГ НА М'!A9:A339&'КГ НА М'!B9:B339,0)))} | O20: =IFERROR(IF(ISBLANK(D20),"",D20*N20/1000),"")
A21: 10 | F21: =IFERROR(IF(ISBLANK(E21),"",E21*N21),"") | G21: =IFERROR(IFERROR(O21*E21,"")*1000,"") | I21: =IF(ISBLANK(B21),"",E21+IFERROR(G21/$G$22*$H$12/O21/1000,0)) | K21: =IFERROR(IF(ISBLANK(D21),"",D21/J21),0) | L21: =IFERROR(VLOOKUP(B21,Вместимость!$A$1:$E$23,3),"") | M21: =IFERROR(IFERROR(VLOOKUP(B21,Вместимость!$A$1:$E$23,5,0),"")*K21,"") | N21: {=IF(ISBLANK(B21),"",INDEX('КГ НА М'!C10:C340,MATCH(B21&C21,'КГ НА М'!A10:A340&'КГ НА М'!B10:B340,0)))} | O21: =IFERROR(IF(ISBLANK(D21),"",D21*N21/1000),"")
B22: Итоги | G22: =SUM(G12:G21) -> 0 | M22: =SUM(M12:M21) -> 0 | O22: =SUM(O12:O21) -> 0

Sheet Инструкция
A1: ООО "АТЛАНТ" Производитель стыковых сварочных аппаратов ATLANT от 40 мм до 1600мм
A9: Диаметр, мм | C9: Заполняем диаметры труб в мм
A10: SDR | C10: Заполняем SDR труб
A11: Кол-во метров, м | C11: Заполняем объем каждой трубы в метрах
A12: Цена за 1 КГ, руб | C12: Заполняем цену за 1 КГ трубы
A13: Цена за 1 МЕТР, руб | C13: Автоматически рассчитывается цена каждой за 1 погонный метр
A14: Всего, руб | C14: Автоматически рассчитывается общая стоимость каждой трубы с учетом объема
A15: Цена доставки, руб | C15: Заполняем общую стоиомость доставки (цена 1 фуры * количество необходимых фур), считаем в ручную
A16: Цена за 1 КГ с учетом доставки на месте, руб | C16: Автоматически рассчитывается цена за 1 КГ каждой трубы, с учетом общей стоимости доставки (чем больше общий тоннаж, тем дешевле ложится доставка на 1 КГ)
A17: Длина отрезков, м | C17: Заполняем длину отрезков по каждому диаметру трубы (например 12м, 13м)
A18: Кол-во отрезков, шт | C18: Автоматически рассчитывается количество отрезков Должно быть кратно (кол-во метров/ длину отрезков), в примере, 225 трубы у нас получается 33,4 шт. Мы должны округлить до 33шт. или до 34 шт. Соответсвенно, общий объем 225 трубы должен быть 429 м или 442м, но никак не 434м.
A19: Вместимость в фуру, м | C19: Автоматически рассчитывается количество метров (условия - отрезки труб 12 м), которое по стандарту вмещается в еврофуру
A20: Заполняемость 1 фуры, % | C20: Автоматически рассчитывается объем занимаемый трубами каждого диаметра в 1-ой еврфоуре в процентах без учета "матрешки". В примере общий объем занимаемый трубами 105,81%, больше 100%, в 1 еврофуру не помещается, нам потребуется 1,06 еврофуры, = 2 еврофуры. Но мы можем "замотрешить" 110 трубу в 225, а 225 трубу в 315. И все поместится в 1 еврофуру.
... A22: Общий тоннаж, тонн | C22: Автоматически рассчитывается общий тоннаж. В случае, если мы прошли по объему, мы должно пройти по весу, еврофура 20 тонн, если у нас по объему помещается, но тоннаж например - 25 тонн, то все равно потребуется 2 еврофуры.

Sheet Сегментные фитинги
C2: ПРАЙС СЕГМЕНТЫНЕ (СВАРНЫЕ) ПНД ФИТИНГИ
H3: СКИДКА | I3: 0.25
C4: 8 (843) 204-11-98 | E4: zapros@atlant-tat.com | H4: www.atlant-tat.com
C5: Бонус - калькулятор для расчета ПНД труб | H5: Скачать
B6: ОСТАВИТЬ ЗАЯВКУ ОНЛАЙН
B7: цены указаны в рублях с НДС
B8: СОДЕРЖАНИЕ
C9: Втулка сварная удлиненная ПЭ100
C10: Ø, мм | D10: L (мм) | E10: SDR 11 PN 16 | F10: SDR 13,6 PN 12,5 | G10: SDR 17 PN 10 | H10: SDR 21 PN 8 | I10: SDR 26 PN 6
C11: 50 | D11: 100 | E11: =IFERROR((1-$I$3)*'Цены сегментыне'!D23,"по запросу") -> 305.19231 | F11: =IFERROR((1-$I$3)*'Цены сегментыне'!E23,"по запросу") -> 302.53846 | G11: =IFERROR((1-$I$3)*'Цены сегментыне'!F23,"по запросу") -> 294.57692 | H11: =IFERROR((1-$I$3)*'Цены сегментыне'!G23,"по запросу") -> 291.92308 | I11: =IFERROR((1-$I$3)*'Цены сегментыне'!H23,"по запросу") -> 289.26923
C12: 63 | D12: 100 | E12: =IFERROR((1-$I$3)*'Цены сегментыне'!D24,"по запросу") -> 278.65385 | F12: =IFERROR((1-$I$3)*'Цены сегментыне'!E24,"по запросу") -> 272.01923 | G12: =IFERROR((1-$I$3)*'Цены сегментыне'!F24,"по запросу") -> 262.73077 | H12: =IFERROR((1-$I$3)*'Цены сегментыне'!G24,"по запросу") -> 258.75 | I12: =IFERROR((1-$I$3)*'Цены сегментыне'!H24,"по запросу") -> 256.09615
C13: 75 | D13: 100 | E13: =IFERROR((1-$I$3)*'Цены сегментыне'!D25,"по запросу") -> 623.65385 | F13: =IFERROR((1-$I$3)*'Цены сегментыне'!E25,"по запросу") -> 615.69231 | G13: =IFERROR((1-$I$3)*'Цены сегментыне'!F25,"по запросу") -> 597.11538 | H13: =IFERROR((1-$I$3)*'Цены сегментыне'!G25,"по запросу") -> 591.80769 | I13: =IFERROR((1-$I$3)*'Цены сегментыне'!H25,"по запросу") -> 586.5
C14: 90 | D14: 100 | E14: =IFERROR((1-$I$3)*'Цены сегментыне'!D26,"по запросу") -> 651.51923 | F14: =IFERROR((1-$I$3)*'Цены сегментыне'!E26,"по запросу") -> 639.57692 | G14: =IFERROR((1-$I$3)*'Цены сегментыне'!F26,"по запросу") -> 647.53846 | H14: =IFERROR((1-$I$3)*'Цены сегментыне'!G26,"по запросу") -> 639.57692 | I14: =IFERROR((1-$I$3)*'Цены сегментыне'!H26,"по запросу") -> 632.94231
C15: 110 | D15: 150 | E15: =IFERROR((1-$I$3)*'Цены сегментыне'!D27,"по запросу") -> 773.59615 | F15: =IFERROR((1-$I$3)*'Цены сегментыне'!E27,"по запросу") -> 747.05769 | G15: =IFERROR((1-$I$3)*'Цены сегментыне'!F27,"по запросу") -> 655.5 | H15: =IFERROR((1-$I$3)*'Цены сегментыне'!G27,"по запросу") -> 635.59615 | I15: =IFERROR((1-$I$3)*'Цены сегментыне'!H27,"по запросу") -> 619.67308
C16: 125 | D16: 150 | E16: =IFERROR((1-$I$3)*'Цены сегментыне'!D28,"по запросу") -> 1531.2692 | F16: =IFERROR((1-$I$3)*'Цены сегментыне'!E28,"по запросу") -> 1491.4615 | G16: =IFERROR((1-$I$3)*'Цены сегментыне'!F28,"по запросу") -> 1470.2308 | H16: =IFERROR((1-$I$3)*'Цены сегментыне'!G28,"по запросу") -> 1443.6923 | I16: =IFERROR((1-$I$3)*'Цены сегментыне'!H28,"по запросу") -> 1421.1346
C17: 140 | D17: 150 | E17: =IFERROR((1-$I$3)*'Цены сегментыне'!D29,"по запросу") -> 2113.7885 | F17: =IFERROR((1-$I$3)*'Цены сегментыне'!E29,"по запросу") -> 2066.0192 | G17: =IFERROR((1-$I$3)*'Цены сегментыне'!F29,"по запросу") -> 1840.4423 | H17: =IFERROR((1-$I$3)*'Цены сегментыне'!G29,"по запросу") -> 1805.9423 | I17: =IFERROR((1-$I$3)*'Цены сегментыне'!H29,"по запросу") -> 1778.0769
C18: 160 | D18: 200 | E18: =IFERROR((1-$I$3)*'Цены сегментыне'!D30,"по запросу") -> 1460.9423 | F18: =IFERROR((1-$I$3)*'Цены сегментыне'!E30,"по запросу") -> 1378.6731 | G18: =IFERROR((1-$I$3)*'Цены сегментыне'!F30,"по запросу") -> 1285.7885 | H18: =IFERROR((1-$I$3)*'Цены сегментыне'!G30,"по запросу") -> 1230.0577 | I18: =IFERROR((1-$I$3)*'Цены сегментыне'!H30,"по запросу") -> 1184.9423
C19: 180 | D19: 200 | E19: =IFERROR((1-$I$3)*'Цены сегментыне'!D31,"по запросу") -> 2898 | F19: =IFERROR((1-$I$3)*'Цены сегментыне'!E31,"по запросу") -> 2797.1538 | G19: =IFERROR((1-$I$3)*'Цены сегментыне'!F31,"по запросу") -> 2513.1923 | H19: =IFERROR((1-$I$3)*'Цены сегментыне'!G31,"по запросу") -> 2440.2115 | I19: =IFERROR((1-$I$3)*'Цены сегментыне'!H31,"по запросу") -> 2380.5
C20: 200 | D20: 230 | E20: =IFERROR((1-$I$3)*'Цены сегментыне'!D32,"по запросу") -> 2299.5577 | F20: =IFERROR((1-$I$3)*'Цены сегментыне'!E32,"по запросу") -> 2194.7308 | G20: =IFERROR((1-$I$3)*'Цены сегментыне'!F32,"по запросу") -> 1974.4615 | H20: =IFERROR((1-$I$3)*'Цены сегментыне'!G32,"по запросу") -> 1904.1346 | I20: =IFERROR((1-$I$3)*'Цены сегментыне'!H32,"по запросу") -> 1843.0962
C21: 225 | D21: 230 | E21: =IFERROR((1-$I$3)*'Цены сегментыне'!D33,"по запросу") -> 2356.6154 | F21: =IFERROR((1-$I$3)*'Цены сегментыне'!E33,"по запросу") -> 2233.2115 | G21: =IFERROR((1-$I$3)*'Цены сегментыне'!F33,"по запросу") -> 2001 | H21: =IFERROR((1-$I$3)*'Цены сегментыне'!G33,"по запросу") -> 1914.75 | I21: =IFERROR((1-$I$3)*'Цены сегментыне'!H33,"по запросу") -> 1840.4423
C22: 250 | D22: 230 | E22: =IFERROR((1-$I$3)*'Цены сегментыне'!D34,"по запросу") -> 3550.8462 | F22: =IFERROR((1-$I$3)*'Цены сегментыне'!E34,"по запросу") -> 3381 | G22: =IFERROR((1-$I$3)*'Цены сегментыне'!F34,"по запросу") -> 3022.7308 | H22: =IFERROR((1-$I$3)*'Цены сегментыне'!G34,"по запросу") -> 2899.3269 | I22: =IFERROR((1-$I$3)*'Цены сегментыне'!H34,"по запросу") -> 2802.4615
... C35: 1200 | D35: 800 | E35: =IFERROR((1-$I$3)*'Цены сегментыне'!D47,"по запросу") -> по запросу | F35: =IFERROR((1-$I$3)*'Цены сегментыне'!E47,"по запросу") -> по запросу | G35: =IFERROR((1-$I$3)*'Цены сегментыне'!F47,"по запросу") -> по запросу | H35: =IFERROR((1-$I$3)*'Цены сегментыне'!G47,"по запросу") -> по запросу | I35: =IFERROR((1-$I$3)*'Цены сегментыне'!H47,"по запросу") -> по запросу
C36: Отвод сварной 5° - 45° 2-х сегментный ПЭ100 | J36: Отвод сварной 45° - 90° 3-х сегментный ПЭ100
C37: Ø, мм | D37: L (мм) | E37: SDR 11 PN 16 | F37: SDR 13,6 PN 12,5 | G37: SDR 17 PN 10 | H37: SDR 21 PN 8 | I37: SDR 26 PN 6 | J37: Ø, мм | K37: L (мм) | L37: SDR 11 PN 16 | M37: SDR 13,6 PN 12,5 | N37: SDR 17 PN 10 | O37: SDR 21 PN 8 | P37: SDR 26 PN 6
C38: 50 | D38: 80 | E38: =IFERROR((1-$I$3)*'Цены сегментыне'!D50,"по запросу") -> 134.01923 | F38: =IFERROR((1-$I$3)*'Цены сегментыне'!E50,"по запросу") -> 126.05769 | G38: =IFERROR((1-$I$3)*'Цены сегментыне'!F50,"по запросу") -> 115.44231 | H38: =IFERROR((1-$I$3)*'Цены сегментыне'!G50,"по запросу") -> 110.13462 | I38: =IFERROR((1-$I$3)*'Цены сегментыне'!H50,"по запросу") -> 103.5 | J38: 50 | K38: 80 | L38: =IFERROR((1-$I$3)*'Цены сегментыне'!K50,"по запросу") -> 241.5 | M38: =IFERROR((1-$I$3)*'Цены сегментыне'!L50,"по запросу") -> 228.23077 | N38: =IFERROR((1-$I$3)*'Цены сегментыне'!M50,"по запросу") -> 212.30769 | O38: =IFERROR((1-$I$3)*'Цены сегментыне'!N50,"по запросу") -> 203.01923 | P38: =IFERROR((1-$I$3)*'Цены сегментыне'!O50,"по запросу") -> 196.38462
C39: 63 | D39: 80 | E39: =IFERROR((1-$I$3)*'Цены сегментыне'!D51,"по запросу") -> 187.09615 | F39: =IFERROR((1-$I$3)*'Цены сегментыне'!E51,"по запросу") -> 172.5 | G39: =IFERROR((1-$I$3)*'Цены сегментыне'!F51,"по запросу") -> 157.90385 | H39: =IFERROR((1-$I$3)*'Цены сегментыне'!G51,"по запросу") -> 145.96154 | I39: =IFERROR((1-$I$3)*'Цены сегментыне'!H51,"по запросу") -> 139.32692 | J39: 63 | K39: 80 | L39: =IFERROR((1-$I$3)*'Цены сегментыне'!K51,"по запросу") -> 330.40385 | M39: =IFERROR((1-$I$3)*'Цены сегментыне'!L51,"по запросу") -> 309.17308 | N39: =IFERROR((1-$I$3)*'Цены сегментыне'!M51,"по запросу") -> 285.28846 | O39: =IFERROR((1-$I$3)*'Цены сегментыне'!N51,"по запросу") -> 269.36538 | P39: =IFERROR((1-$I$3)*'Цены сегментыне'!O51,"по запросу") -> 258.75
C40: 75 | D40: 70 | E40: =IFERROR((1-$I$3)*'Цены сегментыне'!D52,"по запросу") -> 213.63462 | F40: =IFERROR((1-$I$3)*'Цены сегментыне'!E52,"по запросу") -> 196.38462 | G40: =IFERROR((1-$I$3)*'Цены сегментыне'!F52,"по запросу") -> 177.80769 | H40: =IFERROR((1-$I$3)*'Цены сегментыне'!G52,"по запросу") -> 164.53846 | I40: =IFERROR((1-$I$3)*'Цены сегментыне'!H52,"по запросу") -> 152.59615 | J40: 75 | K40: 70 | L40: =IFERROR((1-$I$3)*'Цены сегментыне'!K52,"по запросу") -> 417.98077 | M40: =IFERROR((1-$I$3)*'Цены сегментыне'!L52,"по запросу") -> 390.11538 | N40: =IFERROR((1-$I$3)*'Цены сегментыне'!M52,"по запросу") -> 358.26923 | O40: =IFERROR((1-$I$3)*'Цены сегментыне'!N52,"по запросу") -> 335.71154 | P40: =IFERROR((1-$I$3)*'Цены сегментыне'!O52,"по запросу") -> 318.46154
C41: 90 | D41: 110 | E41: =IFERROR((1-$I$3)*'Цены сегментыне'!D53,"по запросу") -> 396.75 | F41: =IFERROR((1-$I$3)*'Цены сегментыне'!E53,"по запросу") -> 358.26923 | G41: =IFERROR((1-$I$3)*'Цены сегментыне'!F53,"по запросу") -> 321.11538 | H41: =IFERROR((1-$I$3)*'Цены сегментыне'!G53,"по запросу") -> 293.25 | I41: =IFERROR((1-$I$3)*'Цены сегментыне'!H53,"по запросу") -> 270.69231 | J41: 90 | K41: 150 | L41: =IFERROR((1-$I$3)*'Цены сегментыне'!K53,"по запросу") -> 786.86538 | M41: =IFERROR((1-$I$3)*'Цены сегментыне'!L53,"по запросу") -> 712.55769 | N41: =IFERROR((1-$I$3)*'Цены сегментыне'!M53,"по запросу") -> 636.92308 | O41: =IFERROR((1-$I$3)*'Цены сегментыне'!N53,"по запросу") -> 582.51923 | P41: =IFERROR((1-$I$3)*'Цены сегментыне'!O53,"по запросу") -> 540.05769
C42: 110 | D42: 110 | E42: =IFERROR((1-$I$3)*'Цены сегментыне'!D54,"по запросу") -> 501.57692 | F42: =IFERROR((1-$I$3)*'Цены сегментыне'!E54,"по запросу") -> 453.80769 | G42: =IFERROR((1-$I$3)*'Цены сегментыне'!F54,"по запросу") -> 406.03846 | H42: =IFERROR((1-$I$3)*'Цены сегментыне'!G54,"по запросу") -> 370.21154 | I42: =IFERROR((1-$I$3)*'Цены сегментыне'!H54,"по запросу") -> 337.03846 | J42: 110 | K42: 150 | L42: =IFERROR((1-$I$3)*'Цены сегментыне'!K54,"по запросу") -> 996.51923 | M42: =IFERROR((1-$I$3)*'Цены сегментыне'!L54,"по запросу") -> 899.65385 | N42: =IFERROR((1-$I$3)*'Цены сегментыне'!M54,"по запросу") -> 804.11538 | O42: =IFERROR((1-$I$3)*'Цены сегментыне'!N54,"по запросу") -> 733.78846 | P42: =IFERROR((1-$I$3)*'Цены сегментыне'!O54,"по запросу") -> 671.42308
C43: 125 | D43: 110 | E43: =IFERROR((1-$I$3)*'Цены сегментыне'!D55,"по запросу") -> 667.44231 | F43: =IFERROR((1-$I$3)*'Цены сегментыне'!E55,"по запросу") -> 593.13462 | G43: =IFERROR((1-$I$3)*'Цены сегментыне'!F55,"по запросу") -> 518.82692 | H43: =IFERROR((1-$I$3)*'Цены сегментыне'!G55,"по запросу") -> 469.73077 | I43: =IFERROR((1-$I$3)*'Цены сегментыне'!H55,"по запросу") -> 424.61538 | J43: 125 | K43: 150 | L43: =IFERROR((1-$I$3)*'Цены сегментыне'!K55,"по запросу") -> 1249.9615 | M43: =IFERROR((1-$I$3)*'Цены сегментыне'!L55,"по запросу") -> 1115.9423 | N43: =IFERROR((1-$I$3)*'Цены сегментыне'!M55,"по запросу") -> 981.92308 | O43: =IFERROR((1-$I$3)*'Цены сегментыне'!N55,"по запросу") -> 891.69231 | P43: =IFERROR((1-$I$3)*'Цены сегментыне'!O55,"по запросу") -> 813.40385
C44: 140 | D44: 140 | E44: =IFERROR((1-$I$3)*'Цены сегментыне'!D56,"по запросу") -> 920.88462 | F44: =IFERROR((1-$I$3)*'Цены сегментыне'!E56,"по запросу") -> 810.75 | G44: =IFERROR((1-$I$3)*'Цены сегментыне'!F56,"по запросу") -> 701.94231 | H44: =IFERROR((1-$I$3)*'Цены сегментыне'!G56,"по запросу") -> 622.32692 | I44: =IFERROR((1-$I$3)*'Цены сегментыне'!H56,"по запросу") -> 557.30769 | J44: 140 | K44: 150 | L44: =IFERROR((1-$I$3)*'Цены сегментыне'!K56,"по запросу") -> 1494.1154 | M44: =IFERROR((1-$I$3)*'Цены сегментыне'!L56,"по запросу") -> 1333.5577 | N44: =IFERROR((1-$I$3)*'Цены сегментыне'!M56,"по запросу") -> 1169.0192 | O44: =IFERROR((1-$I$3)*'Цены сегментыне'!N56,"по запросу") -> 1053.5769 | P44: =IFERROR((1-$I$3)*'Цены сегментыне'!O56,"по запросу") -> 958.03846
C45: 160 | D45: 180 | E45: =IFERROR((1-$I$3)*'Цены сегментыне'!D57,"по запросу") -> 1321.6154 | F45: =IFERROR((1-$I$3)*'Цены сегментыне'!E57,"по запросу") -> 1145.1346 | G45: =IFERROR((1-$I$3)*'Цены сегментыне'!F57,"по запросу") -> 976.61538 | H45: =IFERROR((1-$I$3)*'Цены сегментыне'!G57,"по запросу") -> 857.19231 | I45: =IFERROR((1-$I$3)*'Цены сегментыне'!H57,"по запросу") -> 756.34615 | J45: 160 | K45: 200 | L45: =IFERROR((1-$I$3)*'Цены сегментыне'!K57,"по запросу") -> 2108.4808 | M45: =IFERROR((1-$I$3)*'Цены сегментыне'!L57,"по запросу") -> 1847.0769 | N45: =IFERROR((1-$I$3)*'Цены сегментыне'!M57,"по запросу") -> 1597.6154 | O45: =IFERROR((1-$I$3)*'Цены сегментыне'!N57,"по запросу") -> 1422.4615 | P45: =IFERROR((1-$I$3)*'Цены сегментыне'!O57,"по запросу") -> 1273.8462
C46: 180 | D46: 180 | E46: =IFERROR((1-$I$3)*'Цены сегментыне'!D58,"по запросу") -> 1629.4615 | F46: =IFERROR((1-$I$3)*'Цены сегментыне'!E58,"по запросу") -> 1407.8654 | G46: =IFERROR((1-$I$3)*'Цены сегментыне'!F58,"по запросу") -> 1194.2308 | H46: =IFERROR((1-$I$3)*'Цены сегментыне'!G58,"по запросу") -> 1037.6538 | I46: =IFERROR((1-$I$3)*'Цены сегментыне'!H58,"по запросу") -> 906.28846 | J46: 180 | K46: 190 | L46: =IFERROR((1-$I$3)*'Цены сегментыне'!K58,"по запросу") -> 2579.5385 | M46: =IFERROR((1-$I$3)*'Цены сегментыне'!L58,"по запросу") -> 2255.7692 | N46: =IFERROR((1-$I$3)*'Цены сегментыне'!M58,"по запросу") -> 1937.3077 | O46: =IFERROR((1-$I$3)*'Цены сегментыне'!N58,"по запросу") -> 1707.75 | P46: =IFERROR((1-$I$3)*'Цены сегментыне'!O58,"по запросу") -> 1514.0192
C47: 200 | D47: 180 | E47: =IFERROR((1-$I$3)*'Цены сегментыне'!D59,"по запросу") -> 1966.5 | F47: =IFERROR((1-$I$3)*'Цены сегментыне'!E59,"по запросу") -> 1686.5192 | G47: =IFERROR((1-$I$3)*'Цены сегментыне'!F59,"по запросу") -> 1431.75 | H47: =IFERROR((1-$I$3)*'Цены сегментыне'!G59,"по запросу") -> 1240.6731 | I47: =IFERROR((1-$I$3)*'Цены сегментыне'!H59,"по запросу") -> 1078.7885 | J47: 200 | K47: 190 | L47: =IFERROR((1-$I$3)*'Цены сегментыне'!K59,"по запросу") -> 3128.8846 | M47: =IFERROR((1-$I$3)*'Цены сегментыне'!L59,"по запросу") -> 2710.9038 | N47: =IFERROR((1-$I$3)*'Цены сегментыне'!M59,"по запросу") -> 2326.0962 | O47: =IFERROR((1-$I$3)*'Цены сегментыне'!N59,"по запросу") -> 2043.4615 | P47: =IFERROR((1-$I$3)*'Цены сегментыне'!O59,"по запросу") -> 1800.6346
C48: 225 | D48: 170 | E48: =IFERROR((1-$I$3)*'Цены сегментыне'!D60,"по запросу") -> 2440.2115 | F48: =IFERROR((1-$I$3)*'Цены сегментыне'!E60,"по запросу") -> 2089.9038 | G48: =IFERROR((1-$I$3)*'Цены сегментыне'!F60,"по запросу") -> 1760.8269 | H48: =IFERROR((1-$I$3)*'Цены сегментыне'!G60,"по запросу") -> 1515.3462 | I48: =IFERROR((1-$I$3)*'Цены сегментыне'!H60,"по запросу") -> 1304.3654 | J48: 225 | K48: 180 | L48: =IFERROR((1-$I$3)*'Цены сегментыне'!K60,"по запросу") -> 3857.3654 | M48: =IFERROR((1-$I$3)*'Цены сегментыне'!L60,"по запросу") -> 3337.2115 | N48: =IFERROR((1-$I$3)*'Цены сегментыне'!M60,"по запросу") -> 2843.5962 | O48: =IFERROR((1-$I$3)*'Цены сегментыне'!N60,"по запросу") -> 2476.0385 | P48: =IFERROR((1-$I$3)*'Цены сегментыне'!O60,"по запросу") -> 2162.8846
C49: 250 | D49: 170 | E49: =IFERROR((1-$I$3)*'Цены сегментыне'!D61,"по запросу") -> 3065.1923 | F49: =IFERROR((1-$I$3)*'Цены сегментыне'!E61,"по запросу") -> 2639.25 | G49: =IFERROR((1-$I$3)*'Цены сегментыне'!F61,"по запросу") -> 2234.5385 | H49: =IFERROR((1-$I$3)*'Цены сегментыне'!G61,"по запросу") -> 1924.0385 | I49: =IFERROR((1-$I$3)*'Цены сегментыне'!H61,"по запросу") -> 1682.5385 | J49: 250 | K49: 180 | L49: =IFERROR((1-$I$3)*'Цены сегментыне'!K61,"по запросу") -> 4875.1154 | M49: =IFERROR((1-$I$3)*'Цены сегментыне'!L61,"по запросу") -> 4242.1731 | N49: =IFERROR((1-$I$3)*'Цены сегментыне'!M61,"по запросу") -> 3633.1154 | O49: =IFERROR((1-$I$3)*'Цены сегментыне'!N61,"по запросу") -> 3171.3462 | P49: =IFERROR((1-$I$3)*'Цены сегментыне'!O61,"по запросу") -> 2809.0962
... C62: 1200 | D62: 500 | E62: =IFERROR((1-$I$3)*'Цены сегментыне'!D74,"по запросу") -> по запросу | F62: =IFERROR((1-$I$3)*'Цены сегментыне'!E74,"по запросу") -> по запросу | G62: =IFERROR((1-$I$3)*'Цены сегментыне'!F74,"по запросу") -> по запросу | H62: =IFERROR((1-$I$3)*'Цены сегментыне'!G74,"по запросу") -> по запросу | I62: =IFERROR((1-$I$3)*'Цены сегментыне'!H74,"по запросу") -> по запросу | J62: 1200 | K62: 500 | L62: =IFERROR((1-$I$3)*'Цены сегментыне'!K74,"по запросу") -> по запросу | M62: =IFERROR((1-$I$3)*'Цены сегментыне'!L74,"по запросу") -> по запросу | N62: =IFERROR((1-$I$3)*'Цены сегментыне'!M74,"по запросу") -> по запросу | O62: =IFERROR((1-$I$3)*'Цены сегментыне'!N74,"по запросу") -> по запросу | P62: =IFERROR((1-$I$3)*'Цены сегментыне'!O74,"по запросу") -> по запросу
C63: Отвод сварной 90° 4-х сегментный ПЭ 100
C64: Ø, мм | D64: L (мм) | E64: SDR 11 PN 16 | F64: SDR 13,6 PN 12,5 | G64: SDR 17 PN 10 | H64: SDR 21 PN 8 | I64: SDR 26 PN 6
C65: 225 | D65: 200 | E65: =IFERROR((1-$I$3)*'Цены сегментыне'!D77,"по запросу") -> 5744.25 | F65: =IFERROR((1-$I$3)*'Цены сегментыне'!E77,"по запросу") -> 5027.7115 | G65: =IFERROR((1-$I$3)*'Цены сегментыне'!F77,"по запросу") -> 4417.3269 | H65: =IFERROR((1-$I$3)*'Цены сегментыне'!G77,"по запросу") -> 3903.8077 | I65: =IFERROR((1-$I$3)*'Цены сегментыне'!H77,"по запросу") -> 3464.5962
C66: 250 | D66: 200 | E66: =IFERROR((1-$I$3)*'Цены сегментыне'!D78,"по запросу") -> 6817.7308 | F66: =IFERROR((1-$I$3)*'Цены сегментыне'!E78,"по запросу") -> 5952.5769 | G66: =IFERROR((1-$I$3)*'Цены сегментыне'!F78,"по запросу") -> 5210.8269 | H66: =IFERROR((1-$I$3)*'Цены сегментыне'!G78,"по запросу") -> 4569.9231 | I66: =IFERROR((1-$I$3)*'Цены сегментыне'!H78,"по запросу") -> 4065.6923
C67: 280 | D67: 200 | E67: =IFERROR((1-$I$3)*'Цены сегментыне'!D79,"по запросу") -> 9468.9231 | F67: =IFERROR((1-$I$3)*'Цены сегментыне'!E79,"по запросу") -> 8188.4423 | G67: =IFERROR((1-$I$3)*'Цены сегментыне'!F79,"по запросу") -> 7088.4231 | H67: =IFERROR((1-$I$3)*'Цены сегментыне'!G79,"по запросу") -> 6172.8462 | I67: =IFERROR((1-$I$3)*'Цены сегментыне'!H79,"по запросу") -> 5362.0962
C68: 315 | D68: 210 | E68: =IFERROR((1-$I$3)*'Цены сегментыне'!D80,"по запросу") -> 11546.885 | F68: =IFERROR((1-$I$3)*'Цены сегментыне'!E80,"по запросу") -> 9961.2115 | G68: =IFERROR((1-$I$3)*'Цены сегментыне'!F80,"по запросу") -> 8556 | H68: =IFERROR((1-$I$3)*'Цены сегментыне'!G80,"по запросу") -> 7402.9038 | I68: =IFERROR((1-$I$3)*'Цены сегментыне'!H80,"по запросу") -> 6467.4231
C69: 355 | D69: 250 | E69: =IFERROR((1-$I$3)*'Цены сегментыне'!D81,"по запросу") -> 16295.942 | F69: =IFERROR((1-$I$3)*'Цены сегментыне'!E81,"по запросу") -> 13939.327 | G69: =IFERROR((1-$I$3)*'Цены сегментыне'!F81,"по запросу") -> 11919.75 | H69: =IFERROR((1-$I$3)*'Цены сегментыне'!G81,"по запросу") -> 10152.288 | I69: =IFERROR((1-$I$3)*'Цены сегментыне'!H81,"по запросу") -> 8720.5385
C70: 400 | D70: 290 | E70: =IFERROR((1-$I$3)*'Цены сегментыне'!D82,"по запросу") -> 22832.365 | F70: =IFERROR((1-$I$3)*'Цены сегментыне'!E82,"по запросу") -> 19366.442 | G70: =IFERROR((1-$I$3)*'Цены сегментыне'!F82,"по запросу") -> 16382.192 | H70: =IFERROR((1-$I$3)*'Цены сегментыне'!G82,"по запросу") -> 13927.385 | I70: =IFERROR((1-$I$3)*'Цены сегментыне'!H82,"по запросу") -> 11857.385
C71: 450 | D71: 325 | E71: =IFERROR((1-$I$3)*'Цены сегментыне'!D83,"по запросу") -> 30077.365 | F71: =IFERROR((1-$I$3)*'Цены сегментыне'!E83,"по запросу") -> 25421.192 | G71: =IFERROR((1-$I$3)*'Цены сегментыне'!F83,"по запросу") -> 21429.808 | H71: =IFERROR((1-$I$3)*'Цены сегментыне'!G83,"по запросу") -> 18104.538 | I71: =IFERROR((1-$I$3)*'Цены сегментыне'!H83,"по запросу") -> 15290.135
C72: 500 | D72: 315 | E72: =IFERROR((1-$I$3)*'Цены сегментыне'!D84,"по запросу") -> 36733.212 | F72: =IFERROR((1-$I$3)*'Цены сегментыне'!E84,"по запросу") -> 31002.231 | G72: =IFERROR((1-$I$3)*'Цены сегментыне'!F84,"по запросу") -> 26091.288 | H72: =IFERROR((1-$I$3)*'Цены сегментыне'!G84,"по запросу") -> 21945.981 | I72: =IFERROR((1-$I$3)*'Цены сегментыне'!H84,"по запросу") -> 18466.788
C73: 560 | D73: 345 | E73: =IFERROR((1-$I$3)*'Цены сегментыне'!D85,"по запросу") -> 57276.635 | F73: =IFERROR((1-$I$3)*'Цены сегментыне'!E85,"по запросу") -> 48146.077 | G73: =IFERROR((1-$I$3)*'Цены сегментыне'!F85,"по запросу") -> 40196.481 | H73: =IFERROR((1-$I$3)*'Цены сегментыне'!G85,"по запросу") -> 33496.846 | I73: =IFERROR((1-$I$3)*'Цены сегментыне'!H85,"по запросу") -> 27911.827
C74: 630 | D74: 425 | E74: =IFERROR((1-$I$3)*'Цены сегментыне'!D86,"по запросу") -> 77850.577 | F74: =IFERROR((1-$I$3)*'Цены сегментыне'!E86,"по запросу") -> 64903.788 | G74: =IFERROR((1-$I$3)*'Цены сегментыне'!F86,"по запросу") -> 54089.365 | H74: =IFERROR((1-$I$3)*'Цены сегментыне'!G86,"по запросу") -> 44769.058 | I74: =IFERROR((1-$I$3)*'Цены сегментыне'!H86,"по запросу") -> 37299.808
C75: 710 | D75: 510 | E75: =IFERROR((1-$I$3)*'Цены сегментыне'!D87,"по запросу") -> 133249.62 | F75: =IFERROR((1-$I$3)*'Цены сегментыне'!E87,"по запросу") -> 112569.52 | G75: =IFERROR((1-$I$3)*'Цены сегментыне'!F87,"по запросу") -> 94946.654 | H75: =IFERROR((1-$I$3)*'Цены сегментыне'!G87,"по запросу") -> 80292.115 | I75: =IFERROR((1-$I$3)*'Цены сегментыне'!H87,"по запросу") -> 68063.192
C76: 800 | D76: 570 | E76: =IFERROR((1-$I$3)*'Цены сегментыне'!D88,"по запросу") -> по запросу | F76: =IFERROR((1-$I$3)*'Цены сегментыне'!E88,"по запросу") -> 144158.25 | G76: =IFERROR((1-$I$3)*'Цены сегментыне'!F88,"по запросу") -> 121032.63 | H76: =IFERROR((1-$I$3)*'Цены сегментыне'!G88,"по запросу") -> 101976.69 | I76: =IFERROR((1-$I$3)*'Цены сегментыне'!H88,"по запросу") -> 85972.673
... C79: 1200 | D79: 720 | E79: =IFERROR((1-$I$3)*'Цены сегментыне'!D91,"по запросу") -> по запросу | F79: =IFERROR((1-$I$3)*'Цены сегментыне'!E91,"по запросу") -> по запросу | G79: =IFERROR((1-$I$3)*'Цены сегментыне'!F91,"по запросу") -> по запросу | H79: =IFERROR((1-$I$3)*'Цены сегментыне'!G91,"по запросу") -> по запросу | I79: =IFERROR((1-$I$3)*'Цены сегментыне'!H91,"по запросу") -> по запросу
C80: Тройник сварной равнопроходной
C81: Диаметр, мм | D81: SDR 11 PN 16 | E81: SDR 13,6 PN 12,5 | F81: SDR 17 PN 10 | G81: SDR 21 PN 8 | H81: SDR 26 PN 6
C82: 50 | D82: =IFERROR((1-$I$3)*'Цены сегментыне'!C94,"по запросу") -> 371.53846 | E82: =IFERROR((1-$I$3)*'Цены сегментыне'!D94,"по запросу") -> 345 | F82: =IFERROR((1-$I$3)*'Цены сегментыне'!E94,"по запросу") -> 317.13462 | G82: =IFERROR((1-$I$3)*'Цены сегментыне'!F94,"по запросу") -> 298.55769 | H82: =IFERROR((1-$I$3)*'Цены сегментыне'!G94,"по запросу") -> 283.96154
C83: 63 | D83: =IFERROR((1-$I$3)*'Цены сегментыне'!C95,"по запросу") -> 518.82692 | E83: =IFERROR((1-$I$3)*'Цены сегментыне'!D95,"по запросу") -> 476.36538 | F83: =IFERROR((1-$I$3)*'Цены сегментыне'!E95,"по запросу") -> 432.57692 | G83: =IFERROR((1-$I$3)*'Цены сегментыне'!F95,"по запросу") -> 400.73077 | H83: =IFERROR((1-$I$3)*'Цены сегментыне'!G95,"по запросу") -> 380.82692
C84: 75 | D84: =IFERROR((1-$I$3)*'Цены сегментыне'!C96,"по запросу") -> 916.90385 | E84: =IFERROR((1-$I$3)*'Цены сегментыне'!D96,"по запросу") -> 824.01923 | F84: =IFERROR((1-$I$3)*'Цены сегментыне'!E96,"по запросу") -> 721.84615 | G84: =IFERROR((1-$I$3)*'Цены сегментыне'!F96,"по запросу") -> 646.21154 | H84: =IFERROR((1-$I$3)*'Цены сегментыне'!G96,"по запросу") -> 585.17308
C85: 90 | D85: =IFERROR((1-$I$3)*'Цены сегментыне'!C97,"по запросу") -> 1089.4038 | E85: =IFERROR((1-$I$3)*'Цены сегментыне'!D97,"по запросу") -> 979.26923 | F85: =IFERROR((1-$I$3)*'Цены сегментыне'!E97,"по запросу") -> 867.80769 | G85: =IFERROR((1-$I$3)*'Цены сегментыне'!F97,"по запросу") -> 785.53846 | H85: =IFERROR((1-$I$3)*'Цены сегментыне'!G97,"по запросу") -> 721.84615
C86: 110 | D86: =IFERROR((1-$I$3)*'Цены сегментыне'!C98,"по запросу") -> 1382.6538 | E86: =IFERROR((1-$I$3)*'Цены сегментыне'!D98,"по запросу") -> 1239.3462 | F86: =IFERROR((1-$I$3)*'Цены сегментыне'!E98,"по запросу") -> 1098.6923 | G86: =IFERROR((1-$I$3)*'Цены сегментыне'!F98,"по запросу") -> 993.86538 | H86: =IFERROR((1-$I$3)*'Цены сегментыне'!G98,"по запросу") -> 900.98077
C87: 125 | D87: =IFERROR((1-$I$3)*'Цены сегментыне'!C99,"по запросу") -> 1735.6154 | E87: =IFERROR((1-$I$3)*'Цены сегментыне'!D99,"по запросу") -> 1537.9038 | F87: =IFERROR((1-$I$3)*'Цены сегментыне'!E99,"по запросу") -> 1341.5192 | G87: =IFERROR((1-$I$3)*'Цены сегментыне'!F99,"по запросу") -> 1210.1538 | H87: =IFERROR((1-$I$3)*'Цены сегментыне'!G99,"по запросу") -> 1092.0577
C88: 140 | D88: =IFERROR((1-$I$3)*'Цены сегментыне'!C100,"по запросу") -> 2084.5962 | E88: =IFERROR((1-$I$3)*'Цены сегментыне'!D100,"по запросу") -> 1845.75 | F88: =IFERROR((1-$I$3)*'Цены сегментыне'!E100,"по запросу") -> 1606.9038 | G88: =IFERROR((1-$I$3)*'Цены сегментыне'!F100,"по запросу") -> 1435.7308 | H88: =IFERROR((1-$I$3)*'Цены сегментыне'!G100,"по запросу") -> 1295.0769
C89: 160 | D89: =IFERROR((1-$I$3)*'Цены сегментыне'!C101,"по запросу") -> 2622 | E89: =IFERROR((1-$I$3)*'Цены сегментыне'!D101,"по запросу") -> 2298.2308 | F89: =IFERROR((1-$I$3)*'Цены сегментыне'!E101,"по запросу") -> 2046.1154 | G89: =IFERROR((1-$I$3)*'Цены сегментыне'!F101,"по запросу") -> 1770.1154 | H89: =IFERROR((1-$I$3)*'Цены сегментыне'!G101,"по запросу") -> 1585.6731
C90: 180 | D90: =IFERROR((1-$I$3)*'Цены сегментыне'!C102,"по запросу") -> 3205.8462 | E90: =IFERROR((1-$I$3)*'Цены сегментыне'!D102,"по запросу") -> 2805.1154 | F90: =IFERROR((1-$I$3)*'Цены сегментыне'!E102,"по запросу") -> 2409.6923 | G90: =IFERROR((1-$I$3)*'Цены сегментыне'!F102,"по запросу") -> 2123.0769 | H90: =IFERROR((1-$I$3)*'Цены сегментыне'!G102,"по запросу") -> 1884.2308
C91: 200 | D91: =IFERROR((1-$I$3)*'Цены сегментыне'!C103,"по запросу") -> 3846.75 | E91: =IFERROR((1-$I$3)*'Цены сегментыне'!D103,"по запросу") -> 3338.5385 | F91: =IFERROR((1-$I$3)*'Цены сегментыне'!E103,"по запросу") -> 2864.8269 | G91: =IFERROR((1-$I$3)*'Цены сегментыне'!F103,"по запросу") -> 2521.1538 | H91: =IFERROR((1-$I$3)*'Цены сегментыне'!G103,"по запросу") -> 2225.25
C92: 225 | D92: =IFERROR((1-$I$3)*'Цены сегментыне'!C104,"по запросу") -> 4743.75 | E92: =IFERROR((1-$I$3)*'Цены сегментыне'!D104,"по запросу") -> 4106.8269 | F92: =IFERROR((1-$I$3)*'Цены сегментыне'!E104,"по запросу") -> 3501.75 | G92: =IFERROR((1-$I$3)*'Цены сегментыне'!F104,"по запросу") -> 3051.9231 | H92: =IFERROR((1-$I$3)*'Цены сегментыне'!G104,"по запросу") -> 2669.7692
C93: 250 | D93: =IFERROR((1-$I$3)*'Цены сегментыне'!C105,"по запросу") -> 5937.9808 | E93: =IFERROR((1-$I$3)*'Цены сегментыне'!D105,"по запросу") -> 5163.0577 | F93: =IFERROR((1-$I$3)*'Цены сегментыне'!E105,"по запросу") -> 4418.6538 | G93: =IFERROR((1-$I$3)*'Цены сегментыне'!F105,"по запросу") -> 3853.3846 | H93: =IFERROR((1-$I$3)*'Цены сегментыне'!G105,"по запросу") -> 3408.8654
... C104: 900 | D104: =IFERROR((1-$I$3)*'Цены сегментыне'!C116,"по запросу") -> по запросу | E104: =IFERROR((1-$I$3)*'Цены сегментыне'!D116,"по запросу") -> по запросу | F104: =IFERROR((1-$I$3)*'Цены сегментыне'!E116,"по запросу") -> по запросу | G104: =IFERROR((1-$I$3)*'Цены сегментыне'!F116,"по запросу") -> по запросу | H104: =IFERROR((1-$I$3)*'Цены сегментыне'!G116,"по запросу") -> по запросу
C105: Тройник сварной редукционный ПЭ100
C106: Диаметр, мм | D106: SDR 11 PN 16 | E106: SDR 13,6 PN 12,5 | F106: SDR 17 PN 10 | G106: SDR 21 PN 8
C107: 315 х 110 | D107: =IFERROR((1-$I$3)*'Цены сегментыне'!C119,"по запросу") -> 15968.192 | E107: =IFERROR((1-$I$3)*'Цены сегментыне'!D119,"по запросу") -> 14435.596 | F107: =IFERROR((1-$I$3)*'Цены сегментыне'!E119,"по запросу") -> 12300.577 | G107: =IFERROR((1-$I$3)*'Цены сегментыне'!F119,"по запросу") -> 11205.865
C108: 315 х 160 | D108: =IFERROR((1-$I$3)*'Цены сегментыне'!C120,"по запросу") -> 16173.865 | E108: =IFERROR((1-$I$3)*'Цены сегментыне'!D120,"по запросу") -> 14641.269 | F108: =IFERROR((1-$I$3)*'Цены сегментыне'!E120,"по запросу") -> 12029.885 | G108: =IFERROR((1-$I$3)*'Цены сегментыне'!F120,"по запросу") -> 10935.173
C109: 315 х 225 | D109: =IFERROR((1-$I$3)*'Цены сегментыне'!C121,"по запросу") -> 14337.404 | E109: =IFERROR((1-$I$3)*'Цены сегментыне'!D121,"по запросу") -> 12804.808 | F109: =IFERROR((1-$I$3)*'Цены сегментыне'!E121,"по запросу") -> 10661.827 | G109: =IFERROR((1-$I$3)*'Цены сегментыне'!F121,"по запросу") -> 9565.7885
C110: 400 х 110 | D110: =IFERROR((1-$I$3)*'Цены сегментыне'!C122,"по запросу") -> 27988.788 | E110: =IFERROR((1-$I$3)*'Цены сегментыне'!D122,"по запросу") -> 25031.077 | F110: =IFERROR((1-$I$3)*'Цены сегментыне'!E122,"по запросу") -> 20885.769 | G110: =IFERROR((1-$I$3)*'Цены сегментыне'!F122,"по запросу") -> 18827.712
C111: 400 х 160 | D111: =IFERROR((1-$I$3)*'Цены сегментыне'!C123,"по запросу") -> 28193.135 | E111: =IFERROR((1-$I$3)*'Цены сегментыне'!D123,"по запросу") -> 25236.75 | F111: =IFERROR((1-$I$3)*'Цены сегментыне'!E123,"по запросу") -> 20616.404 | G111: =IFERROR((1-$I$3)*'Цены сегментыне'!F123,"по запросу") -> 18557.019
C112: 400 х 225 | D112: =IFERROR((1-$I$3)*'Цены сегментыне'!C124,"по запросу") -> 26356.673 | E112: =IFERROR((1-$I$3)*'Цены сегментыне'!D124,"по запросу") -> 23400.288 | F112: =IFERROR((1-$I$3)*'Цены сегментыне'!E124,"по запросу") -> 19247.019 | G112: =IFERROR((1-$I$3)*'Цены сегментыне'!F124,"по запросу") -> 17188.962
C113: 400 х 315 | D113: =IFERROR((1-$I$3)*'Цены сегментыне'!C125,"по запросу") -> 24629.019 | E113: =IFERROR((1-$I$3)*'Цены сегментыне'!D125,"по запросу") -> 21671.308 | F113: =IFERROR((1-$I$3)*'Цены сегментыне'!E125,"по запросу") -> 17759.538 | G113: =IFERROR((1-$I$3)*'Цены сегментыне'!F125,"по запросу") -> 15701.481
C114: 500 х 110 | D114: =IFERROR((1-$I$3)*'Цены сегментыне'!C126,"по запросу") -> 47036.769 | E114: =IFERROR((1-$I$3)*'Цены сегментыне'!D126,"по запросу") -> 41934.75 | F114: =IFERROR((1-$I$3)*'Цены сегментыне'!E126,"по запросу") -> 35700.865 | G114: =IFERROR((1-$I$3)*'Цены сегментыне'!F126,"по запросу") -> 32075.712
C115: 500 х 160 | D115: =IFERROR((1-$I$3)*'Цены сегментыне'!C127,"по запросу") -> 47241.115 | E115: =IFERROR((1-$I$3)*'Цены сегментыне'!D127,"по запросу") -> 42140.423 | F115: =IFERROR((1-$I$3)*'Цены сегментыне'!E127,"по запросу") -> 35430.173 | G115: =IFERROR((1-$I$3)*'Цены сегментыне'!F127,"по запросу") -> 31805.019
C116: 500 х 225 | D116: =IFERROR((1-$I$3)*'Цены сегментыне'!C128,"по запросу") -> 45404.654 | E116: =IFERROR((1-$I$3)*'Цены сегментыне'!D128,"по запросу") -> 40303.962 | F116: =IFERROR((1-$I$3)*'Цены сегментыне'!E128,"по запросу") -> 34060.788 | G116: =IFERROR((1-$I$3)*'Цены сегментыне'!F128,"по запросу") -> 30436.962
C117: 500 х 315 | D117: =IFERROR((1-$I$3)*'Цены сегментыне'!C129,"по запросу") -> 43677 | E117: =IFERROR((1-$I$3)*'Цены сегментыне'!D129,"по запросу") -> 38574.981 | F117: =IFERROR((1-$I$3)*'Цены сегментыне'!E129,"по запросу") -> 32573.308 | G117: =IFERROR((1-$I$3)*'Цены сегментыне'!F129,"по запросу") -> 28948.154
C118: 500 х 400 | D118: =IFERROR((1-$I$3)*'Цены сегментыне'!C130,"по запросу") -> 41167.788 | E118: =IFERROR((1-$I$3)*'Цены сегментыне'!D130,"по запросу") -> 36065.769 | F118: =IFERROR((1-$I$3)*'Цены сегментыне'!E130,"по запросу") -> 30795.231 | G118: =IFERROR((1-$I$3)*'Цены сегментыне'!F130,"по запросу") -> 27170.077
... C122: 630 х 500 | D122: =IFERROR((1-$I$3)*'Цены сегментыне'!C134,"по запросу") -> 100160.13 | E122: =IFERROR((1-$I$3)*'Цены сегментыне'!D134,"по запросу") -> 86885.596 | F122: =IFERROR((1-$I$3)*'Цены сегментыне'!E134,"по запросу") -> 67953.058 | G122: =IFERROR((1-$I$3)*'Цены сегментыне'!F134,"по запросу") -> 58566.404
C123: Тройник сварной 45°-60° Y-образный ПЭ100 | H123: Крестовина сварная 45° ПЭ100
C124: Диаметр, мм | D124: SDR 11 PN 16 | E124: SDR 13,6 PN 12,5 | F124: SDR 17 PN 10 | G124: SDR 21 PN 8 | H124: Диаметр, мм | I124: SDR 11 PN 16 | J124: SDR 13,6 PN 12,5 | K124: SDR 17 PN 10 | L124: SDR 21 PN 8
C125: 63 | D125: =IFERROR((1-$I$3)*'Цены сегментыне'!C137,"по запросу") -> 930.17308 | E125: =IFERROR((1-$I$3)*'Цены сегментыне'!D137,"по запросу") -> 875.76923 | F125: =IFERROR((1-$I$3)*'Цены сегментыне'!E137,"по запросу") -> 829.32692 | G125: =IFERROR((1-$I$3)*'Цены сегментыне'!F137,"по запросу") -> 785.53846 | H125: 63 | I125: =IFERROR((1-$I$3)*'Цены сегментыне'!H137,"по запросу") -> 1528.6154 | J125: =IFERROR((1-$I$3)*'Цены сегментыне'!I137,"по запросу") -> 1445.0192 | K125: =IFERROR((1-$I$3)*'Цены сегментыне'!J137,"по запросу") -> 1376.0192 | L125: =IFERROR((1-$I$3)*'Цены сегментыне'!K137,"по запросу") -> 1309.6731
C126: 75 | D126: =IFERROR((1-$I$3)*'Цены сегментыне'!C138,"по запросу") -> 1167.6923 | E126: =IFERROR((1-$I$3)*'Цены сегментыне'!D138,"по запросу") -> 1098.6923 | F126: =IFERROR((1-$I$3)*'Цены сегментыне'!E138,"по запросу") -> 1031.0192 | G126: =IFERROR((1-$I$3)*'Цены сегментыне'!F138,"по запросу") -> 973.96154 | H126: 75 | I126: =IFERROR((1-$I$3)*'Цены сегментыне'!H138,"по запросу") -> 1942.6154 | J126: =IFERROR((1-$I$3)*'Цены сегментыне'!I138,"по запросу") -> 1831.1538 | K126: =IFERROR((1-$I$3)*'Цены сегментыне'!J138,"по запросу") -> 1727.6538 | L126: =IFERROR((1-$I$3)*'Цены сегментыне'!K138,"по запросу") -> 1638.75
C127: 90 | D127: =IFERROR((1-$I$3)*'Цены сегментыне'!C139,"по запросу") -> 1861.6731 | E127: =IFERROR((1-$I$3)*'Цены сегментыне'!D139,"по запросу") -> 1693.1538 | F127: =IFERROR((1-$I$3)*'Цены сегментыне'!E139,"по запросу") -> 1548.5192 | G127: =IFERROR((1-$I$3)*'Цены сегментыне'!F139,"по запросу") -> 1422.4615 | H127: 90 | I127: =IFERROR((1-$I$3)*'Цены сегментыне'!H139,"по запросу") -> 2884.7308 | J127: =IFERROR((1-$I$3)*'Цены сегментыне'!I139,"по запросу") -> 2649.8654 | K127: =IFERROR((1-$I$3)*'Цены сегментыне'!J139,"по запросу") -> 2448.1731 | L127: =IFERROR((1-$I$3)*'Цены сегментыне'!K139,"по запросу") -> 2270.3654
C128: 110 | D128: =IFERROR((1-$I$3)*'Цены сегментыне'!C140,"по запросу") -> 2531.7692 | E128: =IFERROR((1-$I$3)*'Цены сегментыне'!D140,"по запросу") -> 2283.6346 | F128: =IFERROR((1-$I$3)*'Цены сегментыне'!E140,"по запросу") -> 2073.9808 | G128: =IFERROR((1-$I$3)*'Цены сегментыне'!F140,"по запросу") -> 1892.1923 | H128: 110 | I128: =IFERROR((1-$I$3)*'Цены сегментыне'!H140,"по запросу") -> 3886.5577 | J128: =IFERROR((1-$I$3)*'Цены сегментыне'!I140,"по запросу") -> 3540.2308 | K128: =IFERROR((1-$I$3)*'Цены сегментыне'!J140,"по запросу") -> 3245.6538 | L128: =IFERROR((1-$I$3)*'Цены сегментыне'!K140,"по запросу") -> 2990.8846
C129: 125 | D129: =IFERROR((1-$I$3)*'Цены сегментыне'!C141,"по запросу") -> 3099.6923 | E129: =IFERROR((1-$I$3)*'Цены сегментыне'!D141,"по запросу") -> 2770.6154 | F129: =IFERROR((1-$I$3)*'Цены сегментыне'!E141,"по запросу") -> 2484 | G129: =IFERROR((1-$I$3)*'Цены сегментыне'!F141,"по запросу") -> 2257.0962 | H129: 125 | I129: =IFERROR((1-$I$3)*'Цены сегментыне'!H141,"по запросу") -> 4851.2308 | J129: =IFERROR((1-$I$3)*'Цены сегментыне'!I141,"по запросу") -> 4372.2115 | K129: =IFERROR((1-$I$3)*'Цены сегментыне'!J141,"по запросу") -> 3950.25 | L129: =IFERROR((1-$I$3)*'Цены сегментыне'!K141,"по запросу") -> 3617.1923
C130: 140 | D130: =IFERROR((1-$I$3)*'Цены сегментыне'!C142,"по запросу") -> 4124.0769 | E130: =IFERROR((1-$I$3)*'Цены сегментыне'!D142,"по запросу") -> 3654.3462 | F130: =IFERROR((1-$I$3)*'Цены сегментыне'!E142,"по запросу") -> 3240.3462 | G130: =IFERROR((1-$I$3)*'Цены сегментыне'!F142,"по запросу") -> 2896.6731 | H130: 140 | I130: =IFERROR((1-$I$3)*'Цены сегментыне'!H142,"по запросу") -> 6470.0769 | J130: =IFERROR((1-$I$3)*'Цены сегментыне'!I142,"по запросу") -> 5770.7885 | K130: =IFERROR((1-$I$3)*'Цены сегментыне'!J142,"по запросу") -> 5152.4423 | L130: =IFERROR((1-$I$3)*'Цены сегментыне'!K142,"по запросу") -> 4638.9231
C131: 160 | D131: =IFERROR((1-$I$3)*'Цены сегментыне'!C143,"по запросу") -> 5214.8077 | E131: =IFERROR((1-$I$3)*'Цены сегментыне'!D143,"по запросу") -> 4571.25 | F131: =IFERROR((1-$I$3)*'Цены сегментыне'!E143,"по запросу") -> 4027.2115 | G131: =IFERROR((1-$I$3)*'Цены сегментыне'!F143,"по запросу") -> 3588 | H131: 160 | I131: =IFERROR((1-$I$3)*'Цены сегментыне'!H143,"по запросу") -> 7901.8269 | J131: =IFERROR((1-$I$3)*'Цены сегментыне'!I143,"по запросу") -> 6984.9231 | K131: =IFERROR((1-$I$3)*'Цены сегментыне'!J143,"по запросу") -> 6207.3462 | L131: =IFERROR((1-$I$3)*'Цены сегментыне'!K143,"по запросу") -> 5578.3846
C132: 180 | D132: =IFERROR((1-$I$3)*'Цены сегментыне'!C144,"по запросу") -> 6846.9231 | E132: =IFERROR((1-$I$3)*'Цены сегментыне'!D144,"по запросу") -> 5968.5 | F132: =IFERROR((1-$I$3)*'Цены сегментыне'!E144,"по запросу") -> 5198.8846 | G132: =IFERROR((1-$I$3)*'Цены сегментыне'!F144,"по запросу") -> 4563.2885 | H132: 180 | I132: =IFERROR((1-$I$3)*'Цены сегментыне'!H144,"по запросу") -> 9867 | J132: =IFERROR((1-$I$3)*'Цены сегментыне'!I144,"по запросу") -> 8686.0385 | K132: =IFERROR((1-$I$3)*'Цены сегментыне'!J144,"по запросу") -> 7651.0385 | L132: =IFERROR((1-$I$3)*'Цены сегментыне'!K144,"по запросу") -> 6796.5
C133: 200 | D133: =IFERROR((1-$I$3)*'Цены сегментыне'!C145,"по запросу") -> 8862.5192 | E133: =IFERROR((1-$I$3)*'Цены сегментыне'!D145,"по запросу") -> 7637.7692 | F133: =IFERROR((1-$I$3)*'Цены сегментыне'!E145,"по запросу") -> 6625.3269 | G133: =IFERROR((1-$I$3)*'Цены сегментыне'!F145,"по запросу") -> 5778.75 | H133: 200 | I133: =IFERROR((1-$I$3)*'Цены сегментыне'!H145,"по запросу") -> 13922.077 | J133: =IFERROR((1-$I$3)*'Цены сегментыне'!I145,"по запросу") -> 12049.788 | K133: =IFERROR((1-$I$3)*'Цены сегментыне'!J145,"по запросу") -> 10502.596 | L133: =IFERROR((1-$I$3)*'Цены сегментыне'!K145,"по запросу") -> 9207.5192
C134: 225 | D134: =IFERROR((1-$I$3)*'Цены сегментыне'!C146,"по запросу") -> 12252.808 | E134: =IFERROR((1-$I$3)*'Цены сегментыне'!D146,"по запросу") -> 10498.615 | F134: =IFERROR((1-$I$3)*'Цены сегментыне'!E146,"по запросу") -> 9001.8462 | G134: =IFERROR((1-$I$3)*'Цены сегментыне'!F146,"по запросу") -> 7742.5962 | H134: 225 | I134: =IFERROR((1-$I$3)*'Цены сегментыне'!H146,"по запросу") -> 16696.673 | J134: =IFERROR((1-$I$3)*'Цены сегментыне'!I146,"по запросу") -> 14443.558 | K134: =IFERROR((1-$I$3)*'Цены сегментыне'!J146,"по запросу") -> 12522.173 | L134: =IFERROR((1-$I$3)*'Цены сегментыне'!K146,"по запросу") -> 10903.327
C135: 250 | D135: =IFERROR((1-$I$3)*'Цены сегментыне'!C147,"по запросу") -> 14681.077 | E135: =IFERROR((1-$I$3)*'Цены сегментыне'!D147,"по запросу") -> 12561.981 | F135: =IFERROR((1-$I$3)*'Цены сегментыне'!E147,"по запросу") -> 10746.75 | G135: =IFERROR((1-$I$3)*'Цены сегментыне'!F147,"по запросу") -> 9171.6923 | H135: 250 | I135: =IFERROR((1-$I$3)*'Цены сегментыне'!H147,"по запросу") -> 20661.519 | J135: =IFERROR((1-$I$3)*'Цены сегментыне'!I147,"по запросу") -> 17811.288 | K135: =IFERROR((1-$I$3)*'Цены сегментыне'!J147,"по запросу") -> 15365.769 | L135: =IFERROR((1-$I$3)*'Цены сегментыне'!K147,"по запросу") -> 13250.654
C136: 280 | D136: =IFERROR((1-$I$3)*'Цены сегментыне'!C148,"по запросу") -> 21459 | E136: =IFERROR((1-$I$3)*'Цены сегментыне'!D148,"по запросу") -> 18226.615 | F136: =IFERROR((1-$I$3)*'Цены сегментыне'!E148,"по запросу") -> 15457.327 | G136: =IFERROR((1-$I$3)*'Цены сегментыне'!F148,"по запросу") -> 13147.154 | H136: 280 | I136: =IFERROR((1-$I$3)*'Цены сегментыне'!H148,"по запросу") -> 34139.077 | J136: =IFERROR((1-$I$3)*'Цены сегментыне'!I148,"по запросу") -> 29056.962 | K136: =IFERROR((1-$I$3)*'Цены сегментыне'!J148,"по запросу") -> 24700.673 | L136: =IFERROR((1-$I$3)*'Цены сегментыне'!K148,"по запросу") -> 21075.519
C137: 315 | D137: =IFERROR((1-$I$3)*'Цены сегментыне'!C149,"по запросу") -> 26389.846 | E137: =IFERROR((1-$I$3)*'Цены сегментыне'!D149,"по запросу") -> 22394.481 | F137: =IFERROR((1-$I$3)*'Цены сегментыне'!E149,"по запросу") -> 18852.923 | G137: =IFERROR((1-$I$3)*'Цены сегментыне'!F149,"по запросу") -> 15945.635 | H137: 315 | I137: =IFERROR((1-$I$3)*'Цены сегментыне'!H149,"по запросу") -> 38164.962 | J137: =IFERROR((1-$I$3)*'Цены сегментыне'!I149,"по запросу") -> 32528.192 | K137: =IFERROR((1-$I$3)*'Цены сегментыне'!J149,"по запросу") -> 27536.308 | L137: =IFERROR((1-$I$3)*'Цены сегментыне'!K149,"по запросу") -> 23437.442
C138: 355 | D138: =IFERROR((1-$I$3)*'Цены сегментыне'!C150,"по запросу") -> по запросу | E138: =IFERROR((1-$I$3)*'Цены сегментыне'!D150,"по запросу") -> по запросу | F138: =IFERROR((1-$I$3)*'Цены сегментыне'!E150,"по запросу") -> по запросу | G138: =IFERROR((1-$I$3)*'Цены сегментыне'!F150,"по запросу") -> по запросу
C139: 400 | D139: =IFERROR((1-$I$3)*'Цены сегментыне'!C151,"по запросу") -> по запросу | E139: =IFERROR((1-$I$3)*'Цены сегментыне'!D151,"по запросу") -> по запросу | F139: =IFERROR((1-$I$3)*'Цены сегментыне'!E151,"по запросу") -> по запросу | G139: =IFERROR((1-$I$3)*'Цены сегментыне'!F151,"по запросу") -> по запросу
C140: Крестовина сварная ПЭ100
...

Sheet Литые фитинги
C2: ПРАЙС ЛИТЫЕ ФИТИНГИ ПЭ 100 ПРЕДНАЗНАЧЕНЫ ДЛЯ СВАРКИ МУФТАМИ ИЛИ ВСТЫК
D3: Скидка | E3: 0.25
C4: 8 (843) 204-11-98 | D4: zapros@atlant-tat.com | E4: www.atlant-tat.com
C5: калькулятор для расчета ПНД труб | E5: Скачать
C6: направьте заявку Online | E6: Отправить
C7: Отводы ПНД литые на 90 гр. SDR 11
C8: Диаметр | D8: Цена прайс | E8: Цена со скидкой
C9: 63 | D9: 171 | E9: =D9-D9*$E$3 -> 128.25
C10: 75 | D10: 388 | E10: =D10-D10*$E$3 -> 291
C11: 90 | D11: 469 | E11: =D11-D11*$E$3 -> 351.75
C12: 110 | D12: 750 | E12: =D12-D12*$E$3 -> 562.5
C13: 125 | D13: 1233 | E13: =D13-D13*$E$3 -> 924.75
C14: 140 | D14: 1836 | E14: =D14-D14*$E$3 -> 1377
C15: 160 | D15: 1768 | E15: =D15-D15*$E$3 -> 1326
C16: 180 | D16: 3938 | E16: =D16-D16*$E$3 -> 2953.5
C17: 200 | D17: 3625 | E17: =D17-D17*$E$3 -> 2718.75
C18: 225 | D18: 5010 | E18: =D18-D18*$E$3 -> 3757.5
C19: 250 | D19: 6219 | E19: =D19-D19*$E$3 -> 4664.25
C20: 280 | D20: 9411 | E20: =D20-D20*$E$3 -> 7058.25
... C25: 500 | D25: 69763 | E25: =D25-D25*$E$3 -> 52322.25
C26: Отводы ПНД литые на 45 гр. SDR 11
C27: Диаметр | D27: Цена прайс | E27: Цена со скидкой
C28: 63 | D28: 146 | E28: =D28-D28*$E$3 -> 109.5
C29: 75 | D29: 408 | E29: =D29-D29*$E$3 -> 306
C30: 90 | D30: 480 | E30: =D30-D30*$E$3 -> 360
C31: 110 | D31: 719 | E31: =D31-D31*$E$3 -> 539.25
C32: 125 | D32: 1341 | E32: =D32-D32*$E$3 -> 1005.75
C33: 160 | D33: 1627 | E33: =D33-D33*$E$3 -> 1220.25
C34: 180 | D34: 2527 | E34: =D34-D34*$E$3 -> 1895.25
C35: 200 | D35: 3155 | E35: =D35-D35*$E$3 -> 2366.25
C36: 225 | D36: 3800 | E36: =D36-D36*$E$3 -> 2850
C37: 250 | D37: 5129 | E37: =D37-D37*$E$3 -> 3846.75
C38: 280 | D38: 7215 | E38: =D38-D38*$E$3 -> 5411.25
C39: 315 | D39: 8930 | E39: =D39-D39*$E$3 -> 6697.5
... C43: 500 | D43: 54825 | E43: =D43-D43*$E$3 -> 41118.75
C44: Тройники ПНД литые равнопроходные SDR 11
C45: Диаметр | D45: Цена прайс | E45: Цена со скидкой
C46: 63*63*63 | D46: 261 | E46: =D46-D46*$E$3 -> 195.75
C47: 75*75*75 | D47: 860 | E47: =D47-D47*$E$3 -> 645
C48: 90*90*90 | D48: 663 | E48: =D48-D48*$E$3 -> 497.25
C49: 110*110*110 | D49: 975 | E49: =D49-D49*$E$3 -> 731.25
C50: 125*125*125 | D50: 1971 | E50: =D50-D50*$E$3 -> 1478.25
C51: 140*140*140 | D51: 2360 | E51: =D51-D51*$E$3 -> 1770
C52: 160*160*160 | D52: 2527 | E52: =D52-D52*$E$3 -> 1895.25
C53: 180*180*180 | D53: 5696 | E53: =D53-D53*$E$3 -> 4272
C54: 200*200*200 | D54: 4380 | E54: =D54-D54*$E$3 -> 3285
C55: 225*225*225 | D55: 6243 | E55: =D55-D55*$E$3 -> 4682.25
C56: 250*250*250 | D56: 10465 | E56: =D56-D56*$E$3 -> 7848.75
C57: 280*280*280 | D57: 13894 | E57: =D57-D57*$E$3 -> 10420.5
... C61: 500*500*500 | D61: 95557 | E61: =D61-D61*$E$3 -> 71667.75
C62: Тройники ПНД литые неравнопроходные SDR 11
C63: Диаметр | D63: Цена прайс | E63: Цена со скидкой
C64: 63*32*63 | D64: 225 | E64: =D64-D64*$E$3 -> 168.75
C65: 90*63*90 | D65: 560 | E65: =D65-D65*$E$3 -> 420
C66: 110*32*110 | D66: 855 | E66: =D66-D66*$E$3 -> 641.25
C67: 110*63*110 | D67: 819 | E67: =D67-D67*$E$3 -> 614.25
C68: 110*90*110 | D68: 961 | E68: =D68-D68*$E$3 -> 720.75
C69: 160*63*160 | D69: 1997 | E69: =D69-D69*$E$3 -> 1497.75
C70: 160*110*160 | D70: 2458 | E70: =D70-D70*$E$3 -> 1843.5
C71: 225*110*225 | D71: 5368 | E71: =D71-D71*$E$3 -> 4026
C72: 225*160*225 | D72: 5790 | E72: =D72-D72*$E$3 -> 4342.5
C73: 315*110*315 | D73: 9965 | E73: =D73-D73*$E$3 -> 7473.75
C74: 315*160*315 | D74: 10283 | E74: =D74-D74*$E$3 -> 7712.25
C75: 315*225*315 | D75: 12230 | E75: =D75-D75*$E$3 -> 9172.5
C76: 400*315*400 | D76: 36405 | E76: =D76-D76*$E$3 -> 27303.75
C77: Переходы ПНД литые SDR 11
C78: Диаметр | D78: Цена прайс | E78: Цена со скидкой
C79: 63*25 | D79: 90 | E79: =D79-D79*$E$3 -> 67.5
C80: 63*32 | D80: 100 | E80: =D80-D80*$E$3 -> 75
C81: 63*40 | D81: 119 | E81: =D81-D81*$E$3 -> 89.25
C82: 63*50 | D82: 130 | E82: =D82-D82*$E$3 -> 97.5
C83: 75*32 | D83: 227 | E83: =D83-D83*$E$3 -> 170.25
C84: 75*50 | D84: 202 | E84: =D84-D84*$E$3 -> 151.5
C85: 75*63 | D85: 247 | E85: =D85-D85*$E$3 -> 185.25
C86: 90*32 | D86: 238 | E86: =D86-D86*$E$3 -> 178.5
C87: 90*40 | D87: 272 | E87: =D87-D87*$E$3 -> 204
C88: 90*50 | D88: 296 | E88: =D88-D88*$E$3 -> 222
C89: 90*63 | D89: 261 | E89: =D89-D89*$E$3 -> 195.75
C90: 90*75 | D90: 349 | E90: =D90-D90*$E$3 -> 261.75
... C144: 400*355 | D144: 10313 | E144: =D144-D144*$E$3 -> 7734.75
C148: Отводы ПНД литые на 90 гр. SDR 17
C149: Наименование | D149: Цена прайс
C150: 63 | D150: 169.6
C151: 90 | D151: 441.6
C152: 110 | D152: 653.05786
C153: 125 | D153: 1107.3649
C154: 140 | D154: 1246.4
C155: 160 | D155: 1424
C156: 180 | D156: 2804.8
C157: 200 | D157: 3020.8
C158: 225 | D158: 4057.6
C159: 250 | D159: 4433.1822
C160: 280 | D160: 7243.2
C161: 315 | D161: 9524.8
C162: Отводы ПНД литые на 45 гр. SDR 17
C163: Наименование | D163: Цена прайс
C164: 63 | D164: 158.80918
C165: 90 | D165: 403.2
C166: 110 | D166: 584.40096
C167: 125 | D167: 799.22621
...

Sheet Цены сегментыне
B1: ООО "АТЛАНТ" - производим стыковые сварочные аппараты, фитинги и поставляем полиэтиленовы трубы
B3: ПРАЙС СЕГМЕНТЫНЕ (СВАРНЫЕ) ПНД ФИТИНГИ
G4: СКИДКА | H4: 0.35
B5: 8 (843) 204-11-98 | D5: zapros@atlant-tat.com | G5: www.atlant-tat.com
B6: Бонус | D6: Калькулятор для расчета ПНД труб | G6: Скачать
B7: цены указаны в рублях с НДС
A8: СОДЕРЖАНИЕ
A9: Втулка сварная удлиненная ПЭ 100
A10: Отвод сварной 5° - 45° (2-х сегментный) ПЭ 100
A11: Отвод сварной 45° - 90° (3-х сегментный) ПЭ 100
A12: Отвод сварной 90° (4-х сегментный) ПЭ 100
A13: Тройник сварной равнопроходной
A14: Тройник сварной редукционный ПЭ 100
A15: Тройник сварной 45°-60° Y-образный ПЭ 100
A16: Крестовина сварная 45° ПЭ 100
A17: Крестовина сварная ПЭ 100
A18: Переход сварной ПЭ 100
A19: Заглушка сварная удлиненная ПЭ100
A20: Муфта защитная для прохода ПЭ труб сквозь стену Ж/Б колодца
B21: Втулка сварная удлиненная ПЭ100
B22: Ø, мм | C22: L (мм) | D22: SDR 11 PN 16 | E22: SDR 13,6 PN 12,5 | F22: SDR 17 PN 10 | G22: SDR 21 PN 8 | H22: SDR 26 PN 6
B23: 50 | C23: 100 | D23: 406.92308 | E23: 403.38462 | F23: 392.76923 | G23: 389.23077 | H23: 385.69231
B24: 63 | C24: 100 | D24: 371.53846 | E24: 362.69231 | F24: 350.30769 | G24: 345 | H24: 341.46154
B25: 75 | C25: 100 | D25: 831.53846 | E25: 820.92308 | F25: 796.15385 | G25: 789.07692 | H25: 782
B26: 90 | C26: 100 | D26: 868.69231 | E26: 852.76923 | F26: 863.38462 | G26: 852.76923 | H26: 843.92308
B27: 110 | C27: 150 | D27: 1031.4615 | E27: 996.07692 | F27: 874 | G27: 847.46154 | H27: 826.23077
B28: 125 | C28: 150 | D28: 2041.6923 | E28: 1988.6154 | F28: 1960.3077 | G28: 1924.9231 | H28: 1894.8462
B29: 140 | C29: 150 | D29: 2818.3846 | E29: 2754.6923 | F29: 2453.9231 | G29: 2407.9231 | H29: 2370.7692
B30: 160 | C30: 200 | D30: 1947.9231 | E30: 1838.2308 | F30: 1714.3846 | G30: 1640.0769 | H30: 1579.9231
B31: 180 | C31: 200 | D31: 3864 | E31: 3729.5385 | F31: 3350.9231 | G31: 3253.6154 | H31: 3174
B32: 200 | C32: 230 | D32: 3066.0769 | E32: 2926.3077 | F32: 2632.6154 | G32: 2538.8462 | H32: 2457.4615
B33: 225 | C33: 230 | D33: 3142.1538 | E33: 2977.6154 | F33: 2668 | G33: 2553 | H33: 2453.9231
B34: 250 | C34: 230 | D34: 4734.4615 | E34: 4508 | F34: 4030.3077 | G34: 3865.7692 | H34: 3736.6154
... B42: 630 | C42: 480 | D42: 29946 | E42: 27056.846 | F42: 22888.538 | G42: 20843.308 | H42: 19206.769
B43: 710 | C43: 585 | D43: по запросу | E43: по запросу | F43: по запросу | G43: по запросу | H43: по запросу
B44: 800 | C44: 675 | D44: по запросу | E44: по запросу | F44: по запросу | G44: по запросу | H44: по запросу
B45: 900 | C45: 720 | D45: по запросу | E45: по запросу | F45: по запросу | G45: по запросу | H45: по запросу
B46: 1000 | C46: 720 | D46: по запросу | E46: по запросу | F46: по запросу | G46: по запросу | H46: по запросу
B47: 1200 | C47: 800 | D47: по запросу | E47: по запросу | F47: по запросу | G47: по запросу | H47: по запросу
B48: Отвод сварной 5° - 45° 2-х сегментный ПЭ100 | I48: Отвод сварной 45° - 90° 3-х сегментный ПЭ100
B49: Ø, мм | C49: L (мм) | D49: SDR 11 PN 16 | E49: SDR 13,6 PN 12,5 | F49: SDR 17 PN 10 | G49: SDR 21 PN 8 | H49: SDR 26 PN 6 | I49: Ø, мм | J49: L (мм) | K49: SDR 11 PN 16 | L49: SDR 13,6 PN 12,5 | M49: SDR 17 PN 10 | N49: SDR 21 PN 8 | O49: SDR 26 PN 6
B50: 50 | C50: 80 | D50: 178.69231 | E50: 168.07692 | F50: 153.92308 | G50: 146.84615 | H50: 138 | I50: 50 | J50: 80 | K50: 322 | L50: 304.30769 | M50: 283.07692 | N50: 270.69231 | O50: 261.84615
B51: 63 | C51: 80 | D51: 249.46154 | E51: 230 | F51: 210.53846 | G51: 194.61538 | H51: 185.76923 | I51: 63 | J51: 80 | K51: 440.53846 | L51: 412.23077 | M51: 380.38462 | N51: 359.15385 | O51: 345
B52: 75 | C52: 70 | D52: 284.84615 | E52: 261.84615 | F52: 237.07692 | G52: 219.38462 | H52: 203.46154 | I52: 75 | J52: 70 | K52: 557.30769 | L52: 520.15385 | M52: 477.69231 | N52: 447.61538 | O52: 424.61538
B53: 90 | C53: 110 | D53: 529 | E53: 477.69231 | F53: 428.15385 | G53: 391 | H53: 360.92308 | I53: 90 | J53: 150 | K53: 1049.1538 | L53: 950.07692 | M53: 849.23077 | N53: 776.69231 | O53: 720.07692
B54: 110 | C54: 110 | D54: 668.76923 | E54: 605.07692 | F54: 541.38462 | G54: 493.61538 | H54: 449.38462 | I54: 110 | J54: 150 | K54: 1328.6923 | L54: 1199.5385 | M54: 1072.1538 | N54: 978.38462 | O54: 895.23077
B55: 125 | C55: 110 | D55: 889.92308 | E55: 790.84615 | F55: 691.76923 | G55: 626.30769 | H55: 566.15385 | I55: 125 | J55: 150 | K55: 1666.6154 | L55: 1487.9231 | M55: 1309.2308 | N55: 1188.9231 | O55: 1084.5385
B56: 140 | C56: 140 | D56: 1227.8462 | E56: 1081 | F56: 935.92308 | G56: 829.76923 | H56: 743.07692 | I56: 140 | J56: 150 | K56: 1992.1538 | L56: 1778.0769 | M56: 1558.6923 | N56: 1404.7692 | O56: 1277.3846
B57: 160 | C57: 180 | D57: 1762.1538 | E57: 1526.8462 | F57: 1302.1538 | G57: 1142.9231 | H57: 1008.4615 | I57: 160 | J57: 200 | K57: 2811.3077 | L57: 2462.7692 | M57: 2130.1538 | N57: 1896.6154 | O57: 1698.4615
B58: 180 | C58: 180 | D58: 2172.6154 | E58: 1877.1538 | F58: 1592.3077 | G58: 1383.5385 | H58: 1208.3846 | I58: 180 | J58: 190 | K58: 3439.3846 | L58: 3007.6923 | M58: 2583.0769 | N58: 2277 | O58: 2018.6923
B59: 200 | C59: 180 | D59: 2622 | E59: 2248.6923 | F59: 1909 | G59: 1654.2308 | H59: 1438.3846 | I59: 200 | J59: 190 | K59: 4171.8462 | L59: 3614.5385 | M59: 3101.4615 | N59: 2724.6154 | O59: 2400.8462
B60: 225 | C60: 170 | D60: 3253.6154 | E60: 2786.5385 | F60: 2347.7692 | G60: 2020.4615 | H60: 1739.1538 | I60: 225 | J60: 180 | K60: 5143.1538 | L60: 4449.6154 | M60: 3791.4615 | N60: 3301.3846 | O60: 2883.8462
B61: 250 | C61: 170 | D61: 4086.9231 | E61: 3519 | F61: 2979.3846 | G61: 2565.3846 | H61: 2243.3846 | I61: 250 | J61: 180 | K61: 6500.1538 | L61: 5656.2308 | M61: 4844.1538 | N61: 4228.4615 | O61: 3745.4615
... B69: 630 | C69: 300 | D69: 41277.923 | E69: 34416.846 | F69: 28182.077 | G69: 23329.077 | H69: 19438.538 | I69: 630 | J69: 300 | K69: 67425.385 | L69: 56588.846 | M69: 46704.154 | N69: 39041.615 | O69: 32898.846
B70: 710 | C70: 500 | D70: по запросу | E70: по запросу | F70: по запросу | G70: по запросу | H70: по запросу | I70: 710 | J70: 400 | K70: по запросу | L70: по запросу | M70: по запросу | N70: по запросу | O70: по запросу
B71: 800 | C71: 500 | D71: по запросу | E71: по запросу | F71: по запросу | G71: по запросу | H71: по запросу | I71: 800 | J71: 500 | K71: по запросу | L71: по запросу | M71: по запросу | N71: по запросу | O71: по запросу
B72: 900 | C72: 500 | D72: по запросу | E72: по запросу | F72: по запросу | G72: по запросу | H72: по запросу | I72: 900 | J72: 500 | K72: по запросу | L72: по запросу | M72: по запросу | N72: по запросу | O72: по запросу
B73: 1000 | C73: 500 | D73: по запросу | E73: по запросу | F73: по запросу | G73: по запросу | H73: по запросу | I73: 1000 | J73: 500 | K73: по запросу | L73: по запросу | M73: по запросу | N73: по запросу | O73: по запросу
B74: 1200 | C74: 500 | D74: по запросу | E74: по запросу | F74: по запросу | G74: по запросу | H74: по запросу | I74: 1200 | J74: 500 | K74: по запросу | L74: по запросу | M74: по запросу | N74: по запросу | O74: по запросу
B75: Отвод сварной 90° 4-х сегментный ПЭ 100
B76: Ø, мм | C76: L (мм) | D76: SDR 11 PN 16 | E76: SDR 13,6 PN 12,5 | F76: SDR 17 PN 10 | G76: SDR 21 PN 8 | H76: SDR 26 PN 6
B77: 225 | C77: 200 | D77: 7659 | E77: 6703.6154 | F77: 5889.7692 | G77: 5205.0769 | H77: 4619.4615
B78: 250 | C78: 200 | D78: 9090.3077 | E78: 7936.7692 | F78: 6947.7692 | G78: 6093.2308 | H78: 5420.9231
B79: 280 | C79: 200 | D79: 12625.231 | E79: 10917.923 | F79: 9451.2308 | G79: 8230.4615 | H79: 7149.4615
B80: 315 | C80: 210 | D80: 15395.846 | E80: 13281.615 | F80: 11408 | G80: 9870.5385 | H80: 8623.2308
B81: 355 | C81: 250 | D81: 21727.923 | E81: 18585.769 | F81: 15893 | G81: 13536.385 | H81: 11627.385
B82: 400 | C82: 290 | D82: 30443.154 | E82: 25821.923 | F82: 21842.923 | G82: 18569.846 | H82: 15809.846
B83: 450 | C83: 325 | D83: 40103.154 | E83: 33894.923 | F83: 28573.077 | G83: 24139.385 | H83: 20386.846
B84: 500 | C84: 315 | D84: 48977.615 | E84: 41336.308 | F84: 34788.385 | G84: 29261.308 | H84: 24622.385
B85: 560 | C85: 345 | D85: 76368.846 | E85: 64194.769 | F85: 53595.308 | G85: 44662.462 | H85: 37215.769
B86: 630 | C86: 425 | D86: 103800.77 | E86: 86538.385 | F86: 72119.154 | G86: 59692.077 | H86: 49733.077
B87: 710 | C87: 510 | D87: 177666.15 | E87: 150092.69 | F87: 126595.54 | G87: 107056.15 | H87: 90750.923
B88: 800 | C88: 570 | D88: по запросу | E88: 192211 | F88: 161376.85 | G88: 135968.92 | H88: 114630.23
B89: 900 | C89: 540 | D89: по запросу | E89: по запросу | F89: 276953.62 | G89: 232625.54 | H89: 194776.38
B90: 1000 | C90: 710 | D90: по запросу | E90: по запросу | F90: 352390.08 | G90: 295035.15 | H90: 246641.38
B91: 1200 | C91: 720 | D91: по запросу | E91: по запросу | F91: по запросу | G91: по запросу | H91: по запросу
B92: Тройник сварной равнопроходной
B93: Диаметр, мм | C93: SDR 11 PN 16 | D93: SDR 13,6 PN 12,5 | E93: SDR 17 PN 10 | F93: SDR 21 PN 8 | G93: SDR 26 PN 6
B94: 50 | C94: 495.38462 | D94: 460 | E94: 422.84615 | F94: 398.07692 | G94: 378.61538
B95: 63 | C95: 691.76923 | D95: 635.15385 | E95: 576.76923 | F95: 534.30769 | G95: 507.76923
B96: 75 | C96: 1222.5385 | D96: 1098.6923 | E96: 962.46154 | F96: 861.61538 | G96: 780.23077
B97: 90 | C97: 1452.5385 | D97: 1305.6923 | E97: 1157.0769 | F97: 1047.3846 | G97: 962.46154
B98: 110 | C98: 1843.5385 | D98: 1652.4615 | E98: 1464.9231 | F98: 1325.1538 | G98: 1201.3077
B99: 125 | C99: 2314.1538 | D99: 2050.5385 | E99: 1788.6923 | F99: 1613.5385 | G99: 1456.0769
B100: 140 | C100: 2779.4615 | D100: 2461 | E100: 2142.5385 | F100: 1914.3077 | G100: 1726.7692
B101: 160 | C101: 3496 | D101: 3064.3077 | E101: 2728.1538 | F101: 2360.1538 | G101: 2114.2308
B102: 180 | C102: 4274.4615 | D102: 3740.1538 | E102: 3212.9231 | F102: 2830.7692 | G102: 2512.3077
B103: 200 | C103: 5129 | D103: 4451.3846 | E103: 3819.7692 | F103: 3361.5385 | G103: 2967
B104: 225 | C104: 6325 | D104: 5475.7692 | E104: 4669 | F104: 4069.2308 | G104: 3559.6923
B105: 250 | C105: 7917.3077 | D105: 6884.0769 | E105: 5891.5385 | F105: 5137.8462 | G105: 4545.1538
... B113: 630 | C113: 108296.38 | D113: 90598.769 | E113: 74486.385 | F113: 61970.846 | G113: 51937.538
B114: 710 | C114: по запросу | D114: по запросу | E114: по запросу | F114: по запросу | G114: по запросу
B115: 800 | C115: по запросу | D115: по запросу | E115: по запросу | F115: по запросу | G115: по запросу
B116: 900 | C116: по запросу | D116: по запросу | E116: по запросу | F116: по запросу | G116: по запросу
B117: Тройник сварной редукционный ПЭ100
B118: Диаметр, мм | C118: SDR 11 PN 16 | D118: SDR 13,6 PN 12,5 | E118: SDR 17 PN 10 | F118: SDR 21 PN 8
B119: 315 х 110 | C119: 21290.923 | D119: 19247.462 | E119: 16400.769 | F119: 14941.154
B120: 315 х 160 | C120: 21565.154 | D120: 19521.692 | E120: 16039.846 | F120: 14580.231
B121: 315 х 225 | C121: 19116.538 | D121: 17073.077 | E121: 14215.769 | F121: 12754.385
B122: 400 х 110 | C122: 37318.385 | D122: 33374.769 | E122: 27847.692 | F122: 25103.615
...

Sheet Электромуфтовые апппараты
C2: ПРАЙС АТЛАНТ ЭЛЕКТРОМУФТОВЫЕ АППАРАТЫ
C3: 7 (843) 204-11-98 | D3: zapros@atlant-tat.com | E3: www.atlant-tat.com
C4: Наименование | D4: Характеристики | E4: Прайс, руб. с НДС
C5: Электромуфтовые сварочные аппараты для низконапорных систем
C6: ZERN-800PLUS | D6: до 160* мм | E6: 101085
C7: ZERN-2000PLUS | D7: до 400* мм | E7: 131330
C8: ZERN-3000 | D8: до 630* мм | E8: 156055
C9: ZERN-4000PLUS | D9: до 800* мм | E9: 185035
C10: ZERN-5000 | D10: до 1200* мм | E10: 218750
C11: Электромуфтовые сварочные аппараты для низконапорных систем
C12: ZEEN-800PLUS | D12: до 160* мм | E12: 109296
C13: ZEEN-2000PLUS | D13: до 400* мм | E13: 148258
C14: ZEEN-3000 | D14: до 630* мм | E14: 180389
C15: ZEEN-4000PLUS | D15: до 800* мм | E15: 207207
C16: ZEEN-5000 | D16: до 1200* мм | E16: 242137.5
C17: Дополнительное оборудование
C18: Сканер | E18: 13685
C19: Ручной скребок | E19: 1150
C20: Адаптеры 4 и 4,7 мм | D20: (набор = 2 шт) | E20: 3450
C21: НАКС*
C22: Аттестация НАКС | E22: 6000
C23: Аттестация НАКС ZEEN-4000PLUS | E23: 10000
B24: * Максимальный диаметр сварки зависит от сопротивления закладного нагревательного элемента внутри фитинга.
B25: **Свидетельство НАКС идет от 6000 руб на модели ZEEN с протоколированием.

Sheet Электросварные ERA ATLANT
C2: ПРАЙС ERA ATLANT ЭЛЕКТРОСВАРНЫЕ ФИТИНГИ ПЭ 100 ШАРОВЫЕ КРАНЫ
C3: 8 (843) 204-11-98 | E3: www.atlant-tat.com | F3: zapros@atlant-tat.com
C4: В зависимости от объема узнайте вашу скидку у менеджера | E4: Скидка | F4: 0.4
C5: Муфта электросварная SDR 11
C6: Артикул | D6: Наименование | E6: Розничная цена | F6: Цена со скидкой
C7: 20 | D7: Муфта э/с d 020 мм ПЭ100 SDR11 | E7: 261 | F7: =E7*(1-$F$4) -> 156.6
C8: 25 | D8: Муфта э/с d 025 мм ПЭ100 SDR11 | E8: 270 | F8: =E8*(1-$F$4) -> 162
C9: 32 | D9: Муфта э/с d 032 мм ПЭ100 SDR11 | E9: 279 | F9: =E9*(1-$F$4) -> 167.4
C10: 40 | D10: Муфта э/с d 040 мм ПЭ100 SDR11 | E10: 325.8 | F10: =E10*(1-$F$4) -> 195.48
C11: 50 | D11: Муфта э/с d 050 мм ПЭ100 SDR11 | E11: 446.4 | F11: =E11*(1-$F$4) -> 267.84
C12: 63 | D12: Муфта э/с d 063 мм ПЭ100 SDR11 | E12: 491.4 | F12: =E12*(1-$F$4) -> 294.84
C13: 75 | D13: Муфта э/с d 075 мм ПЭ100 SDR11 | E13: 732.6 | F13: =E13*(1-$F$4) -> 439.56
C14: 90 | D14: Муфта э/с d 090 мм ПЭ100 SDR11 | E14: 946.8 | F14: =E14*(1-$F$4) -> 568.08
C15: 110 | D15: Муфта э/с d 110 мм ПЭ100 SDR11 | E15: 1084.3875 | F15: =E15*(1-$F$4) -> 650.6325
C16: 125 | D16: Муфта э/с d 125 мм ПЭ100 SDR11 | E16: 1798.2 | F16: =E16*(1-$F$4) -> 1078.92
C17: 160 | D17: Муфта э/с d 160 мм ПЭ100 SDR11 | E17: 2133 | F17: =E17*(1-$F$4) -> 1279.8
C18: 180 | D18: Муфта э/с d 180 мм ПЭ100 SDR11 | E18: 3708 | F18: =E18*(1-$F$4) -> 2224.8
... C29: 630 | D29: Муфта э/с d 630 мм ПЭ100 SDR11 | E29: 78157.688 | F29: =E29*(1-$F$4) -> 46894.612
C30: 90° отвод электросварной
C31: Артикул | D31: Наименование | E31: Розничная цена | F31: Цена со скидкой
C32: 20 | D32: Отвод э/с 90° d 020 мм ПЭ100 SDR11 | E32: 351.37513 | F32: =E32*(1-$F$4) -> 210.82508
C33: 25 | D33: Отвод э/с 90° d 025 мм ПЭ100 SDR11 | E33: 362.48085 | F33: =E33*(1-$F$4) -> 217.48851
C34: 32 | D34: Отвод э/с 90° d 032 мм ПЭ100 SDR11 | E34: 391.11356 | F34: =E34*(1-$F$4) -> 234.66814
C35: 40 | D35: Отвод э/с 90° d 040 мм ПЭ100 SDR11 | E35: 470.03635 | F35: =E35*(1-$F$4) -> 282.02181
C36: 50 | D36: Отвод э/с 90° d 050 мм ПЭ100 SDR11 | E36: 528.15309 | F36: =E36*(1-$F$4) -> 316.89186
C37: 63 | D37: Отвод э/с 90° d 063 мм ПЭ100 SDR11 | E37: 741.6 | F37: =E37*(1-$F$4) -> 444.96
C38: 75 | D38: Отвод э/с 90° d 075 мм ПЭ100 SDR11 | E38: 1297.8 | F38: =E38*(1-$F$4) -> 778.68
C39: 90 | D39: Отвод э/с 90° d 090 мм ПЭ100 SDR11 | E39: 1483.2 | F39: =E39*(1-$F$4) -> 889.92
C40: 110 | D40: Отвод э/с 90° d 110 мм ПЭ100 SDR11 | E40: 2170.8 | F40: =E40*(1-$F$4) -> 1302.48
C41: 125 | D41: Отвод э/с 90° d 125 мм ПЭ100 SDR11 | E41: 2781 | F41: =E41*(1-$F$4) -> 1668.6
C42: 160 | D42: Отвод э/с 90° d 160 мм ПЭ100 SDR11 | E42: 4728.6 | F42: =E42*(1-$F$4) -> 2837.16
C43: 180 | D43: Отвод э/с 90° d 180 мм ПЭ100 SDR11 | E43: 7470 | F43: =E43*(1-$F$4) -> 4482
... C46: 315 | D46: Отвод э/с 90° d 315 мм ПЭ100 SDR11 | E46: 24120 | F46: =E46*(1-$F$4) -> 14472
C47: 45° отвод электросварной
C48: Артикул | D48: Наименование | E48: Розничная цена | F48: Цена со скидкой
C49: 63 | D49: Отвод э/с 45° d 063 мм ПЭ100 SDR11 | E49: 846 | F49: =E49*(1-$F$4) -> 507.6
C50: 75 | D50: Отвод э/с 45° d 075 мм ПЭ100 SDR11 | E50: 1476 | F50: =E50*(1-$F$4) -> 885.6
C51: 90 | D51: Отвод э/с 45° d 090 мм ПЭ100 SDR11 | E51: 1692 | F51: =E51*(1-$F$4) -> 1015.2
C52: 110 | D52: Отвод э/с 45° d 110 мм ПЭ100 SDR11 | E52: 2503.8 | F52: =E52*(1-$F$4) -> 1502.28
C53: 125 | D53: Отвод э/с 45° d 125 мм ПЭ100 SDR11 | E53: 3094.8696 | F53: =E53*(1-$F$4) -> 1856.9218
C54: 160 | D54: Отвод э/с 45° d 160 мм ПЭ100 SDR11 | E54: 4357.8 | F54: =E54*(1-$F$4) -> 2614.68
C55: 180 | D55: Отвод э/с 45° d 180 мм ПЭ100 SDR11 | E55: 6877.1218 | F55: =E55*(1-$F$4) -> 4126.2731
C56: 200 | D56: Отвод э/с 45° d 200 мм ПЭ100 SDR11 | E56: 7830 | F56: =E56*(1-$F$4) -> 4698
C57: 250 | D57: Отвод э/с 45° d 250 мм ПЭ100 SDR11 | E57: 13905 | F57: =E57*(1-$F$4) -> 8343
C58: 315 | D58: Отвод э/с 45° d 315 мм ПЭ100 SDR11 | E58: 21321 | F58: =E58*(1-$F$4) -> 12792.6
C59: Тройник электросварной равносторонний
C60: Артикул | D60: Наименование | E60: Розничная цена | F60: Цена со скидкой
C61: 63x63 | D61: Тройник э/с d 63 мм ПЭ100 SDR11 | E61: 927 | F61: =E61*(1-$F$4) -> 556.2
C62: 90x90 | D62: Тройник э/с d 90 мм ПЭ100 SDR11 | E62: 1632.6 | F62: =E62*(1-$F$4) -> 979.56
C63: 110x110 | D63: Тройник э/с d 110 мм ПЭ100 SDR11 | E63: 2410.2 | F63: =E63*(1-$F$4) -> 1446.12
C64: 160x160 | D64: Тройник э/с d 160 мм ПЭ100 SDR11 | E64: 5562 | F64: =E64*(1-$F$4) -> 3337.2
C65: 315x315 | D65: Тройник э/с d 315 мм ПЭ100 SDR11 | E65: 27810 | F65: =E65*(1-$F$4) -> 16686
C66: Седловой отвод электросварной (с фрезой)
C67: Артикул | D67: Наименование | E67: Розничная цена | F67: Цена со скидкой
C68: 63 × 32 | D68: Седелка э/с d 63*32 мм с фрезой ПЭ100 SDR11 | E68: 2192.4 | F68: =E68*(1-$F$4) -> 1315.44
C69: 63 × 63 | D69: Седелка э/с d 63*63 мм с фрезой ПЭ100 SDR11 | E69: 2844 | F69: =E69*(1-$F$4) -> 1706.4
C70: 90 × 32 | D70: Седелка э/с d 90*32 мм с фрезой ПЭ100 SDR11 | E70: 2932.344 | F70: =E70*(1-$F$4) -> 1759.4064
C71: 90 × 63 | D71: Седелка э/с d 90*63 мм с фрезой ПЭ100 SDR11 | E71: 3862.8 | F71: =E71*(1-$F$4) -> 2317.68
C72: 110 × 32 | D72: Седелка э/с d 110*32 мм с фрезой ПЭ100 SDR11 | E72: 2658.96 | F72: =E72*(1-$F$4) -> 1595.376
C73: 110 × 63 | D73: Седелка э/с d 110*63 мм с фрезой ПЭ100 SDR11 | E73: 3951 | F73: =E73*(1-$F$4) -> 2370.6
C74: 110 × 90 | D74: Седелка э/с d 110*90 мм (без фрезы) ПЭ100 SDR11 | E74: 4300.2 | F74: =E74*(1-$F$4) -> 2580.12
C75: 160 × 32 | D75: Седелка э/с d 160*32 мм с фрезой ПЭ100 SDR11 | E75: 4220.37 | F75: =E75*(1-$F$4) -> 2532.222
C76: 160 × 63 | D76: Седелка э/с d 160*63 мм с фрезой ПЭ100 SDR11 | E76: 3951 | F76: =E76*(1-$F$4) -> 2370.6
C77: 160 × 90 | D77: Седелка э/с d 160*90 мм (без фрезы) ПЭ100 SDR11 | E77: 8226 | F77: =E77*(1-$F$4) -> 4935.6
C78: 160 × 110 | D78: Седелка э/с d 160*110 мм (без фрезы) ПЭ100 SDR11 | E78: 8226 | F78: =E78*(1-$F$4) -> 4935.6
C79: 225 × 32 | D79: Седелка э/с d 225*32 мм с фрезой ПЭ100 SDR11 | E79: 7891.056 | F79: =E79*(1-$F$4) -> 4734.6336
... C87: 315 × 160 | D87: Седелка э/с d 315*160 мм (без фрезы) ПЭ100 SDR11 | E87: 79362 | F87: =E87*(1-$F$4) -> 47617.2
C88: Муфта редукционная (переход) электросварная
C89: Артикул | D89: Наименование | E89: Розничная цена | F89: Цена со скидкой
C90: 63*32 | D90: Переход э/с d 63*32 мм ПЭ100 SDR11 | E90: 576 | F90: =E90*(1-$F$4) -> 345.6
C91: 90*63 | D91: Переход э/с d 90*63 мм ПЭ100 SDR11 | E91: 982.8 | F91: =E91*(1-$F$4) -> 589.68
C92: 110*90 | D92: Переход э/с d 110*90 мм ПЭ100 SDR11 | E92: 1539 | F92: =E92*(1-$F$4) -> 923.4
C93: 110*63 | D93: Переход э/с d 110*63 мм ПЭ100 SDR11 | E93: 1429.2 | F93: =E93*(1-$F$4) -> 857.52
C94: 160*110 | D94: Переход э/с d 160*110 мм ПЭ100 SDR11 | E94: 2874.6 | F94: =E94*(1-$F$4) -> 1724.76
C95: 160*90 | D95: Переход э/с d 160*90 мм ПЭ100 SDR11 | E95: 2703.0785 | F95: =E95*(1-$F$4) -> 1621.8471
C96: 160*63 | D96: Переход э/с d 160*63 мм ПЭ100 SDR11 | E96: 2650.5182 | F96: =E96*(1-$F$4) -> 1590.3109
C97: Заглушка электросварная
C98: Артикул | D98: Наименование | E98: Розничная цена | F98: Цена со скидкой
C99: 32 | D99: Заглушка э/с d 32 мм ПЭ100 SDR11 | E99: 279 | F99: =E99*(1-$F$4) -> 167.4
C100: 63 | D100: Заглушка э/с d 063 мм ПЭ100 SDR11 | E100: 520.2 | F100: =E100*(1-$F$4) -> 312.12
C101: 90 | D101: Заглушка э/с d 090 мм ПЭ100 SDR11 | E101: 946.8 | F101: =E101*(1-$F$4) -> 568.08
C102: 110 | D102: Заглушка э/с d 110 мм ПЭ100 SDR11 | E102: 1326.6 | F102: =E102*(1-$F$4) -> 795.96
C103: 160 | D103: Заглушка э/с d 160 мм ПЭ100 SDR11 | E103: 2627.8089 | F103: =E103*(1-$F$4) -> 1576.6853
C104: Шаровый кран
C105: Артикул | D105: Наименование | E105: Розничная цена | F105: Цена со скидкой
C106: 63 | D106: Кран шаровый d 63 мм ПЭ100 SDR11 | E106: 16785 | F106: =E106*(1-$F$4) -> 10071
C107: 90 | D107: Кран шаровый d 90 мм ПЭ100 SDR11 | E107: 29777.4 | F107: =E107*(1-$F$4) -> 17866.44
C108: 110 | D108: Кран шаровый d 110 мм ПЭ100 SDR11 | E108: 37584 | F108: =E108*(1-$F$4) -> 22550.4
C109: 160 | D109: Кран шаровый d 160 мм ПЭ100 SDR11 | E109: 78431.684 | F109: =E109*(1-$F$4) -> 47059.011
C110: 225 | D110: Кран шаровый d 225 мм ПЭ100 SDR11 | E110: 171007.2 | F110: =E110*(1-$F$4) -> 102604.32

Sheet Электросварные фитинги (прочие 
C2: ПРАЙС ЭЛЕКТРОСВАРНЫЕ ФИТИНГИ ПЭ 100 ШАРОВЫЕ КРАНЫ
D3: КУРС ЕВРО | E3: 95 | F3: СКИДКА | G3: 0.3
C4: 8 (843) 204-11-98 | D4: zapros@atlant-tat.com | F4: www.atlant-tat.com
C5: Бонус | D5: калькулятор для расчета ПНД труб | F5: Скачать
C6: Расчет заявки | D6: направьте заявку Online | F6: Отправить
B7: СОДЕРЖАНИЕ
B8: Муфта электросварная SDR 11/17
B9: Муфта редукционная (переход) электросварная
B10: Муфта переходная электросварная на латунь (переход ПЭ/латунь)
B11: Заглушка электросварная
B12: Отвод электросварной на 90°, 45°, 30° градусов
B13: Седловой отвод электросворной (с фрезой)
B14: Патрубок-накладка электросварная (без фрезы)
B15: Тройник электросварной раносторонний
B16: Тройник электросварной редукционный
B17: Шаровый кран
C18: Муфта электросварная SDR 11/17
C19: Наименование | D19: Прайс Евро с НДС | E19: Прайс Рубли с НДС | F19: Скидка Рубли с НДС
C20: Муфта э/с d 020 мм ПЭ100 SDR7,4 | D20: 3.7 | E20: =D20*$E$3 -> 351.5 | F20: =D20*$E$3*(1-$G$3) -> 246.05
C21: Муфта э/с d 025 мм ПЭ100 SDR7,4 | D21: 4.2 | E21: =D21*$E$3 -> 399 | F21: =D21*$E$3*(1-$G$3) -> 279.3
C22: Муфта э/с d 025 мм ПЭ100 SDR11 | D22: 4 | E22: =D22*$E$3 -> 380 | F22: =D22*$E$3*(1-$G$3) -> 266
C23: Муфта э/с d 032 мм ПЭ100 SDR11 | D23: 3.7 | E23: =D23*$E$3 -> 351.5 | F23: =D23*$E$3*(1-$G$3) -> 246.05
C24: Муфта э/с d 040 мм ПЭ100 SDR11 | D24: 3.9 | E24: =D24*$E$3 -> 370.5 | F24: =D24*$E$3*(1-$G$3) -> 259.35
C25: Муфта э/с d 050 мм ПЭ100 SDR11 | D25: 5.8 | E25: =D25*$E$3 -> 551 | F25: =D25*$E$3*(1-$G$3) -> 385.7
C26: Муфта э/с d 063 мм ПЭ100 SDR11 | D26: 5.6 | E26: =D26*$E$3 -> 532 | F26: =D26*$E$3*(1-$G$3) -> 372.4
C27: Муфта э/с d 075 мм ПЭ100 SDR11 | D27: 9.5 | E27: =D27*$E$3 -> 902.5 | F27: =D27*$E$3*(1-$G$3) -> 631.75
C28: Муфта э/с d 090 мм ПЭ100 SDR11 | D28: 10.5 | E28: =D28*$E$3 -> 997.5 | F28: =D28*$E$3*(1-$G$3) -> 698.25
C29: Муфта э/с d 110 мм ПЭ100 SDR17 | D29: 11.3 | E29: =D29*$E$3 -> 1073.5 | F29: =D29*$E$3*(1-$G$3) -> 751.45
C30: Муфта э/с d 110 мм ПЭ100 SDR11 | D30: 12.9 | E30: =D30*$E$3 -> 1225.5 | F30: =D30*$E$3*(1-$G$3) -> 857.85
C31: Муфта э/с d 125 мм ПЭ100 SDR11 | D31: 17.5 | E31: =D31*$E$3 -> 1662.5 | F31: =D31*$E$3*(1-$G$3) -> 1163.75
... C61: Муфта э/с d 800 мм ПЭ100 SDR11 | D61: 3895.3 | E61: =D61*$E$3 -> 370053.5 | F61: =D61*$E$3*(1-$G$3) -> 259037.45
C62: Муфта редукционная (переход) электросварная
C63: Наименование | D63: Прайс Евро с НДС | E63: Прайс Рубли с НДС | F63: Скидка Рубли с НДС
C64: Муфта редукционная э/с d 025*020 мм ПЭ100 SDR11 | D64: 6.6 | E64: =D64*$E$3 -> 627 | F64: =D64*$E$3*(1-$G$3) -> 438.9
C65: Муфта редукционная э/с d 032*020 мм ПЭ100 SDR11 | D65: 6.6 | E65: =D65*$E$3 -> 627 | F65: =D65*$E$3*(1-$G$3) -> 438.9
C66: Муфта редукционная э/с d 032*025 мм ПЭ100 SDR11 | D66: 6.9 | E66: =D66*$E$3 -> 655.5 | F66: =D66*$E$3*(1-$G$3) -> 458.85
C67: Муфта редукционная э/с d 040*020 мм ПЭ100 SDR11 | D67: 11.3 | E67: =D67*$E$3 -> 1073.5 | F67: =D67*$E$3*(1-$G$3) -> 751.45
C68: Муфта редукционная э/с d 040*025 мм ПЭ100 SDR11 | D68: 11.3 | E68: =D68*$E$3 -> 1073.5 | F68: =D68*$E$3*(1-$G$3) -> 751.45
C69: Муфта редукционная э/с d 040*032 мм ПЭ100 SDR11 | D69: 11.3 | E69: =D69*$E$3 -> 1073.5 | F69: =D69*$E$3*(1-$G$3) -> 751.45
C70: Муфта редукционная э/с d 050*025 мм ПЭ100 SDR11 | D70: 12.4 | E70: =D70*$E$3 -> 1178 | F70: =D70*$E$3*(1-$G$3) -> 824.6
C71: Муфта редукционная э/с d 050*032 мм ПЭ100 SDR11 | D71: 12.4 | E71: =D71*$E$3 -> 1178 | F71: =D71*$E$3*(1-$G$3) -> 824.6
C72: Муфта редукционная э/с d 050*040 мм ПЭ100 SDR11 | D72: 12.4 | E72: =D72*$E$3 -> 1178 | F72: =D72*$E$3*(1-$G$3) -> 824.6
C73: Муфта редукционная э/с d 063*032 мм ПЭ100 SDR11 | D73: 12.7 | E73: =D73*$E$3 -> 1206.5 | F73: =D73*$E$3*(1-$G$3) -> 844.55
C74: Муфта редукционная э/с d 063*040 мм ПЭ100 SDR11 | D74: 12.7 | E74: =D74*$E$3 -> 1206.5 | F74: =D74*$E$3*(1-$G$3) -> 844.55
C75: Муфта редукционная э/с d 063*050 мм ПЭ100 SDR11 | D75: 12.7 | E75: =D75*$E$3 -> 1206.5 | F75: =D75*$E$3*(1-$G$3) -> 844.55
... C97: Муфта редукционная э/с d 315*280 мм ПЭ100 SDR11 | D97: 421.7 | E97: =D97*$E$3 -> 40061.5 | F97: =D97*$E$3*(1-$G$3) -> 28043.05
C98: Муфта переходная электросварная на латунь (переход ПЭ/латунь)
C99: Наименование | D99: Прайс Евро с НДС | E99: Прайс Рубли с НДС | F99: Скидка Рубли с НДС
C100: Муфта э/с вн. резьба d 20 1/2 SDR 7,4 | D100: 22.2 | E100: =D100*$E$3 -> 2109 | F100: =D100*$E$3*(1-$G$3) -> 1476.3
C101: Муфта э/с вн. резьба d 25 3/4 SDR 7,4 | D101: 26 | E101: =D101*$E$3 -> 2470 | F101: =D101*$E$3*(1-$G$3) -> 1729
C102: Муфта э/с вн. резьба d 32*1 SDR 7,4 | D102: 26.8 | E102: =D102*$E$3 -> 2546 | F102: =D102*$E$3*(1-$G$3) -> 1782.2
C103: Муфта э/с вн. резьба d 40 1 *1/4 SDR 7,4 | D103: 36.2 | E103: =D103*$E$3 -> 3439 | F103: =D103*$E$3*(1-$G$3) -> 2407.3
C104: Муфта э/с вн. резьба d 50 1* 1/2 SDR 7,4 | D104: 49.1 | E104: =D104*$E$3 -> 4664.5 | F104: =D104*$E$3*(1-$G$3) -> 3265.15
C105: Муфта э/с вн. резьба d 63 *2 SDR 7,4 | D105: 56.4 | E105: =D105*$E$3 -> 5358 | F105: =D105*$E$3*(1-$G$3) -> 3750.6
C106: Муфта э/с вн. резьба d 75 2*1/2 SDR 7,4 | D106: 122.5 | E106: =D106*$E$3 -> 11637.5 | F106: =D106*$E$3*(1-$G$3) -> 8146.25
C107: Муфта э/с вн. резьба d 90*3 SDR 7,4 | D107: 149.9 | E107: =D107*$E$3 -> 14240.5 | F107: =D107*$E$3*(1-$G$3) -> 9968.35
C108: Муфта э/с вн. резьба d 110 *4 SDR 7,4 | D108: 217.5 | E108: =D108*$E$3 -> 20662.5 | F108: =D108*$E$3*(1-$G$3) -> 14463.75
C109: Муфта э/с н. резьба d 20 1/2* SDR 7,4 | D109: 18.7 | E109: =D109*$E$3 -> 1776.5 | F109: =D109*$E$3*(1-$G$3) -> 1243.55
C110: Муфта э/с н. резьба d 25 3/4* SDR 7,4 | D110: 22.4 | E110: =D110*$E$3 -> 2128 | F110: =D110*$E$3*(1-$G$3) -> 1489.6
C111: Муфта э/с н. резьба d 32*1 SDR 7,4 | D111: 24.7 | E111: =D111*$E$3 -> 2346.5 | F111: =D111*$E$3*(1-$G$3) -> 1642.55
... C117: Муфта э/с н. резьба d 110 4 *SDR 7,4 | D117: 217.5 | E117: =D117*$E$3 -> 20662.5 | F117: =D117*$E$3*(1-$G$3) -> 14463.75
C118: Заглушка электросварная
C119: Наименование | D119: Прайс Евро с НДС | E119: Прайс Рубли с НДС | F119: Скидка Рубли с НДС
C120: Заглушка э/с d 020мм ПЭ100 SDR7,4 | D120: 6.3 | E120: =D120*$E$3 -> 598.5 | F120: =D120*$E$3*(1-$G$3) -> 418.95
C121: Заглушка э/с d 025мм ПЭ100 SDR7,4 | D121: 6.6 | E121: =D121*$E$3 -> 627 | F121: =D121*$E$3*(1-$G$3) -> 438.9
C122: Заглушка э/с d 032 мм ПЭ100 SDR11 | D122: 6.7 | E122: =D122*$E$3 -> 636.5 | F122: =D122*$E$3*(1-$G$3) -> 445.55
C123: Заглушка э/с d 040 мм ПЭ100 SDR11 | D123: 8.2 | E123: =D123*$E$3 -> 779 | F123: =D123*$E$3*(1-$G$3) -> 545.3
C124: Заглушка э/с d 050 мм ПЭ100 SDR11 | D124: 11.6 | E124: =D124*$E$3 -> 1102 | F124: =D124*$E$3*(1-$G$3) -> 771.4
C125: Заглушка э/с d 063 мм ПЭ100 SDR11 | D125: 11.6 | E125: =D125*$E$3 -> 1102 | F125: =D125*$E$3*(1-$G$3) -> 771.4
C126: Заглушка э/с d 075 мм ПЭ100 SDR11 | D126: 17.1 | E126: =D126*$E$3 -> 1624.5 | F126: =D126*$E$3*(1-$G$3) -> 1137.15
C127: Заглушка э/с d 090 мм ПЭ100 SDR11 | D127: 23.9 | E127: =D127*$E$3 -> 2270.5 | F127: =D127*$E$3*(1-$G$3) -> 1589.35
C128: Заглушка э/с d 110 мм ПЭ100 SDR11 | D128: 26.2 | E128: =D128*$E$3 -> 2489 | F128: =D128*$E$3*(1-$G$3) -> 1742.3
C129: Заглушка э/с d 125 мм ПЭ100 SDR11 | D129: 43.5 | E129: =D129*$E$3 -> 4132.5 | F129: =D129*$E$3*(1-$G$3) -> 2892.75
C130: Заглушка э/с d 140 мм ПЭ100 SDR11 | D130: 54.2 | E130: =D130*$E$3 -> 5149 | F130: =D130*$E$3*(1-$G$3) -> 3604.3
C131: Заглушка э/с d 160 мм ПЭ100 SDR11 | D131: 48.7 | E131: =D131*$E$3 -> 4626.5 | F131: =D131*$E$3*(1-$G$3) -> 3238.55
... C137: Заглушка э/с d 315 мм ПЭ100 SDR11 | D137: 458.6 | E137: =D137*$E$3 -> 43567 | F137: =D137*$E$3*(1-$G$3) -> 30496.9
C138: Отвод электросварной на 90°, 45°, 30° градусов
C139: Наименование | D139: Прайс Евро с НДС | E139: Прайс Рубли с НДС | F139: Скидка Рубли с НДС
C140: Отвод э/с 45° d 025 мм ПЭ100 SDR11 | D140: 5.7 | E140: =D140*$E$3 -> 541.5 | F140: =D140*$E$3*(1-$G$3) -> 379.05
C141: Отвод э/с 45° d 032 мм ПЭ100 SDR11 | D141: 10.8 | E141: =D141*$E$3 -> 1026 | F141: =D141*$E$3*(1-$G$3) -> 718.2
C142: Отвод э/c 45° d 040 мм ПЭ100 SDR11 | D142: 12.5 | E142: =D142*$E$3 -> 1187.5 | F142: =D142*$E$3*(1-$G$3) -> 831.25
C143: Отвод э/c 45° d 050 мм ПЭ100 SDR11 | D143: 15.5 | E143: =D143*$E$3 -> 1472.5 | F143: =D143*$E$3*(1-$G$3) -> 1030.75
C144: Отвод э/с 45° d 063 мм ПЭ100 SDR11 | D144: 15.6 | E144: =D144*$E$3 -> 1482 | F144: =D144*$E$3*(1-$G$3) -> 1037.4
C145: Отвод э/с 45° d 075 мм ПЭ100 SDR11 | D145: 28.9 | E145: =D145*$E$3 -> 2745.5 | F145: =D145*$E$3*(1-$G$3) -> 1921.85
C146: Отвод э/с 45° d 090 мм ПЭ100 SDR11 | D146: 30.1 | E146: =D146*$E$3 -> 2859.5 | F146: =D146*$E$3*(1-$G$3) -> 2001.65
C147: Отвод э/с 45° d 110 мм ПЭ100 SDR11 | D147: 35 | E147: =D147*$E$3 -> 3325 | F147: =D147*$E$3*(1-$G$3) -> 2327.5
C148: Отвод э/с 45° d 125 мм ПЭ100 SDR11 | D148: 55.8 | E148: =D148*$E$3 -> 5301 | F148: =D148*$E$3*(1-$G$3) -> 3710.7
C149: Отвод э/с 45° d 160 мм ПЭ100 SDR11 | D149: 81.7 | E149: =D149*$E$3 -> 7761.5 | F149: =D149*$E$3*(1-$G$3) -> 5433.05
C150: Отвод э/с 45° d 180 мм ПЭ100 SDR11 | D150: 142.5 | E150: =D150*$E$3 -> 13537.5 | F150: =D150*$E$3*(1-$G$3) -> 9476.25
C151: Отвод э/с 45° d 200 мм ПЭ100 SDR11 | D151: 178.4 | E151: =D151*$E$3 -> 16948 | F151: =D151*$E$3*(1-$G$3) -> 11863.6
... C175: Отвод э/с 30° d 160 мм ПЭ100 SDR11 | D175: 134.2 | E175: =D175*$E$3 -> 12749 | F175: =D175*$E$3*(1-$G$3) -> 8924.3
C176: Седловой отвод электросворной (с фрезой)
C177: Наименование | D177: Прайс Евро с НДС | E177: Прайс Рубли с НДС | F177: Скидка Рубли с НДС
C178: Седелка э/с d 040*020 мм с ответной частью ПЭ100 SDR11 | D178: 30 | E178: =D178*$E$3 -> 2850 | F178: =D178*$E$3*(1-$G$3) -> 1995
C179: Седелка э/с d 040*025 мм с ответной частью ПЭ100 SDR11 | D179: 30 | E179: =D179*$E$3 -> 2850 | F179: =D179*$E$3*(1-$G$3) -> 1995
C180: Седелка э/с d 040*032 мм с ответной частью ПЭ100 SDR11 | D180: 30 | E180: =D180*$E$3 -> 2850 | F180: =D180*$E$3*(1-$G$3) -> 1995
C181: Седелка э/с d 050*020 мм с ответной частью ПЭ100 SDR11 | D181: 38.1 | E181: =D181*$E$3 -> 3619.5 | F181: =D181*$E$3*(1-$G$3) -> 2533.65
C182: Седелка э/с d 050*025 мм с ответной частью ПЭ100 SDR11 | D182: 38.1 | E182: =D182*$E$3 -> 3619.5 | F182: =D182*$E$3*(1-$G$3) -> 2533.65
C183: Седелка э/с d 050*032 мм с ответной частью ПЭ100 SDR11 | D183: 38.1 | E183: =D183*$E$3 -> 3619.5 | F183: =D183*$E$3*(1-$G$3) -> 2533.65
C184: Седелка э/с d 063*020мм с ответной частью ПЭ100 SDR11 | D184: 36.8 | E184: =D184*$E$3 -> 3496 | F184: =D184*$E$3*(1-$G$3) -> 2447.2
...

Sheet НСПС БАЗА
C2: ООО "АТЛАНТ" - производим и поставляем для наружных инженерных сетей сварчоное оборудование, фитинги, трубы ПНД
C4: ПРАЙС АТЛАНТ НСПС (неразъемное соединение полиэтилен-сталь), Цокольные вводы
F5: СКИДКА | G5: 0
C6: 8 (843) 204-11-98 | D6: zapros@atlant-tat.com | F6: www.atlant-tat.com
C7: Бонус | D7: Калькулятор для расчета ПНД труб | F7: Скачать
C8: Расчет заявки | D8: Направьте заявку Online | F8: Отправить
B9: СОДЕРЖАНИЕ
B10: НСПС ВОДА
B11: НСПС ГАЗ
B12: Цокольные вводы
C13: НСПС ВОДА
C14: Наименование | D14: SDR11 | E14: SDR 13,6 | F14: SDR 17 | G14: SDR 21
C15: НСПС 32х25 ВОДА ПЭ 100 | D15: 290 | E15: х | F15: х | G15: х
C16: НСПС 40х32 ВОДА ПЭ 100 | D16: 384 | E16: х | F16: х | G16: х
C17: НСПС 50х40 ВОДА ПЭ 100 | D17: 502 | E17: х | F17: х | G17: х
C18: НСПС 63х57 ВОДА ПЭ100 | D18: 622 | E18: 556 | F18: 529 | G18: х
C19: НСПС 75х76 ВОДА ПЭ100 | D19: 931 | E19: 885 | F19: 841 | G19: 805
C20: НСПС 90х89 ВОДА ПЭ100 | D20: 1275 | E20: 1178 | F20: 1115 | G20: 1061
C21: НСПС 110х108 ВОДА ПЭ 100 | D21: 1659 | E21: 1543 | F21: 1444 | G21: 1359
C22: НСПС 125х108 ВОДА ПЭ 100 | D22: 1970 | E22: х | F22: х | G22: х
C23: НСПС 140х133 ВОДА ПЭ 100 | D23: 2677 | E23: 2486 | F23: 2318 | G23: 2224
C24: НСПС 160х159 ВОДА ПЭ 100 | D24: 4045 | E24: 3732 | F24: 3481 | G24: 3278
C25: НСПС 180х159 ВОДА ПЭ 100 | D25: 4590 | E25: 4243 | F25: х | G25: х
C26: НСПС 200х168 ВОДА ПЭ 100 | D26: 6718 | E26: х | F26: х | G26: х
C27: НСПС 200х219 ВОДА ПЭ 100 | D27: 8758 | E27: 8130 | F27: 7440 | G27: 7338
C28: НСПС 225х219 ВОДА ПЭ 100 | D28: 9243 | E28: 8567 | F28: 7991 | G28: 7171
C29: НСПС 250х219 ВОДА ПЭ 100 | D29: 10964 | E29: 10127 | F29: х | G29: х
C30: НСПС 250х273 ВОДА ПЭ 100 | D30: 15223 | E30: 14202 | F30: 13129 | G30: 12407
C31: НСПС 280х273 ВОДА ПЭ 100 | D31: 17044 | E31: 15829 | F31: 14415 | G31: 13578
C32: НСПС 315х273 ВОДА ПЭ 100 | D32: 18423 | E32: 17054 | F32: х | G32: х
C33: НСПС 315х325 ВОДА ПЭ 100 | D33: 27253 | E33: 25397 | F33: 23261 | G33: 21951
C34: НСПС 355х325 ВОДА ПЭ 100 | D34: 37181 | E34: 33747 | F34: 32690 | G34: х
C35: НСПС 400х377 ВОДА ПЭ 100 | D35: 50821 | E35: 48716 | F35: 46546 | G35: 44231
C36: НСПС 400х426 ВОДА ПЭ 100 | D36: 70976 | E36: 68035 | F36: 61836 | G36: 57413
C37: НСПС 450х426 ВОДА ПЭ 100 | D37: 82337 | E37: 77478 | F37: 73346 | G37: 70289
C38: НСПС 500х426 ВОДА ПЭ 100 | D38: 97151 | E38: х | F38: х | G38: х
C39: НСПС 500х530 ВОДА ПЭ 100 | D39: 117387 | E39: 109942 | F39: 105246 | G39: 96468
C40: НСПС 560х530 ВОДА ПЭ 100 | D40: 125448 | E40: 117763 | F40: 108985 | G40: 100140
C41: НСПС 630х530 ВОДА ПЭ 100 | D41: 151917 | E41: х | F41: х | G41: х
C42: НСПС 630х630 ВОДА ПЭ 100 | D42: 172818 | E42: 168430 | F42: 147750 | G42: 138477
C43: НСПС 710х630 ВОДА ПЭ 100 | D43: 215562 | E43: 198930 | F43: х | G43: х
C44: НСПС 710х720 ВОДА ПЭ 100 | D44: 298109 | E44: 276442 | F44: 238719 | G44: 223947
C45: НСПС 800х720 ВОДА ПЭ 100 | D45: 402642 | E45: 338713 | F45: 266110 | G45: х
C46: НСПС 800х820 ВОДА ПЭ 100 | D46: 557972 | E46: 478359 | F46: 380952 | G46: 356310
C47: НСПС 900х820 ВОДА ПЭ 100 | D47: 572146 | E47: 480989 | F47: 398542 | G47: х
C48: НСПС 1000х1020 ВОДА ПЭ 100 | D48: 1028526 | E48: 896522 | F48: 704833 | G48: 667213
C49: НСПС 1200х1220 ВОДА ПЭ 100 | D49: х | E49: 2200669 | F49: 1780116 | G49: 1334494
C50: НСПС 1400х1420 ВОДА ПЭ 100 | D50: х | E50: 4859427 | F50: 4005837 | G50: 2938307
C51: НСПС ГАЗ
C52: Наименование | D52: SDR11 | E52: SDR 9
C53: НСПС 32х25 ГАЗ ПЭ100 | D53: 290 | E53: 426
C54: НСПС 40х32 ГАЗ ПЭ100 | D54: 384 | E54: 604
C55: НСПС 50х40 ГАЗ ПЭ100 | D55: 502 | E55: 752
C56: НСПС 63х57 ГАЗ ПЭ100 | D56: 622 | E56: 1026
C57: НСПС 75х76 ГАЗ ПЭ100 | D57: 931 | E57: 1515
C58: НСПС 90х89 ГАЗ ПЭ100 | D58: 1275 | E58: 1831
C59: НСПС 110х108 ГАЗ ПЭ100 | D59: 1659 | E59: 2352
C60: НСПС 125х108 ГАЗ ПЭ100 | D60: 1970 | E60: 3378
C61: НСПС 140х133 ГАЗ ПЭ100 | D61: 2974 | E61: 4329
C62: НСПС 160х159 ГАЗ ПЭ100 | D62: 4045 | E62: 6037
C63: НСПС 180х159 ГАЗ ПЭ100 | D63: 4590 | E63: 7193
C64: НСПС 200х168 ГАЗ ПЭ100 | D64: 6718 | E64: 9959
... C79: НСПС 630х630 ГАЗ ПЭ100 | D79: 334174 | E79: 455077
C80: Цокольные вводы
C81: Наименование | E81: SDR11 | F81: Цена прайс
C82: ЦВ-Г 32х25 ПЭ100 SDR11 ( сталь ГОСТ 3262) без футляра | E82: 1м х 2м | F82: 1953
C83: ЦВ-Г 32х25 ПЭ100 SDR11 ( сталь ГОСТ 3262) без футляра | E83: 1,5м х 2м | F83: 2291
C84: ЦВ-Г 32х25 ПЭ100 SDR11 ( сталь ГОСТ 3262) без футляра | E84: 2м х 2м | F84: 2699
C85: ЦВ-Г 32х32 ПЭ100 SDR11 ( сталь ГОСТ 8732) без футляра | E85: 1м х 2м | F85: 4813
C86: ЦВ-Г 32х32 ПЭ100 SDR11 ( сталь ГОСТ 8732) без футляра | E86: 1,5м х 2м | F86: 5566
C87: ЦВ-Г 32х32 ПЭ100 SDR11 ( сталь ГОСТ 8732) без футляра | E87: 2м х 2м | F87: 6318
C88: ЦВ-Г 40х32 ПЭ100 SDR11 ( сталь ГОСТ 3262) без футляра | E88: 1м х 2м | F88: 2536
C89: ЦВ-Г 40х32 ПЭ100 SDR11 ( сталь ГОСТ 3262) без футляра | E89: 1,5м х 2м | F89: 2882
C90: ЦВ-Г 40х32 ПЭ100 SDR11 ( сталь ГОСТ 3262) без футляра | E90: 2м х 2м | F90: 3186
C91: ЦВ-Г 63х57 ПЭ100 SDR11 ( сталь ГОСТ 10705) без футляра | E91: 1м х 2м | F91: 3543
C92: ЦВ-Г 63х57 ПЭ100 SDR11 ( сталь ГОСТ 10705) без футляра | E92: 1,5м х 2м | F92: 4092
C93: ЦВ-Г 63х57 ПЭ100 SDR11 ( сталь ГОСТ 10705) без футляра | E93: 2м х 2м | F93: 4556
... C117: ЦВ-В 315х325 ПЭ100 SDR11 ( сталь ГОСТ 10705) | E117: L=2,7 м | F117: 117269

Sheet Фланцы, задвижки
C2: ПРАЙС ФЛАНЦЫ ПОД ВТУЛКУ, ЗАДВИЖКИ
D3: Скидка | E3: 0.2
C4: 8 (843) 204-11-98 | D4: zapros@atlant-tat.com | E4: www.atlant-tat.com
C5: калькулятор для расчета ПНД труб | E5: Скачать
C6: направьте заявку Online | E6: Отправить
C7: Фланцы по втулку Ру 10
C8: Диаметр | D8: Цена прайс | E8: Цена со скидкой
C9: Фланец d 40, расточенный под ПЭ втулку d 50 PN10 | D9: 366.25714 | E9: =D9-D9*$E$3 -> 293.00571
C10: Фланец d 50, расточенный под ПЭ втулку d 63 PN10 | D10: 461.09333 | E10: =D10-D10*$E$3 -> 368.87467
C11: Фланец d 63, расточенный под ПЭ втулку d 75 PN10 | D11: 622.10667 | E11: =D11-D11*$E$3 -> 497.68533
C12: Фланец d 80, расточенный под ПЭ втулку d 90 PN10 | D12: 724.57333 | E12: =D12-D12*$E$3 -> 579.65867
C13: Фланец d 100, расточенный под ПЭ втулку d 110 PN10 | D13: 819.73333 | E13: =D13-D13*$E$3 -> 655.78667
C14: Фланец d 100, расточенный под ПЭ втулку d 125 PN10 | D14: 834.36 | E14: =D14-D14*$E$3 -> 667.488
C15: Фланец d 125, расточенный под ПЭ втулку d 140 PN10 | D15: 1317.4133 | E15: =D15-D15*$E$3 -> 1053.9307
C16: Фланец d 150, расточенный под ПЭ втулку d 160 PN10 | D16: 1610.1733 | E16: =D16-D16*$E$3 -> 1288.1387
C17: Фланец d 150, расточенный под ПЭ втулку d 180 PN10 | D17: 1633.4267 | E17: =D17-D17*$E$3 -> 1306.7413
C18: Фланец d 200, расточенный под ПЭ втулку d 200 PN10 | D18: 1961.48 | E18: =D18-D18*$E$3 -> 1569.184
C19: Фланец d 200, расточенный под ПЭ втулку d 225 PN10 | D19: 1815.0933 | E19: =D19-D19*$E$3 -> 1452.0747
C20: Фланец d 250, расточенный под ПЭ втулку d 250 PN10 | D20: 2678.7467 | E20: =D20-D20*$E$3 -> 2142.9973
... C28: Фланец d 600, расточенный под ПЭ втулку d 630 PN10 | D28: 9854.3867 | E28: =D28-D28*$E$3 -> 7883.5093
C29: Фланцы по втулку Ру 16
C30: Диаметр | D30: Цена прайс | E30: Цена со скидкой
C31: Фланец d 40, расточенный под ПЭ втулку d 50 PN16 | D31: 415.55714 | E31: =D31-D31*$E$3 -> 332.44571
C32: Фланец d 50, расточенный под ПЭ втулку d 63 PN16 | D32: 595.97143 | E32: =D32-D32*$E$3 -> 476.77714
C33: Фланец d 65, расточенный под ПЭ втулку d 75 PN16 | D33: 744.97143 | E33: =D33-D33*$E$3 -> 595.97714
C34: Фланец d 80, расточенный под ПЭ втулку d 90 PN16 | D34: 815.54286 | E34: =D34-D34*$E$3 -> 652.43429
C35: Фланец d 100, расточенный под ПЭ втулку d 110 PN16 | D35: 1050.8 | E35: =D35-D35*$E$3 -> 840.64
C36: Фланец d 100, расточенный под ПЭ втулку d 125 PN16 | D36: 1176.2714 | E36: =D36-D36*$E$3 -> 941.01714
C37: Фланец d 125, расточенный под ПЭ втулку d 140 PN16 | D37: 1489.9429 | E37: =D37-D37*$E$3 -> 1191.9543
C38: Фланец d 150, расточенный под ПЭ втулку d 160 PN16 | D38: 1850.6571 | E38: =D38-D38*$E$3 -> 1480.5257
C39: Фланец d 150, расточенный под ПЭ втулку d 180 PN16 | D39: 1819.3 | E39: =D39-D39*$E$3 -> 1455.44
C40: Фланец d 200, расточенный под ПЭ втулку d 200 PN16 | D40: 2666.2 | E40: =D40-D40*$E$3 -> 2132.96
C41: Фланец d 200, расточенный под ПЭ втулку d 225 PN16 | D41: 2368.2143 | E41: =D41-D41*$E$3 -> 1894.5714
C42: Фланец d 250, расточенный под ПЭ втулку d 250 PN16 | D42: 3780.0429 | E42: =D42-D42*$E$3 -> 3024.0343
... C50: Фланец d 600, расточенный под ПЭ втулку d 630 PN16 | D50: 19839.657 | E50: =D50-D50*$E$3 -> 15871.726
C51: Задвижки 30ч39р
C52: Диаметр | D52: Цена прайс | E52: Цена со скидкой
C53: DN 050 PN 10/16 | D53: 3048.7143 | E53: =D53-D53*$E$3 -> 2438.9714
C54: DN 065 PN 10/16 | D54: 4091.5286 | E54: =D54-D54*$E$3 -> 3273.2229
C55: DN 080 PN 10/16 | D55: 4218.3 | E55: =D55-D55*$E$3 -> 3374.64
C56: DN 100 PN 10/16 | D56: 5115.9429 | E56: =D56-D56*$E$3 -> 4092.7543
C57: DN 125 PN 10/16 | D57: 8689.0714 | E57: =D57-D57*$E$3 -> 6951.2571
C58: DN 150 PN 10/16 | D58: 9593.9286 | E58: =D58-D58*$E$3 -> 7675.1429
C59: DN 200 PN 10/16 | D59: 15570.714 | E59: =D59-D59*$E$3 -> 12456.571
C60: DN 250 PN 10/16 | D60: 27065.6 | E60: =D60-D60*$E$3 -> 21652.48
C61: DN 300 PN 10/16 | D61: 33603.3 | E61: =D61-D61*$E$3 -> 26882.64
C62: DN 350 PN 10/16 | D62: 64313.6 | E62: =D62-D62*$E$3 -> 51450.88
C63: DN 400 PN 10/16 | D63: 78139.729 | E63: =D63-D63*$E$3 -> 62511.783
C64: Фланцы по втулку Ру 10 с ПП покрытием
C65: Диаметр | D65: Цена прайс | E65: Цена со скидкой
C66: Фланец d 40, расточенный под ПЭ втулку d 50 PN10 | D66: =D9*2.176 -> 796.97554 | E66: =D66-D66*$E$3 -> 637.58043
C67: Фланец d 50, расточенный под ПЭ втулку d 63 PN10 | D67: =D10*2.176 -> 1003.3391 | E67: =D67-D67*$E$3 -> 802.67127
C68: Фланец d 63, расточенный под ПЭ втулку d 75 PN10 | D68: =D11*2.176 -> 1353.7041 | E68: =D68-D68*$E$3 -> 1082.9633
C69: Фланец d 80, расточенный под ПЭ втулку d 90 PN10 | D69: =D12*2.176 -> 1576.6716 | E69: =D69-D69*$E$3 -> 1261.3373
C70: Фланец d 100, расточенный под ПЭ втулку d 110 PN10 | D70: =D13*2.176 -> 1783.7397 | E70: =D70-D70*$E$3 -> 1426.9918
C71: Фланец d 100, расточенный под ПЭ втулку d 125 PN10 | D71: =D14*2.176 -> 1815.5674 | E71: =D71-D71*$E$3 -> 1452.4539
C72: Фланец d 125, расточенный под ПЭ втулку d 140 PN10 | D72: =D15*2.176 -> 2866.6914 | E72: =D72-D72*$E$3 -> 2293.3531
C73: Фланец d 150, расточенный под ПЭ втулку d 160 PN10 | D73: =D16*2.176 -> 3503.7372 | E73: =D73-D73*$E$3 -> 2802.9897
C74: Фланец d 150, расточенный под ПЭ втулку d 180 PN10 | D74: =D17*2.176 -> 3554.3364 | E74: =D74-D74*$E$3 -> 2843.4691
C75: Фланец d 200, расточенный под ПЭ втулку d 200 PN10 | D75: =D18*2.176 -> 4268.1805 | E75: =D75-D75*$E$3 -> 3414.5444
C76: Фланец d 200, расточенный под ПЭ втулку d 225 PN10 | D76: =D19*2.176 -> 3949.6431 | E76: =D76-D76*$E$3 -> 3159.7145
C77: Фланец d 250, расточенный под ПЭ втулку d 250 PN10 | D77: =D20*2.5 -> 6696.8667 | E77: =D77-D77*$E$3 -> 5357.4933
C78: Фланец d 250, расточенный под ПЭ втулку d 280 PN10 | D78: =D21*2.5 -> 5361.1667 | E78: =D78-D78*$E$3 -> 4288.9333
C79: Фланец d 300, расточенный под ПЭ втулку d 315 PN10 | D79: =D22*2.5 -> 7136 | E79: =D79-D79*$E$3 -> 5708.8
C80: Фланец d 350, расточенный под ПЭ втулку d 355 PN10 | D80: =D23*3.16 -> 13691.774 | E80: =D80-D80*$E$3 -> 10953.42
C81: Фланец d 400, расточенный под ПЭ втулку d 400 PN10 | D81: =D24*3.16 -> 18872.784 | E81: =D81-D81*$E$3 -> 15098.227
C82: Фланец d 500, расточенный под ПЭ втулку d 450 PN10 | D82: =D25*3.16 -> 23821.807 | E82: =D82-D82*$E$3 -> 19057.446
C83: Фланец d 500, расточенный под ПЭ втулку d 500 PN10 | D83: =D26*3.76 -> 25097.649 | E83: =D83-D83*$E$3 -> 20078.119
C84: Фланец d 600, расточенный под ПЭ втулку d 560 PN10 | D84: =D27*3.76 -> 37701.52 | E84: =D84-D84*$E$3 -> 30161.216
C85: Фланец d 600, расточенный под ПЭ втулку d 630 PN10 | D85: =D28*3.76 -> 37052.494 | E85: =D85-D85*$E$3 -> 29641.995
C86: Фланцы по втулку Ру 16 с ПП покрытием
C87: Диаметр | D87: Цена прайс | E87: Цена со скидкой
C88: Фланец d 40, расточенный под ПЭ втулку d 50 PN10 | D88: =D31*2.176 -> 904.25234 | E88: =D88-D88*$E$3 -> 723.40187
C89: Фланец d 50, расточенный под ПЭ втулку d 63 PN10 | D89: =D32*2.176 -> 1296.8338 | E89: =D89-D89*$E$3 -> 1037.4671
C90: Фланец d 63, расточенный под ПЭ втулку d 75 PN10 | D90: =D33*2.176 -> 1621.0578 | E90: =D90-D90*$E$3 -> 1296.8463
C91: Фланец d 80, расточенный под ПЭ втулку d 90 PN10 | D91: =D34*2.176 -> 1774.6213 | E91: =D91-D91*$E$3 -> 1419.697
C92: Фланец d 100, расточенный под ПЭ втулку d 110 PN10 | D92: =D35*2.176 -> 2286.5408 | E92: =D92-D92*$E$3 -> 1829.2326
C93: Фланец d 100, расточенный под ПЭ втулку d 125 PN10 | D93: =D36*2.176 -> 2559.5666 | E93: =D93-D93*$E$3 -> 2047.6533
C94: Фланец d 125, расточенный под ПЭ втулку d 140 PN10 | D94: =D37*2.176 -> 3242.1157 | E94: =D94-D94*$E$3 -> 2593.6925
C95: Фланец d 150, расточенный под ПЭ втулку d 160 PN10 | D95: =D38*2.176 -> 4027.0299 | E95: =D95-D95*$E$3 -> 3221.624
C96: Фланец d 150, расточенный под ПЭ втулку d 180 PN10 | D96: =D39*2.176 -> 3958.7968 | E96: =D96-D96*$E$3 -> 3167.0374
C97: Фланец d 200, расточенный под ПЭ втулку d 200 PN10 | D97: =D40*2.176 -> 5801.6512 | E97: =D97-D97*$E$3 -> 4641.321
C98: Фланец d 200, расточенный под ПЭ втулку d 225 PN10 | D98: =D41*2.176 -> 5153.2343 | E98: =D98-D98*$E$3 -> 4122.5874
C99: Фланец d 250, расточенный под ПЭ втулку d 250 PN10 | D99: =D42*2.5 -> 9450.1071 | E99: =D99-D99*$E$3 -> 7560.0857
C100: Фланец d 250, расточенный под ПЭ втулку d 280 PN10 | D100: =D43*2.5 -> 8077.0357 | E100: =D100-D100*$E$3 -> 6461.6286
C101: Фланец d 300, расточенный под ПЭ втулку d 315 PN10 | D101: =D44*2.5 -> 10390.357 | E101: =D101-D101*$E$3 -> 8312.2857
C102: Фланец d 350, расточенный под ПЭ втулку d 355 PN10 | D102: =D45*3.16 -> 18942.53 | E102: =D102-D102*$E$3 -> 15154.024
C103: Фланец d 400, расточенный под ПЭ втулку d 400 PN10 | D103: =D46*3.16 -> 34245.913 | E103: =D103-D103*$E$3 -> 27396.731
C104: Фланец d 500, расточенный под ПЭ втулку d 450 PN10 | D104: =D47*3.16 -> 50551.152 | E104: =D104-D104*$E$3 -> 40440.922
C105: Фланец d 500, расточенный под ПЭ втулку d 500 PN10 | D105: =D48*3.76 -> 55304.981 | E105: =D105-D105*$E$3 -> 44243.984
C106: Фланец d 600, расточенный под ПЭ втулку d 560 PN10 | D106: =D49*3.76 -> 87275.67 | E106: =D106-D106*$E$3 -> 69820.536
C107: Фланец d 600, расточенный под ПЭ втулку d 630 PN10 | D107: =D50*3.76 -> 74597.111 | E107: =D107-D107*$E$3 -> 59677.689

Sheet НСПС ЦВ - Атлант
C2: ПРАЙС АТЛАНТ НСПС (неразъемное соединение полиэтилен-сталь), Цокольные вводы
F3: СКИДКА | G3: 0.1
C4: 8 (843) 204-11-98 | D4: zapros@atlant-tat.com | F4: www.atlant-tat.com
C5: Бонус | D5: калькулятор для расчета ПНД труб | F5: Скачать
C6: Расчет заявки | D6: направьте заявку Online | F6: Отправить
B7: СОДЕРЖАНИЕ
B8: НСПС ВОДА
B9: НСПС ГАЗ
B10: Цокольные вводы
C11: НСПС ВОДА
C12: Наименование | D12: SDR11 | E12: SDR 13,6 | F12: SDR 17 | G12: SDR 21
C13: НСПС 32х25 ВОДА ПЭ 100 | D13: =IFERROR((1-$G$3)*'НСПС БАЗА'!D15,"х") -> 261 | E13: =IFERROR((1-$G$3)*'НСПС БАЗА'!E15,"х") -> х | F13: =IFERROR((1-$G$3)*'НСПС БАЗА'!F15,"х") -> х | G13: =IFERROR((1-$G$3)*'НСПС БАЗА'!G15,"х") -> х
C14: НСПС 40х32 ВОДА ПЭ 100 | D14: =IFERROR((1-$G$3)*'НСПС БАЗА'!D16,"х") -> 345.6 | E14: =IFERROR((1-$G$3)*'НСПС БАЗА'!E16,"х") -> х | F14: =IFERROR((1-$G$3)*'НСПС БАЗА'!F16,"х") -> х | G14: =IFERROR((1-$G$3)*'НСПС БАЗА'!G16,"х") -> х
C15: НСПС 50х40 ВОДА ПЭ 100 | D15: =IFERROR((1-$G$3)*'НСПС БАЗА'!D17,"х") -> 451.8 | E15: =IFERROR((1-$G$3)*'НСПС БАЗА'!E17,"х") -> х | F15: =IFERROR((1-$G$3)*'НСПС БАЗА'!F17,"х") -> х | G15: =IFERROR((1-$G$3)*'НСПС БАЗА'!G17,"х") -> х
C16: НСПС 63х57 ВОДА ПЭ100 | D16: =IFERROR((1-$G$3)*'НСПС БАЗА'!D18,"х") -> 559.8 | E16: =IFERROR((1-$G$3)*'НСПС БАЗА'!E18,"х") -> 500.4 | F16: =IFERROR((1-$G$3)*'НСПС БАЗА'!F18,"х") -> 476.1 | G16: =IFERROR((1-$G$3)*'НСПС БАЗА'!G18,"х") -> х
C17: НСПС 75х76 ВОДА ПЭ100 | D17: =IFERROR((1-$G$3)*'НСПС БАЗА'!D19,"х") -> 837.9 | E17: =IFERROR((1-$G$3)*'НСПС БАЗА'!E19,"х") -> 796.5 | F17: =IFERROR((1-$G$3)*'НСПС БАЗА'!F19,"х") -> 756.9 | G17: =IFERROR((1-$G$3)*'НСПС БАЗА'!G19,"х") -> 724.5
C18: НСПС 90х89 ВОДА ПЭ100 | D18: =IFERROR((1-$G$3)*'НСПС БАЗА'!D20,"х") -> 1147.5 | E18: =IFERROR((1-$G$3)*'НСПС БАЗА'!E20,"х") -> 1060.2 | F18: =IFERROR((1-$G$3)*'НСПС БАЗА'!F20,"х") -> 1003.5 | G18: =IFERROR((1-$G$3)*'НСПС БАЗА'!G20,"х") -> 954.9
C19: НСПС 110х108 ВОДА ПЭ 100 | D19: =IFERROR((1-$G$3)*'НСПС БАЗА'!D21,"х") -> 1493.1 | E19: =IFERROR((1-$G$3)*'НСПС БАЗА'!E21,"х") -> 1388.7 | F19: =IFERROR((1-$G$3)*'НСПС БАЗА'!F21,"х") -> 1299.6 | G19: =IFERROR((1-$G$3)*'НСПС БАЗА'!G21,"х") -> 1223.1
C20: НСПС 125х108 ВОДА ПЭ 100 | D20: =IFERROR((1-$G$3)*'НСПС БАЗА'!D22,"х") -> 1773 | E20: =IFERROR((1-$G$3)*'НСПС БАЗА'!E22,"х") -> х | F20: =IFERROR((1-$G$3)*'НСПС БАЗА'!F22,"х") -> х | G20: =IFERROR((1-$G$3)*'НСПС БАЗА'!G22,"х") -> х
C21: НСПС 140х133 ВОДА ПЭ 100 | D21: =IFERROR((1-$G$3)*'НСПС БАЗА'!D23,"х") -> 2409.3 | E21: =IFERROR((1-$G$3)*'НСПС БАЗА'!E23,"х") -> 2237.4 | F21: =IFERROR((1-$G$3)*'НСПС БАЗА'!F23,"х") -> 2086.2 | G21: =IFERROR((1-$G$3)*'НСПС БАЗА'!G23,"х") -> 2001.6
C22: НСПС 160х159 ВОДА ПЭ 100 | D22: =IFERROR((1-$G$3)*'НСПС БАЗА'!D24,"х") -> 3640.5 | E22: =IFERROR((1-$G$3)*'НСПС БАЗА'!E24,"х") -> 3358.8 | F22: =IFERROR((1-$G$3)*'НСПС БАЗА'!F24,"х") -> 3132.9 | G22: =IFERROR((1-$G$3)*'НСПС БАЗА'!G24,"х") -> 2950.2
C23: НСПС 180х159 ВОДА ПЭ 100 | D23: =IFERROR((1-$G$3)*'НСПС БАЗА'!D25,"х") -> 4131 | E23: =IFERROR((1-$G$3)*'НСПС БАЗА'!E25,"х") -> 3818.7 | F23: =IFERROR((1-$G$3)*'НСПС БАЗА'!F25,"х") -> х | G23: =IFERROR((1-$G$3)*'НСПС БАЗА'!G25,"х") -> х
C24: НСПС 200х168 ВОДА ПЭ 100 | D24: =IFERROR((1-$G$3)*'НСПС БАЗА'!D26,"х") -> 6046.2 | E24: =IFERROR((1-$G$3)*'НСПС БАЗА'!E26,"х") -> х | F24: =IFERROR((1-$G$3)*'НСПС БАЗА'!F26,"х") -> х | G24: =IFERROR((1-$G$3)*'НСПС БАЗА'!G26,"х") -> х
... C48: НСПС 1400х1420 ВОДА ПЭ 100 | D48: =IFERROR((1-$G$3)*'НСПС БАЗА'!D50,"х") -> х | E48: =IFERROR((1-$G$3)*'НСПС БАЗА'!E50,"х") -> 4373484.3 | F48: =IFERROR((1-$G$3)*'НСПС БАЗА'!F50,"х") -> 3605253.3 | G48: =IFERROR((1-$G$3)*'НСПС БАЗА'!G50,"х") -> 2644476.3
C49: НСПС ГАЗ
C50: Наименование | D50: SDR11 | E50: SDR 9
C51: НСПС 32х25 ГАЗ ПЭ100 | D51: =(1-$G$3)*'НСПС БАЗА'!D53 -> 261 | E51: =(1-$G$3)*'НСПС БАЗА'!E53 -> 383.4
C52: НСПС 40х32 ГАЗ ПЭ100 | D52: =(1-$G$3)*'НСПС БАЗА'!D54 -> 345.6 | E52: =(1-$G$3)*'НСПС БАЗА'!E54 -> 543.6
C53: НСПС 50х40 ГАЗ ПЭ100 | D53: =(1-$G$3)*'НСПС БАЗА'!D55 -> 451.8 | E53: =(1-$G$3)*'НСПС БАЗА'!E55 -> 676.8
C54: НСПС 63х57 ГАЗ ПЭ100 | D54: =(1-$G$3)*'НСПС БАЗА'!D56 -> 559.8 | E54: =(1-$G$3)*'НСПС БАЗА'!E56 -> 923.4
C55: НСПС 75х76 ГАЗ ПЭ100 | D55: =(1-$G$3)*'НСПС БАЗА'!D57 -> 837.9 | E55: =(1-$G$3)*'НСПС БАЗА'!E57 -> 1363.5
C56: НСПС 90х89 ГАЗ ПЭ100 | D56: =(1-$G$3)*'НСПС БАЗА'!D58 -> 1147.5 | E56: =(1-$G$3)*'НСПС БАЗА'!E58 -> 1647.9
C57: НСПС 110х108 ГАЗ ПЭ100 | D57: =(1-$G$3)*'НСПС БАЗА'!D59 -> 1493.1 | E57: =(1-$G$3)*'НСПС БАЗА'!E59 -> 2116.8
C58: НСПС 125х108 ГАЗ ПЭ100 | D58: =(1-$G$3)*'НСПС БАЗА'!D60 -> 1773 | E58: =(1-$G$3)*'НСПС БАЗА'!E60 -> 3040.2
C59: НСПС 140х133 ГАЗ ПЭ100 | D59: =(1-$G$3)*'НСПС БАЗА'!D61 -> 2676.6 | E59: =(1-$G$3)*'НСПС БАЗА'!E61 -> 3896.1
C60: НСПС 160х159 ГАЗ ПЭ100 | D60: =(1-$G$3)*'НСПС БАЗА'!D62 -> 3640.5 | E60: =(1-$G$3)*'НСПС БАЗА'!E62 -> 5433.3
C61: НСПС 180х159 ГАЗ ПЭ100 | D61: =(1-$G$3)*'НСПС БАЗА'!D63 -> 4131 | E61: =(1-$G$3)*'НСПС БАЗА'!E63 -> 6473.7
C62: НСПС 200х168 ГАЗ ПЭ100 | D62: =(1-$G$3)*'НСПС БАЗА'!D64 -> 6046.2 | E62: =(1-$G$3)*'НСПС БАЗА'!E64 -> 8963.1
... C77: НСПС 630х630 ГАЗ ПЭ100 | D77: =(1-$G$3)*'НСПС БАЗА'!D79 -> 300756.6 | E77: =(1-$G$3)*'НСПС БАЗА'!E79 -> 409569.3
C78: Цокольные вводы
C79: Наименование | E79: Размер | F79: Цена прайс
C80: ЦВ-Г 32х25 ПЭ100 SDR11 ( сталь ГОСТ 3262) без футляра | E80: 1м х 2м | F80: =(1-$G$3)*'НСПС БАЗА'!F82 -> 1757.7
C81: ЦВ-Г 32х25 ПЭ100 SDR11 ( сталь ГОСТ 3262) без футляра | E81: 1,5м х 2м | F81: =(1-$G$3)*'НСПС БАЗА'!F83 -> 2061.9
C82: ЦВ-Г 32х25 ПЭ100 SDR11 ( сталь ГОСТ 3262) без футляра | E82: 2м х 2м | F82: =(1-$G$3)*'НСПС БАЗА'!F84 -> 2429.1
C83: ЦВ-Г 32х32 ПЭ100 SDR11 ( сталь ГОСТ 8732) без футляра | E83: 1м х 2м | F83: =(1-$G$3)*'НСПС БАЗА'!F85 -> 4331.7
C84: ЦВ-Г 32х32 ПЭ100 SDR11 ( сталь ГОСТ 8732) без футляра | E84: 1,5м х 2м | F84: =(1-$G$3)*'НСПС БАЗА'!F86 -> 5009.4
C85: ЦВ-Г 32х32 ПЭ100 SDR11 ( сталь ГОСТ 8732) без футляра | E85: 2м х 2м | F85: =(1-$G$3)*'НСПС БАЗА'!F87 -> 5686.2
C86: ЦВ-Г 40х32 ПЭ100 SDR11 ( сталь ГОСТ 3262) без футляра | E86: 1м х 2м | F86: =(1-$G$3)*'НСПС БАЗА'!F88 -> 2282.4
C87: ЦВ-Г 40х32 ПЭ100 SDR11 ( сталь ГОСТ 3262) без футляра | E87: 1,5м х 2м | F87: =(1-$G$3)*'НСПС БАЗА'!F89 -> 2593.8
C88: ЦВ-Г 40х32 ПЭ100 SDR11 ( сталь ГОСТ 3262) без футляра | E88: 2м х 2м | F88: =(1-$G$3)*'НСПС БАЗА'!F90 -> 2867.4
C89: ЦВ-Г 63х57 ПЭ100 SDR11 ( сталь ГОСТ 10705) без футляра | E89: 1м х 2м | F89: =(1-$G$3)*'НСПС БАЗА'!F91 -> 3188.7
C90: ЦВ-Г 63х57 ПЭ100 SDR11 ( сталь ГОСТ 10705) без футляра | E90: 1,5м х 2м | F90: =(1-$G$3)*'НСПС БАЗА'!F92 -> 3682.8
C91: ЦВ-Г 63х57 ПЭ100 SDR11 ( сталь ГОСТ 10705) без футляра | E91: 2м х 2м | F91: =(1-$G$3)*'НСПС БАЗА'!F93 -> 4100.4
... C115: ЦВ-В 315х325 ПЭ100 SDR11 ( сталь ГОСТ 10705) | E115: L=2,7 м | F115: =(1-$G$3)*'НСПС БАЗА'!F117 -> 105542.1

Sheet Технические ПНД трубы
C2: ПРАЙС ТЕХНИЧЕСКИЕ ПНД ТРУБЫ (ДЛЯ БЕЗНАПОРНЫХ СИСТЕМ)
C3: 8 (843) 204-11-98 | E3: zapros@atlant-tat.com | I3: www.atlant-tat.com
C4: Бонус | E4: Калькулятор для расчета ПНД труб | I4: Скачать
C5: Расчет заявки | E5: Направьте заявку Online | I5: Отправить
B6: Цена за 1 кг зависит от: диаметра трубы толщины стенки трубы | H6: ЦЕНА ЗА 1 КГ | I6: 135
B7: Диаметры | C7: SDR 26 | D7: SDR 21 | E7: SDR 17,6 | F7: SDR 17 | G7: SDR 13,6 | H7: SDR 11 | I7: SDR 9
C8: ПЭ100 PN 6,3 | D8: ПЭ100 PN 8 | E8: ПЭ100 PN 9,5 | F8: ПЭ100 PN 10 | G8: ПЭ100 PN 12,5 | H8: ПЭ100 PN 16 | I8: ПЭ100 PN 20
C9: Вес 1 м, кг | D9: Вес 1 м, кг | E9: Вес 1 м, кг | F9: Вес 1 м, кг | G9: Вес 1 м, кг | H9: Вес 1 м, кг | I9: Вес 1 м, кг
B10: 63 мм | C10: ='Вес - техничка'!D8*'Технические ПНД трубы'!$I$6 -> 65.88 | D10: ='Вес - техничка'!E8*'Технические ПНД трубы'!$I$6 -> 77.355 | E10: ='Вес - техничка'!F8*'Технические ПНД трубы'!$I$6 -> 92.07 | F10: ='Вес - техничка'!G8*'Технические ПНД трубы'!$I$6 -> 96.525 | G10: ='Вес - техничка'!H8*'Технические ПНД трубы'!$I$6 -> 117.315 | H10: ='Вес - техничка'!I8*'Технические ПНД трубы'!$I$6 -> 141.75 | I10: ='Вес - техничка'!J8*'Технические ПНД трубы'!$I$6 -> 168.75
B11: 75 мм | C11: ='Вес - техничка'!D9*'Технические ПНД трубы'!$I$6 -> 90.18 | D11: ='Вес - техничка'!E9*'Технические ПНД трубы'!$I$6 -> 110.835 | E11: ='Вес - техничка'!F9*'Технические ПНД трубы'!$I$6 -> 130.95 | F11: ='Вес - техничка'!G9*'Технические ПНД трубы'!$I$6 -> 136.35 | G11: ='Вес - техничка'!H9*'Технические ПНД трубы'!$I$6 -> 166.05 | H11: ='Вес - техничка'!I9*'Технические ПНД трубы'!$I$6 -> 197.1 | I11: ='Вес - техничка'!J9*'Технические ПНД трубы'!$I$6 -> 237.6
B12: 90 мм | C12: ='Вес - техничка'!D10*'Технические ПНД трубы'!$I$6 -> 130.815 | D12: ='Вес - техничка'!E10*'Технические ПНД трубы'!$I$6 -> 159.3 | E12: ='Вес - техничка'!F10*'Технические ПНД трубы'!$I$6 -> 189 | F12: ='Вес - техничка'!G10*'Технические ПНД трубы'!$I$6 -> 195.75 | G12: ='Вес - техничка'!H10*'Технические ПНД трубы'!$I$6 -> 237.6 | H12: ='Вес - техничка'!I10*'Технические ПНД трубы'!$I$6 -> 286.2 | I12: ='Вес - техничка'!J10*'Технические ПНД трубы'!$I$6 -> 342.9
B13: 110 мм | C13: ='Вес - техничка'!D11*'Технические ПНД трубы'!$I$6 -> 191.7 | D13: ='Вес - техничка'!E11*'Технические ПНД трубы'!$I$6 -> 238.95 | E13: ='Вес - техничка'!F11*'Технические ПНД трубы'!$I$6 -> 279.45 | F13: ='Вес - техничка'!G11*'Технические ПНД трубы'!$I$6 -> 291.6 | G13: ='Вес - техничка'!H11*'Технические ПНД трубы'!$I$6 -> 352.35 | H13: ='Вес - техничка'!I11*'Технические ПНД трубы'!$I$6 -> 423.9 | I13: ='Вес - техничка'!J11*'Технические ПНД трубы'!$I$6 -> 510.3
B14: 125 мм | C14: ='Вес - техничка'!D12*'Технические ПНД трубы'!$I$6 -> 247.05 | D14: ='Вес - техничка'!E12*'Технические ПНД трубы'!$I$6 -> 305.1 | E14: ='Вес - техничка'!F12*'Технические ПНД трубы'!$I$6 -> 359.1 | F14: ='Вес - техничка'!G12*'Технические ПНД трубы'!$I$6 -> 371.25 | G14: ='Вес - техничка'!H12*'Технические ПНД трубы'!$I$6 -> 454.95 | H14: ='Вес - техничка'!I12*'Технические ПНД трубы'!$I$6 -> 550.8 | I14: ='Вес - техничка'!J12*'Технические ПНД трубы'!$I$6 -> 657.45
B15: 140 мм | C15: ='Вес - техничка'!D13*'Технические ПНД трубы'!$I$6 -> 311.85 | D15: ='Вес - техничка'!E13*'Технические ПНД трубы'!$I$6 -> 382.05 | E15: ='Вес - техничка'!F13*'Технические ПНД трубы'!$I$6 -> 452.25 | F15: ='Вес - техничка'!G13*'Технические ПНД трубы'!$I$6 -> 467.1 | G15: ='Вес - техничка'!H13*'Технические ПНД трубы'!$I$6 -> 569.7 | H15: ='Вес - техничка'!I13*'Технические ПНД трубы'!$I$6 -> 685.8 | I15: ='Вес - техничка'!J13*'Технические ПНД трубы'!$I$6 -> 826.2
B16: 160 мм | C16: ='Вес - техничка'!D14*'Технические ПНД трубы'!$I$6 -> 409.05 | D16: ='Вес - техничка'!E14*'Технические ПНД трубы'!$I$6 -> 500.85 | E16: ='Вес - техничка'!F14*'Технические ПНД трубы'!$I$6 -> 587.25 | F16: ='Вес - техничка'!G14*'Технические ПНД трубы'!$I$6 -> 608.85 | G16: ='Вес - техничка'!H14*'Технические ПНД трубы'!$I$6 -> 742.5 | H16: ='Вес - техничка'!I14*'Технические ПНД трубы'!$I$6 -> 900.45 | I16: ='Вес - техничка'!J14*'Технические ПНД трубы'!$I$6 -> 1075.95
B17: 180 мм | C17: ='Вес - техничка'!D15*'Технические ПНД трубы'!$I$6 -> 510.3 | D17: ='Вес - техничка'!E15*'Технические ПНД трубы'!$I$6 -> 629.1 | E17: ='Вес - техничка'!F15*'Технические ПНД трубы'!$I$6 -> 738.45 | F17: ='Вес - техничка'!G15*'Технические ПНД трубы'!$I$6 -> 770.85 | G17: ='Вес - техничка'!H15*'Технические ПНД трубы'!$I$6 -> 942.3 | H17: ='Вес - техничка'!I15*'Технические ПНД трубы'!$I$6 -> 1138.05 | I17: ='Вес - техничка'!J15*'Технические ПНД трубы'!$I$6 -> 1363.5
B18: 200 мм | C18: ='Вес - техничка'!D16*'Технические ПНД трубы'!$I$6 -> 631.8 | D18: ='Вес - техничка'!E16*'Технические ПНД трубы'!$I$6 -> 778.95 | E18: ='Вес - техничка'!F16*'Технические ПНД трубы'!$I$6 -> 915.3 | F18: ='Вес - техничка'!G16*'Технические ПНД трубы'!$I$6 -> 950.4 | G18: ='Вес - техничка'!H16*'Технические ПНД трубы'!$I$6 -> 1155.6 | H18: ='Вес - техничка'!I16*'Технические ПНД трубы'!$I$6 -> 1404 | I18: ='Вес - техничка'!J16*'Технические ПНД трубы'!$I$6 -> 1687.5
B19: 225 мм | C19: ='Вес - техничка'!D17*'Технические ПНД трубы'!$I$6 -> 793.8 | D19: ='Вес - техничка'!E17*'Технические ПНД трубы'!$I$6 -> 984.15 | E19: ='Вес - техничка'!F17*'Технические ПНД трубы'!$I$6 -> 1154.25 | F19: ='Вес - техничка'!G17*'Технические ПНД трубы'!$I$6 -> 1206.9 | G19: ='Вес - техничка'!H17*'Технические ПНД трубы'!$I$6 -> 1471.5 | H19: ='Вес - техничка'!I17*'Технические ПНД трубы'!$I$6 -> 1782 | I19: ='Вес - техничка'!J17*'Технические ПНД трубы'!$I$6 -> 2133
B20: 250 мм | C20: ='Вес - техничка'!D18*'Технические ПНД трубы'!$I$6 -> 984.15 | D20: ='Вес - техничка'!E18*'Технические ПНД трубы'!$I$6 -> 1204.2 | E20: ='Вес - техничка'!F18*'Технические ПНД трубы'!$I$6 -> 1431 | F20: ='Вес - техничка'!G18*'Технические ПНД трубы'!$I$6 -> 1485 | G20: ='Вес - техничка'!H18*'Технические ПНД трубы'!$I$6 -> 1809 | H20: ='Вес - техничка'!I18*'Технические ПНД трубы'!$I$6 -> 2187 | I20: ='Вес - техничка'!J18*'Технические ПНД трубы'!$I$6 -> 2619
B21: 280 мм | C21: ='Вес - техничка'!D19*'Технические ПНД трубы'!$I$6 -> 1227.15 | D21: ='Вес - техничка'!E19*'Технические ПНД трубы'!$I$6 -> 1525.5 | E21: ='Вес - техничка'!F19*'Технические ПНД трубы'!$I$6 -> 1782 | F21: ='Вес - техничка'!G19*'Технические ПНД трубы'!$I$6 -> 1863 | G21: ='Вес - техничка'!H19*'Технические ПНД трубы'!$I$6 -> 2268 | H21: ='Вес - техничка'!I19*'Технические ПНД трубы'!$I$6 -> 2740.5 | I21: ='Вес - техничка'!J19*'Технические ПНД трубы'!$I$6 -> 3294
... B24: 400 мм | C24: ='Вес - техничка'!D22*'Технические ПНД трубы'!$I$6 -> 2511 | D24: ='Вес - техничка'!E22*'Технические ПНД трубы'!$I$6 -> 3091.5 | E24: ='Вес - техничка'!F22*'Технические ПНД трубы'!$I$6 -> 3631.5 | F24: ='Вес - техничка'!G22*'Технические ПНД трубы'!$I$6 -> 3780 | G24: ='Вес - техничка'!H22*'Технические ПНД трубы'!$I$6 -> 4617 | H24: ='Вес - техничка'!I22*'Технические ПНД трубы'!$I$6 -> 5589 | I24: ='Вес - техничка'!J22*'Технические ПНД трубы'!$I$6 -> 6709.5

Sheet Гофрированные трубы ПЭ
C1: ООО "АТЛАНТ" - производим и поставляем для наружных инженерных сетей сварочное оборудование, фитинги, трубы ПНД, гофрированные
A2: ПРАЙС ГОФРИРОВАННЫЕ ТРУБЫ ИЗ ПОЛИЭТИЛЕНА
A3: Фотография | C3: Наименование | E3: Диаметр внешний, мм | F3: Диаметр внутренний, мм | G3: Цена (м.п.) с НДС, руб. БЕЗ СКИДКИ
A7: ДВУХСЛОЙНЫЕ ГОФРИРОВАННЫЕ ТРУБЫ ИЗ ПОЛИЭТИЛЕНА
C8: Труба гофрированная с раструбом SN6 - SN7 | E8: 230 | F8: 200 | G8: 828.58
E9: 250 | F9: 216 | G9: 988.88
E10: 290 | F10: 250 | G10: 1358.08
E11: 315 | F11: 271 | G11: 1388
E12: 340 | F12: 300 | G12: 1788.88
E13: 400 | F13: 343 | G13: 2278.28
E14: 460 | F14: 400 | G14: 2808.68
E15: 500 | F15: 427 | G15: 3728.68
E16: 575 | F16: 500 | G16: 4008.28
E17: 630* | F17: 535 | G17: 5478.48
E18: 695 | F18: 600 | G18: 6008.18
E19: 800** | F19: 687 | G19: 8648.78
E20: 923 | F20: 800 | G20: 10688.98
E21: 1000*** | F21: 851 | G21: 13858.48
E22: 1200*** | F22: 1030 | G22: 21088.08
C23: Труба гофрированная с раструбом SN8 - SN9 | E23: 110 | F23: 94 | G23: 302.88
E24: 133 | F24: 110 | G24: 378.88
E25: 160 | F25: 136 | G25: 538.88
E26: 190 | F26: 160 | G26: 628.08
E27: 200 | F27: 171 | G27: 748.08
E28: 230 | F28: 200 | G28: 918.88
E29: 250 | F29: 216 | G29: 1138.08
E30: 290 | F30: 250 | G30: 1558.88
E31: 315 | F31: 271 | G31: 1838.08
E32: 340 | F32: 300 | G32: 2228.68
E33: 400 | F33: 343 | G33: 2938.88
E34: 460 | F34: 400 | G34: 3368.68
E35: 500 | F35: 427 | G35: 4468.98
E36: 575 | F36: 500 | G36: 4948.38
E37: 630* | F37: 535 | G37: 6528.58
E38: 695 | F38: 600 | G38: 6968.38
E39: 800** | F39: 687 | G39: 10388.88
E40: 923 | F40: 800 | G40: 12848.88
E41: 1000*** | F41: 851 | G41: 16708.08
E42: 1200*** | F42: 1030 | G42: 23868.08
A43: * Длина трубы ⌀630/535 составляет 6,60 м с раструбом, 6,30 м без раструба. ** Длина трубы ⌀800/687 составляет 6,50 м с раструбом, 6,20 м без раструба. *** Длина трубы ⌀1000/851, ⌀1200/1030 составляет 6,50 м с раструбом, 6,10 м без раструба.
A44: ФИТИНГИ
C45: Отвод 90° | E45: 110 | F45: 94 | G45: 880.58
E46: 133 | F46: 110 | G46: 988.18
E47: 160 | F47: 136 | G47: 1208.08
E48: 190 | F48: 160 | G48: 1258.48
E49: 200 | F49: 171 | G49: 1968.28
E50: 230 | F50: 200 | G50: 2228.08
E51: 250 | F51: 216 | G51: 3328.88
E52: 290 | F52: 250 | G52: 3988.38
E53: 315 | F53: 271 | G53: 6498.08
E54: 340 | F54: 300 | G54: 7288.98
E55: 400 | F55: 343 | G55: 12418.08
E56: 460 | F56: 400 | G56: 13178.48
C57: Отвод 60° | E57: 110 | F57: 94 | G57: 782.68
E58: 133 | F58: 110 | G58: 988.18
E59: 160 | F59: 136 | G59: 1070.28
E60: 190 | F60: 160 | G60: 1248.48
E61: 200 | F61: 171 | G61: 1749.78
E62: 230 | F62: 200 | G62: 2228.88
E63: 250 | F63: 216 | G63: 2951.88
E64: 290 | F64: 250 | G64: 3988.28
E65: 315 | F65: 271 | G65: 5774.98
E66: 340 | F66: 300 | G66: 7308.98
E67: 400 | F67: 343 | G67: 11034.08
E68: 460 | F68: 400 | G68: 13078.48
C69: Отвод 45° | E69: 110 | F69: 94 | G69: 495.48
E70: 133 | F70: 110 | G70: 628.48
E71: 160 | F71: 136 | G71: 706.68
E72: 190 | F72: 160 | G72: 828.28
E73: 200 | F73: 171 | G73: 1237.08
E74: 230 | F74: 200 | G74: 1568.48
E75: 250 | F75: 216 | G75: 2078.58
E76: 290 | F76: 250 | G76: 2808.88
E77: 315 | F77: 271 | G77: 4196.68
E78: 340 | F78: 300 | G78: 5298.08
E79: 400 | F79: 343 | G79: 7640.88
E80: 460 | F80: 400 | G80: 9058.28
C81: Отвод 30° | E81: 110 | F81: 94 | G81: 495.48
E82: 133 | F82: 110 | G82: 628.48
E83: 160 | F83: 136 | G83: 706.68
E84: 190 | F84: 160 | G84: 828.28
E85: 200 | F85: 171 | G85: 1237.08
E86: 230 | F86: 200 | G86: 1568.48
E87: 250 | F87: 216 | G87: 2078.58
E88: 290 | F88: 250 | G88: 2808.28
E89: 315 | F89: 271 | G89: 4196.68
E90: 340 | F90: 300 | G90: 5298.08
E91: 400 | F91: 343 | G91: 7640.88
E92: 460 | F92: 400 | G92: 9058.28
C93: Отвод 15° | E93: 110 | F93: 94 | G93: 495.48
E94: 133 | F94: 110 | G94: 628.08
E95: 160 | F95: 136 | G95: 706.68
E96: 190 | F96: 160 | G96: 838.08
E97: 200 | F97: 171 | G97: 1237.08
E98: 230 | F98: 200 | G98: 1568.48
E99: 250 | F99: 216 | G99: 2078.58
E100: 290 | F100: 250 | G100: 2808.28
E101: 315 | F101: 271 | G101: 4196.68
E102: 340 | F102: 300 | G102: 5298.08
E103: 400 | F103: 343 | G103: 7640.88
...

Sheet Гофрированные трубы ПП
C1: ООО "АТЛАНТ" - производим и поставляем для наружных инженерных сетей сварочное оборудование, фитинги, трубы ПНД, гофрированные
A2: ПРАЙС ГОФРИРОВАННЫЕ ТРУБЫ ИЗ ПОЛИПРОПИЛЕНА
A3: Фотография | C3: Наименование | F3: Диаметр внешний, мм | G3: Диаметр внутренний, мм | I3: Цена (м.п.) с НДС, руб. БЕЗ СКИДКИ
A4: ДВУХСЛОЙНЫЕ ГОФРИРОВАННЫЕ ТРУБЫ ИЗ ПЭ
C6: Труба гофрированная с раструбом из ПП SN8 | F6: 110* | G6: 94 | I6: 378.88
F7: 133** | G7: 110 | I7: 438.58
F8: 160* | G8: 136 | I8: 588.38
F9: 190* | G9: 160 | I9: 768.48
F10: 200* | G10: 171 | I10: 948.18
F11: 230 | G11: 200 | I11: 1088.68
F12: 250 | G12: 216 | I12: 1308.08
F13: 290 | G13: 250 | I13: 1588.85
F14: 315 | G14: 271 | I14: 2118.08
F15: 340 | G15: 300 | I15: 2898.88
F16: 400 | G16: 343 | I16: 3088.78
F17: 460 | G17: 400 | I17: 3878.88
F18: 500 | G18: 427 | I18: 4588.48
F19: 575 | G19: 500 | I19: 7308.48
F20: 630*(***) | G20: 535 | I20: 7488.78
F21: 695*** | G21: 600 | I21: 9368.28
F22: 800*** | G22: 687 | I22: 11138.28
F23: 923*** | G23: 800 | I23: 15428.48
F24: 1000*** | G24: 851 | I24: 17898.78
F25: 1200*** | G25: 1030 | I25: 24989.68
C26: Труба гофрированная с раструбом из ПП SN10 | F26: 110* | G26: 94 | I26: 378.88
F27: 133** | G27: 110 | I27: 438.58
F28: 160* | G28: 136 | I28: 588.38
F29: 190* | G29: 160 | I29: 768.48
F30: 200* | G30: 171 | I30: 948.48
F31: 230 | G31: 200 | I31: 1248.88
F32: 250 | G32: 216 | I32: 1488.48
F33: 290 | G33: 250 | I33: 1898.08
F34: 315 | G34: 271 | I34: 2188.68
F35: 340 | G35: 300 | I35: 3398.88
F36: 400 | G36: 343 | I36: 3458.08
F37: 460 | G37: 400 | I37: 5728.28
F38: 500 | G38: 427 | I38: 5088.78
F39: 575 | G39: 500 | I39: 9448.18
F40: 630*(***) | G40: 535 | I40: 7878.58
F41: 695*** | G41: 600 | I41: 10338.28
F42: 800*** | G42: 687 | I42: 13108.98
F43: 923*** | G43: 800 | I43: 17248.88
F44: 1000*** | G44: 851 | I44: 20078.88
F45: 1200*** | G45: 1030 | I45: 30018.88
C46: Труба гофрированная с раструбом из ПП SN12 | F46: 110 | G46: 94 | I46: 398.88
F47: 133** | G47: 110 | I47: 438.58
F48: 160 | G48: 136 | I48: 610.68
F49: 190 | G49: 160 | I49: 850.88
F50: 200 | G50: 171 | I50: 1278.88
F51: 230 | G51: 200 | I51: 1358.08
F52: 250 | G52: 216 | I52: 1598.18
F53: 290 | G53: 250 | I53: 2968.88
F54: 315 | G54: 271 | I54: 2778.48
F55: 340 | G55: 300 | I55: 4448.88
F56: 400 | G56: 343 | I56: 3848.38
F57: 460 | G57: 400 | I57: 6228.58
F58: 500 | G58: 427 | I58: 8188.58
F59: 575 | G59: 500 | I59: 10508.88
C60: Труба гофрированная с раструбом из ПП SN14 | F60: 110 | G60: 94 | I60: 452.68
F61: 133 | G61: 110 | I61: 469.88
F62: 160 | G62: 136 | I62: 678.78
F63: 190 | G63: 160 | I63: 938.68
F64: 200 | G64: 171 | I64: 1348.08
F65: 230 | G65: 200 | I65: 2138.18
F66: 250 | G66: 216 | I66: 2248.58
F67: 290 | G67: 250 | I67: 3318.08
F68: 315 | G68: 271 | I68: 2948.38
F69: 340 | G69: 300 | I69: 3678.08
F70: 400 | G70: 343 | I70: 6368.48
F71: 460 | G71: 400 | I71: 7528.08
F72: 500 | G72: 427 | I72: 9098.18
F73: 575 | G73: 500 | I73: 11248.88
C74: Труба гофрированная с раструбом из ПП SN16 | F74: 110 | G74: 94 | I74: 628.08
F75: 133 | G75: 110 | I75: 502.78
F76: 160 | G76: 136 | I76: 968.18
F77: 190 | G77: 160 | I77: 1388.58
F78: 200 | G78: 171 | I78: 1418.28
F79: 230 | G79: 200 | I79: 1918.08
F80: 250 | G80: 216 | I80: 2378.88
F81: 290 | G81: 250 | I81: 2878.08
F82: 315 | G82: 271 | I82: 3348.68
F83: 340 | G83: 300 | I83: 4238.28
F84: 400 | G84: 343 | I84: 5518.08
F85: 460 | G85: 400 | I85: 6548.48
F86: 500 | G86: 427 | I86: 7998.18
F87: 575 | G87: 500 | I87: 9668.78
F88: 630*** | G88: 535 | I88: 11068.08
F89: 695*** | G89: 600 | I89: 12424.28
F90: 800*** | G90: 687 | I90: 17308.08
F91: 923*** | G91: 800 | I91: 22488.78
F92: 1000*** | G92: 851 | I92: 23188.48
F93: 1200*** | G93: 1030 | I93: 38188.28
A94: * Трубы имеют кольцевую жесткость SN 8-10
A95: ** Трубы имеют кольцевую жесткость SN 8-12
A96: *** Длина трубы ⌀630/535 составляет 6,6 м с раструбом, 6,3 м без раструба. Длина трубы ⌀800/687 составляет 6,5 м с раструбом, 6,2 м без раструба. Длина трубы ⌀1000/851, ⌀1200/1030 составляет 6,5 м с раструбом, 6,1 м без раструба. Заказные позиции: Трубы диаметрами от 630/535 до 1200/1030 SN10, SN16
A97: Возможно производство труб разных диаметров и с разной кольцевой жесткостью. Цены по запросу.
A98: ФИТИНГИ ИЗ ПОЛИПРОПИЛЕНА-БЛОКСОПОЛИМЕРА SN 16
A99: Отвод 90° | D99: 110 | E99: 94 | G99: 1688.88
D100: 133 | E100: 110 | G100: 1498.78
D101: 160 | E101: 136 | G101: 1894.98
...
